BEGIN:VCALENDAR
VERSION:2.0
PRODID:-//Eyguières Les Alpilles - ECPv6.15.16//NONSGML v1.0//EN
CALSCALE:GREGORIAN
METHOD:PUBLISH
X-WR-CALNAME:Eyguières Les Alpilles
X-ORIGINAL-URL:https://www.eyguieres.org
X-WR-CALDESC:Évènements pour Eyguières Les Alpilles
REFRESH-INTERVAL;VALUE=DURATION:PT1H
X-Robots-Tag:noindex
X-PUBLISHED-TTL:PT1H
BEGIN:VTIMEZONE
TZID:Europe/Paris
BEGIN:DAYLIGHT
TZOFFSETFROM:+0100
TZOFFSETTO:+0200
TZNAME:CEST
DTSTART:20250330T010000
END:DAYLIGHT
BEGIN:STANDARD
TZOFFSETFROM:+0200
TZOFFSETTO:+0100
TZNAME:CET
DTSTART:20251026T010000
END:STANDARD
BEGIN:DAYLIGHT
TZOFFSETFROM:+0100
TZOFFSETTO:+0200
TZNAME:CEST
DTSTART:20260329T010000
END:DAYLIGHT
BEGIN:STANDARD
TZOFFSETFROM:+0200
TZOFFSETTO:+0100
TZNAME:CET
DTSTART:20261025T010000
END:STANDARD
BEGIN:DAYLIGHT
TZOFFSETFROM:+0100
TZOFFSETTO:+0200
TZNAME:CEST
DTSTART:20270328T010000
END:DAYLIGHT
BEGIN:STANDARD
TZOFFSETFROM:+0200
TZOFFSETTO:+0100
TZNAME:CET
DTSTART:20271031T010000
END:STANDARD
END:VTIMEZONE
BEGIN:VEVENT
DTSTART;TZID=Europe/Paris:20260114T143000
DTEND;TZID=Europe/Paris:20260115T160000
DTSTAMP:20260420T151511
CREATED:20251214T080038Z
LAST-MODIFIED:20260108T091518Z
UID:129239-1768401000-1768492800@www.eyguieres.org
SUMMARY:14 janvier 2026  Les ateliers créatifs de Magali - Médiathèque d'Eyguières
DESCRIPTION:🖍️ [𝗟𝗘𝗦 𝗔𝗧𝗘𝗟𝗜𝗘𝗥𝗦 𝗖𝗥𝗘́𝗔𝗧𝗜𝗙𝗦 𝗗𝗘 𝗠𝗔𝗚𝗔𝗟𝗜 – 𝗠𝗘́𝗗𝗜𝗔𝗧𝗛𝗘̀𝗤𝗨𝗘 𝗗’𝗘𝗬𝗚𝗨𝗜𝗘̀𝗥𝗘𝗦] ✂️ \n👉 La médiathèque d’Eyguières vous invite à participer à un atelier créatif animé par Magali\, accessible à partir de 6 ans 🎨 \n📆 Mercredi 14 janvier 2026\n🕑  À 14h30\n📍 À la médiathèque d’Eyguières \n‼️ Réservation obligatoire ‼️ \nℹ️ Pour plus d’informations 👇\n📞 04 90 57 94 62\n📧 mediatheque@mairie-eyguieres.fr
URL:https://www.eyguieres.org/evenements/14-janvier-2026-les-ateliers-creatifs-de-magali-mediatheque-deyguieres/
LOCATION:Médiathèque\, 21 Rue Rabaud St Étienne\, Eyguières\, 13430
CATEGORIES:Évènements de la commune,Local
ATTACH;FMTTYPE=image/jpeg:https://www.eyguieres.org/wp-content/uploads/2026/01/Ateliers-creatifs.jpg
END:VEVENT
BEGIN:VEVENT
DTSTART;TZID=Europe/Paris:20260115T100000
DTEND;TZID=Europe/Paris:20260203T190000
DTSTAMP:20260420T151511
CREATED:20251215T080025Z
LAST-MODIFIED:20260109T100323Z
UID:129263-1768471200-1770145200@www.eyguieres.org
SUMMARY:Du 15 janvier au 3 février 2026  Exposition "La Mer" - Ateliers Agora
DESCRIPTION:🌊 [𝗘𝗫𝗣𝗢𝗦𝗜𝗧𝗜𝗢𝗡 « 𝗟𝗔 𝗠𝗘𝗥 » – 𝗔𝗧𝗘𝗟𝗜𝗘𝗥𝗦 𝗔𝗚𝗢𝗥𝗔] 🌊 \n📣 L’Ateliers Agora vous invitent à découvrir leur nouvelle exposition « La Mer ». \n𝗘𝗫𝗣𝗢𝗦𝗜𝗧𝗜𝗢𝗡\n📅 Du 15 janvier au 3 février 2026 \n𝗩𝗘𝗥𝗡𝗜𝗦𝗦𝗔𝗚𝗘\n📅 Vendredi 16 janvier 2026\n🕛 18h30 \n📍 2 Place Thiers \nPour plus d’informations 👇\n✉️ galerie@ateliers-agora.fr 📞 06.60.64.07.54
URL:https://www.eyguieres.org/evenements/du-15-janvier-au-3-fevrier-2026-exposition-la-mer-ateliers-agora/
LOCATION:Ateliers Agora\, Place Thiers\, EYGUIERES\, 13430
CATEGORIES:Culture,Local
ATTACH;FMTTYPE=image/jpeg:https://www.eyguieres.org/wp-content/uploads/2026/01/Exposition-ateliers-agora-et-vernissage-la-mer-scaled.jpg
END:VEVENT
END:VCALENDAR