BEGIN:VCALENDAR
VERSION:2.0
PRODID:-//Eyguières Les Alpilles - ECPv6.15.16//NONSGML v1.0//EN
CALSCALE:GREGORIAN
METHOD:PUBLISH
X-WR-CALNAME:Eyguières Les Alpilles
X-ORIGINAL-URL:https://www.eyguieres.org
X-WR-CALDESC:Évènements pour Eyguières Les Alpilles
REFRESH-INTERVAL;VALUE=DURATION:PT1H
X-Robots-Tag:noindex
X-PUBLISHED-TTL:PT1H
BEGIN:VTIMEZONE
TZID:Europe/Paris
BEGIN:DAYLIGHT
TZOFFSETFROM:+0100
TZOFFSETTO:+0200
TZNAME:CEST
DTSTART:20250330T010000
END:DAYLIGHT
BEGIN:STANDARD
TZOFFSETFROM:+0200
TZOFFSETTO:+0100
TZNAME:CET
DTSTART:20251026T010000
END:STANDARD
BEGIN:DAYLIGHT
TZOFFSETFROM:+0100
TZOFFSETTO:+0200
TZNAME:CEST
DTSTART:20260329T010000
END:DAYLIGHT
BEGIN:STANDARD
TZOFFSETFROM:+0200
TZOFFSETTO:+0100
TZNAME:CET
DTSTART:20261025T010000
END:STANDARD
BEGIN:DAYLIGHT
TZOFFSETFROM:+0100
TZOFFSETTO:+0200
TZNAME:CEST
DTSTART:20270328T010000
END:DAYLIGHT
BEGIN:STANDARD
TZOFFSETFROM:+0200
TZOFFSETTO:+0100
TZNAME:CET
DTSTART:20271031T010000
END:STANDARD
END:VTIMEZONE
BEGIN:VEVENT
DTSTART;TZID=Europe/Paris:20260115T100000
DTEND;TZID=Europe/Paris:20260203T190000
DTSTAMP:20260420T151521
CREATED:20251215T080025Z
LAST-MODIFIED:20260109T100323Z
UID:129263-1768471200-1770145200@www.eyguieres.org
SUMMARY:Du 15 janvier au 3 février 2026  Exposition "La Mer" - Ateliers Agora
DESCRIPTION:🌊 [𝗘𝗫𝗣𝗢𝗦𝗜𝗧𝗜𝗢𝗡 « 𝗟𝗔 𝗠𝗘𝗥 » – 𝗔𝗧𝗘𝗟𝗜𝗘𝗥𝗦 𝗔𝗚𝗢𝗥𝗔] 🌊 \n📣 L’Ateliers Agora vous invitent à découvrir leur nouvelle exposition « La Mer ». \n𝗘𝗫𝗣𝗢𝗦𝗜𝗧𝗜𝗢𝗡\n📅 Du 15 janvier au 3 février 2026 \n𝗩𝗘𝗥𝗡𝗜𝗦𝗦𝗔𝗚𝗘\n📅 Vendredi 16 janvier 2026\n🕛 18h30 \n📍 2 Place Thiers \nPour plus d’informations 👇\n✉️ galerie@ateliers-agora.fr 📞 06.60.64.07.54
URL:https://www.eyguieres.org/evenements/du-15-janvier-au-3-fevrier-2026-exposition-la-mer-ateliers-agora/
LOCATION:Ateliers Agora\, Place Thiers\, EYGUIERES\, 13430
CATEGORIES:Culture,Local
ATTACH;FMTTYPE=image/jpeg:https://www.eyguieres.org/wp-content/uploads/2026/01/Exposition-ateliers-agora-et-vernissage-la-mer-scaled.jpg
END:VEVENT
BEGIN:VEVENT
DTSTART;TZID=Europe/Paris:20260123T210000
DTEND;TZID=Europe/Paris:20260124T230000
DTSTAMP:20260420T151521
CREATED:20251223T083017Z
LAST-MODIFIED:20260121T100421Z
UID:129392-1769202000-1769295600@www.eyguieres.org
SUMMARY:Du 23 au 24 janvier 2026   Match Handball à domicile  Aphbec
DESCRIPTION:🤾‍♂️🤾🏼‍♀️ [𝗠𝗔𝗧𝗖𝗛𝗦 𝗛𝗔𝗡𝗗𝗕𝗔𝗟𝗟] 🤾‍♂️🤾🏼‍♀️ \nLe club de handball Aphbec vous donne rendez-vous à domicile ce vendredi et samedi ! 🔵⚪️ \n📆 𝗩𝗲𝗻𝗱𝗿𝗲𝗱𝗶 𝟮𝟯 𝗷𝗮𝗻𝘃𝗶𝗲𝗿 𝟮𝟬𝟮𝟲 \n🕒 à 21h00 💥\n👉 Loisirs VS Pélissanne \n📆 𝗦𝗮𝗺𝗲𝗱𝗶 𝟮𝟰 𝗷𝗮𝗻𝘃𝗶𝗲𝗿 𝟮𝟬𝟮𝟲 \n🕒 à 16h30 💥\n👉 U11F VS Côtes Bleue \n🕒 à 19h00 💥\n👉 D1M VS Gardanne Simiane \n🕒 à 21h00 💥\n👉 PNM VS Miramas \n📍 Gymnase Raymond Lieutaud\, Eyguières \n🕒 à 16h30 💥\n👉 U15F VS Plan-De-Cuques \n🕒 à 18h30 💥\n👉 U17F VS Plan-De-Cuques \n🕒 à 23h30 💥\n👉 N2F VS Livron \n📍 Gymnase\, Istres
URL:https://www.eyguieres.org/evenements/du-23-au-24-janvier-2026-match-handball-a-domicile-aphbec/
CATEGORIES:Local,Sport
ATTACH;FMTTYPE=image/jpeg:https://www.eyguieres.org/wp-content/uploads/2022/08/TOURNOI-handball-eyguieres-3-et-4-septembre-2022.jpg
END:VEVENT
BEGIN:VEVENT
DTSTART;TZID=Europe/Paris:20260124T093000
DTEND;TZID=Europe/Paris:20260124T123000
DTSTAMP:20260420T151521
CREATED:20251224T080010Z
LAST-MODIFIED:20260113T144404Z
UID:129296-1769247000-1769257800@www.eyguieres.org
SUMMARY:24 janvier 2026   Ludothèque itinérante - La Roulotte à Jeux
DESCRIPTION:♟️🃏🎲[𝗟𝗨𝗗𝗢𝗧𝗛𝗘̀𝗤𝗨𝗘 𝗜𝗧𝗜𝗡𝗘́𝗥𝗔𝗡𝗧𝗘] 🎲🃏♟️ \n👋 𝗩𝗘𝗡𝗘𝗭 𝗝𝗢𝗨𝗘𝗥 𝗔𝗩𝗘𝗖 𝗡𝗢𝗨𝗦 ☺️ \n👉 La ludothèque  » 𝑳𝒂 𝑹𝒐𝒖𝒍𝒐𝒕𝒕𝒆 𝒂̀ 𝑱𝒆𝒖𝒙  » est ouverte à tous\, que ce soit aux familles\, aux groupes d’amis ou aux associations. \n_________________________ \n📅 Samedi 24 janvier 2026\n🕡 De 9h30 à 12h30\n📍 Médiathèque \n_________________________ \n👉 𝐀𝐮 𝐩𝐫𝐨𝐠𝐫𝐚𝐦𝐦𝐞\n🙌 Accueil et convivialité\n🧩 Activités ludiques\n🙋‍♀️ Rencontres et partages \n❗ 𝗚𝗥𝗔𝗧𝗨𝗜𝗧𝗦 ❗ \n👉 𝐋𝐚 𝐑𝐨𝐮𝐥𝐨𝐭𝐭𝐞 𝐚̀ 𝐣𝐞𝐮𝐱 est organisée par la Ludothèque Pile & Face\,  dans le cadre de la CTG Alpilles Durance.
URL:https://www.eyguieres.org/evenements/24-janvier-2026-ludotheque-itinerante-la-roulotte-a-jeux/
LOCATION:Médiathèque\, 21 Rue Rabaud St Étienne\, Eyguières\, 13430
CATEGORIES:Évènements de la commune,Local
ATTACH;FMTTYPE=image/jpeg:https://www.eyguieres.org/wp-content/uploads/2026/01/Ludotheque-scaled.jpg
END:VEVENT
BEGIN:VEVENT
DTSTART;TZID=Europe/Paris:20260124T163000
DTEND;TZID=Europe/Paris:20260124T230000
DTSTAMP:20260420T151521
CREATED:20251224T083054Z
LAST-MODIFIED:20260113T144339Z
UID:129227-1769272200-1769295600@www.eyguieres.org
SUMMARY:24 janvier 2026 Sortie Culturelle - Opéra de Marseille
DESCRIPTION:🚌👨‍🦳 [SORTIE CULTURELLE – SÉNIORS] 👩‍🦳🚌 \nUne sortie culturelle est organisée par la municipalité pour nos séniors à l’Opéra de Marseille pour assister au spectacle Marseille danse ses légendes. \n📆 Samedi 24 janvier 2026\n📍 Opéra de Marseille\n🕟 Départ d’Eyguières à 16h30 retour vers 23h00 \n❗ PLACES LIMITÉES ❗\n👉 Réservations / inscriptions à l’accueil de la mairie d’Eyguières \n📱 Informations : Service Animations Culturelles – Anne Sanson\n📞 06 20 87 07 02\n🎫 Tarif : 20 € \nℹ Toutes les informations ci-dessous.
URL:https://www.eyguieres.org/evenements/24-janvier-2026-sortie-culturelle-opera-de-marseille/
CATEGORIES:Évènements de la commune,Local,Séniors
ATTACH;FMTTYPE=image/jpeg:https://www.eyguieres.org/wp-content/uploads/2026/01/sortie-culturelle-seniors-24-janv-2026-05.jpg
END:VEVENT
BEGIN:VEVENT
DTSTART;TZID=Europe/Paris:20260124T183000
DTEND;TZID=Europe/Paris:20260124T200000
DTSTAMP:20260420T151521
CREATED:20251224T090042Z
LAST-MODIFIED:20260121T095243Z
UID:129388-1769279400-1769284800@www.eyguieres.org
SUMMARY:24 janvier 2026  Lectures partagées "La mer à voix haute" - Ateliers Agora
DESCRIPTION:📚 [𝗟𝗘𝗖𝗧𝗨𝗥𝗘𝗦 𝗣𝗔𝗥𝗧𝗔𝗚𝗘́𝗘𝗦 « 𝗟𝗔 𝗠𝗘𝗥 𝗔̀ 𝗩𝗢𝗜𝗫 𝗛𝗔𝗨𝗧𝗘 » – 𝗔𝗧𝗘𝗟𝗜𝗘𝗥𝗦 𝗔𝗚𝗢𝗥𝗔] 📚 \n👉 L’Atelier Agora vous invite à une soirée lectures partagées sur le thème « La mer à voix haute » animé par le club de lecture des Ateliers Agora. \n📅 Samedi 24 janvier 2026\n🕒 À 18h30\n📍 2 place Thiers \nℹ️ Renseignements et inscriptions 👇\n📧 librairie@ateliers-agora.fr\n☎️ 06 60 64 07 54 \n‼️ Gratuit – Sur inscription
URL:https://www.eyguieres.org/evenements/24-janvier-2026-lectures-partagees-la-mer-a-voix-haute-ateliers-agora/
LOCATION:Ateliers Agora\, Place Thiers\, EYGUIERES\, 13430
CATEGORIES:Local
ATTACH;FMTTYPE=image/jpeg:https://www.eyguieres.org/wp-content/uploads/2026/01/Lecture-partage-Ateliers-Agora-scaled.jpg
END:VEVENT
END:VCALENDAR