BEGIN:VCALENDAR
VERSION:2.0
PRODID:-//Eyguières Les Alpilles - ECPv6.15.16//NONSGML v1.0//EN
CALSCALE:GREGORIAN
METHOD:PUBLISH
X-ORIGINAL-URL:https://www.eyguieres.org
X-WR-CALDESC:Évènements pour Eyguières Les Alpilles
REFRESH-INTERVAL;VALUE=DURATION:PT1H
X-Robots-Tag:noindex
X-PUBLISHED-TTL:PT1H
BEGIN:VTIMEZONE
TZID:Europe/Paris
BEGIN:DAYLIGHT
TZOFFSETFROM:+0100
TZOFFSETTO:+0200
TZNAME:CEST
DTSTART:20250330T010000
END:DAYLIGHT
BEGIN:STANDARD
TZOFFSETFROM:+0200
TZOFFSETTO:+0100
TZNAME:CET
DTSTART:20251026T010000
END:STANDARD
BEGIN:DAYLIGHT
TZOFFSETFROM:+0100
TZOFFSETTO:+0200
TZNAME:CEST
DTSTART:20260329T010000
END:DAYLIGHT
BEGIN:STANDARD
TZOFFSETFROM:+0200
TZOFFSETTO:+0100
TZNAME:CET
DTSTART:20261025T010000
END:STANDARD
BEGIN:DAYLIGHT
TZOFFSETFROM:+0100
TZOFFSETTO:+0200
TZNAME:CEST
DTSTART:20270328T010000
END:DAYLIGHT
BEGIN:STANDARD
TZOFFSETFROM:+0200
TZOFFSETTO:+0100
TZNAME:CET
DTSTART:20271031T010000
END:STANDARD
END:VTIMEZONE
BEGIN:VEVENT
DTSTART;TZID=Europe/Paris:20260203T090000
DTEND;TZID=Europe/Paris:20260328T190000
DTSTAMP:20260420T223227
CREATED:20260103T073008Z
LAST-MODIFIED:20260203T090506Z
UID:129599-1770109200-1774724400@www.eyguieres.org
SUMMARY:Du 3 au 28 février 2026  Exposition "Visages d'âme\, nuances bleues" - Médiathèque d'Eyguières
DESCRIPTION:🖌️✨ [𝗘𝗫𝗣𝗢𝗦𝗜𝗧𝗜𝗢𝗡 « 𝗩𝗜𝗦𝗔𝗚𝗘𝗦 𝗗’𝗔̂𝗠𝗘\, 𝗡𝗨𝗔𝗡𝗖𝗘𝗦 𝗕𝗟𝗘𝗨𝗘𝗦 » – 𝗠𝗘́𝗗𝗜𝗔𝗧𝗛𝗘̀𝗤𝗨𝗘 𝗗’𝗘𝗬𝗚𝗨𝗜𝗘̀𝗥𝗘𝗦] ✨🖌️ \nLa médiathèque d’Eyguières accueille l’artiste peintre Agnès Deschamps pour une exposition « Visages d’âme\, nuances bleues ». \n📅 Du 3 au 28 février 2026\n🎨 Vernissage le mercredi 4 février à 18h30\n📍 Médiathèque d’Eyguières \n👉 Renseignements : 04.90.57.94.62 / mediatheque@mairie-eyguieres.fr
URL:https://www.eyguieres.org/evenements/du-3-au-28-fevrier-2026-exposition-visages-dame-nuances-bleues-mediatheque-deyguieres/
LOCATION:Médiathèque\, 21 Rue Rabaud St Étienne\, Eyguières\, 13430
CATEGORIES:Local,Médiathèque
ATTACH;FMTTYPE=image/jpeg:https://www.eyguieres.org/wp-content/uploads/2026/01/Exposition-mediatheque-scaled.jpg
END:VEVENT
BEGIN:VEVENT
DTSTART;TZID=Europe/Paris:20260226T100000
DTEND;TZID=Europe/Paris:20260317T190000
DTSTAMP:20260420T223227
CREATED:20260126T080049Z
LAST-MODIFIED:20260225T092833Z
UID:129944-1772100000-1773774000@www.eyguieres.org
SUMMARY:Du 26 février au 17 mars 2026  Exposition "Formes & Couleurs" - Ateliers Agora
DESCRIPTION:🟩 [𝗘𝗫𝗣𝗢𝗦𝗜𝗧𝗜𝗢𝗡 « 𝗙𝗢𝗥𝗠𝗘𝗦 & 𝗖𝗢𝗨𝗟𝗘𝗨𝗥𝗦 » – 𝗔𝗧𝗘𝗟𝗜𝗘𝗥𝗦 𝗔𝗚𝗢𝗥𝗔] 🟩 \n📣 Les Ateliers Agora vous invitent à découvrir leur nouvelle exposition « Formes & Couleurs ». \n𝗘𝗫𝗣𝗢𝗦𝗜𝗧𝗜𝗢𝗡\n📅 Du 26 février au 17 mars 2026 \n𝗩𝗘𝗥𝗡𝗜𝗦𝗦𝗔𝗚𝗘\n📅 Vendredi 27 février 2026\n🕛 18h30 \n📍 2 Place Thiers \nPour plus d’informations 👇\n✉️ galerie@ateliers-agora.fr 📞 06.60.64.07.54
URL:https://www.eyguieres.org/evenements/du-26-fevrier-au-17-mars-2026-exposition-formes-couleurs-ateliers-agora/
LOCATION:Ateliers Agora\, Place Thiers\, EYGUIERES\, 13430
CATEGORIES:Culture,Local
ATTACH;FMTTYPE=image/jpeg:https://www.eyguieres.org/wp-content/uploads/2026/02/exposition.jpg
END:VEVENT
BEGIN:VEVENT
DTSTART;TZID=Europe/Paris:20260303T090000
DTEND;TZID=Europe/Paris:20260328T190000
DTSTAMP:20260420T223227
CREATED:20260203T064532Z
LAST-MODIFIED:20260303T080409Z
UID:130061-1772528400-1774724400@www.eyguieres.org
SUMMARY:Du 3 au 28 mars 2026  Exposition "Pinturo Passioun" - Médiathèque d'Eyguières
DESCRIPTION:🖌️ [𝗘𝗫𝗣𝗢𝗦𝗜𝗧𝗜𝗢𝗡 « 𝗣𝗜𝗡𝗧𝗨𝗥𝗢 𝗣𝗔𝗦𝗦𝗜𝗢𝗨𝗡 » – 𝗠𝗘́𝗗𝗜𝗔𝗧𝗛𝗘̀𝗤𝗨𝗘 𝗗’𝗘𝗬𝗚𝗨𝗜𝗘̀𝗥𝗘𝗦] 🖌️ \nLa médiathèque d’Eyguières accueille l’artiste peintre Lulu Inguimbert pour l’exposition « Pinturo Passioun ». \n📅 Du 3 au 28 mars 2026\n🎨 Vernissage le vendredi 6 mars à 18h30\n📍 Médiathèque d’Eyguières \n👉 Renseignements : 04.90.57.94.62 / mediatheque@mairie-eyguieres.fr
URL:https://www.eyguieres.org/evenements/du-3-au-28-mars-2026-exposition-pinturo-passioun-mediatheque-deyguieres/
LOCATION:Médiathèque\, 21 Rue Rabaud St Étienne\, Eyguières\, 13430
CATEGORIES:Local,Médiathèque
ATTACH;FMTTYPE=image/jpeg:https://www.eyguieres.org/wp-content/uploads/2026/02/Exposition-1-scaled.jpg
END:VEVENT
BEGIN:VEVENT
DTSTART;TZID=Europe/Paris:20260306T210000
DTEND;TZID=Europe/Paris:20260308T180000
DTSTAMP:20260420T223228
CREATED:20260206T083049Z
LAST-MODIFIED:20260304T152524Z
UID:130166-1772830800-1772992800@www.eyguieres.org
SUMMARY:6 au 8 mars 2026   Match Handball à domicile  Aphbec
DESCRIPTION:🤾‍♂️🤾🏼‍♀️ [𝗠𝗔𝗧𝗖𝗛𝗦 𝗛𝗔𝗡𝗗𝗕𝗔𝗟𝗟] 🤾‍♂️🤾🏼‍♀️ \nLe club de handball Aphbec vous donne rendez-vous à domicile ! 🔵⚪️ \n📆 𝗩𝗲𝗻𝗱𝗿𝗲𝗱𝗶 𝟲 𝗺𝗮𝗿𝘀 𝟮𝟬𝟮𝟲 \n🕒 à 21h00 💥\n👉 Loisirs VS Salon \n📆 𝗦𝗮𝗺𝗲𝗱𝗶 𝟳 𝗺𝗮𝗿𝘀 𝟮𝟬𝟮𝟲 \n🕒 à 13h45 💥\n👉 U11G VS Côte Bleue \n🕒 à 15h30 💥\n👉 U11F VS Arles/ Gardanne \n🕒 à 19h30 💥\n👉 PNF VS Valréas \n📆 𝗗𝗶𝗺𝗮𝗻𝗰𝗵𝗲 𝟴 𝗺𝗮𝗿𝘀 𝟮𝟬𝟮𝟲 \n🕒 à 11h00 💥\n👉 U15G VS SMUC \n🕒 à 14h00 💥\n👉 U13G2 VS Pertuis \n🕒 à 16h00 💥\n👉 U13G VS Trets \n📍 Gymnase Raymond Lieutaud\, Eyguières
URL:https://www.eyguieres.org/evenements/6-au-8-mars-2026-match-handball-a-domicile-aphbec/
LOCATION:Gymnase Lieutaud
CATEGORIES:Local,Sport
ATTACH;FMTTYPE=image/jpeg:https://www.eyguieres.org/wp-content/uploads/2022/08/TOURNOI-handball-eyguieres-3-et-4-septembre-2022.jpg
END:VEVENT
BEGIN:VEVENT
DTSTART;VALUE=DATE:20260307
DTEND;VALUE=DATE:20260309
DTSTAMP:20260420T223228
CREATED:20260208T073042Z
LAST-MODIFIED:20260306T100126Z
UID:130199-1772924400-1773010799@www.eyguieres.org
SUMMARY:8 mars 2026  Championnat séniors - Tennis Club Eyguières
DESCRIPTION:🎾 [𝗖𝗛𝗔𝗠𝗣𝗜𝗢𝗡𝗡𝗔𝗧 𝗦𝗘́𝗡𝗜𝗢𝗥𝗦 – 𝗧𝗘𝗡𝗡𝗜𝗦 𝗖𝗟𝗨𝗕 𝗘𝗬𝗚𝗨𝗜𝗘̀𝗥𝗘𝗦 ] 🎾 \n📣 Le Tennis Club d’Eyguières vous donne rendez-vous pour le championnat sénior. \n📆 Dimanche 8 mars 2026\n📍 Eyguières \n👩‍🦰 𝗗𝗔𝗠𝗘 \n💥 Eyguières 2 VS Tennis de Barjols 1\n💥 Eyguières 2 VS Tennis de Barjols 1 \n👨‍🦰 𝗛𝗢𝗠𝗠𝗘𝗦 \n💥 Eyguières 1 VS TC Gap 1\n💥 Eyguières 2 VS TC Alleins 1\n💥 Eyguières 4 VS TC La Barben
URL:https://www.eyguieres.org/evenements/8-mars-2026-championnat-seniors-tennis-club-eyguieres/
CATEGORIES:Local,Sport
ATTACH;FMTTYPE=image/jpeg:https://www.eyguieres.org/wp-content/uploads/2026/03/Tennis-scaled.jpg
END:VEVENT
BEGIN:VEVENT
DTSTART;TZID=Europe/Paris:20260308T160000
DTEND;TZID=Europe/Paris:20260308T180000
DTSTAMP:20260420T223228
CREATED:20260208T080018Z
LAST-MODIFIED:20260227T081912Z
UID:130046-1772985600-1772992800@www.eyguieres.org
SUMMARY:8 mars 2026  Comédie Boieng Boieng - Domaine du Vallon des Glauges
DESCRIPTION:✨ [𝗖𝗢𝗠𝗘́𝗗𝗜𝗘 𝗕𝗢𝗘𝗜𝗡𝗚 𝗕𝗢𝗘𝗜𝗡𝗚 – 𝗗𝗢𝗠𝗔𝗜𝗡𝗘 𝗗𝗨 𝗩𝗔𝗟𝗟𝗢𝗡 𝗗𝗘𝗦 𝗚𝗟𝗔𝗨𝗚𝗘𝗦] ✨ \n👉 Venez découvrir la célèbre comédie Boeing Boeing de Marc Camoletti\, jouée par la compagnie Les Hirondelles au Domaine du Vallon des Glauges.\nAu profit du Fonds AV’ENCE\, pour les patients & les soignants de l’hôpital d’Avignon \n📅 Dimanche 8 mars 2026\n🕐 À 16h00\n📍 Domaine du Vallon du Glauges\, Eyguières \n🎫 Places limitées – Inscrivez vous dès maintenant avec le lien suivant : urlr.me/vWDuTQ
URL:https://www.eyguieres.org/evenements/8-mars-2026-comedie-boieng-boieng-domaine-du-vallon-des-glauges/
LOCATION:Domaine du Vallon des Glauges\, Chemin des Glauges\, Eyguieres\, 13430\, France
CATEGORIES:Local
ATTACH;FMTTYPE=image/jpeg:https://www.eyguieres.org/wp-content/uploads/2026/02/Comedie-Domaine-du-Vallon-des-Glauges.jpg
END:VEVENT
END:VCALENDAR