BEGIN:VCALENDAR
VERSION:2.0
PRODID:-//Eyguières Les Alpilles - ECPv6.15.16//NONSGML v1.0//EN
CALSCALE:GREGORIAN
METHOD:PUBLISH
X-ORIGINAL-URL:https://www.eyguieres.org
X-WR-CALDESC:Évènements pour Eyguières Les Alpilles
REFRESH-INTERVAL;VALUE=DURATION:PT1H
X-Robots-Tag:noindex
X-PUBLISHED-TTL:PT1H
BEGIN:VTIMEZONE
TZID:Europe/Paris
BEGIN:DAYLIGHT
TZOFFSETFROM:+0100
TZOFFSETTO:+0200
TZNAME:CEST
DTSTART:20250330T010000
END:DAYLIGHT
BEGIN:STANDARD
TZOFFSETFROM:+0200
TZOFFSETTO:+0100
TZNAME:CET
DTSTART:20251026T010000
END:STANDARD
BEGIN:DAYLIGHT
TZOFFSETFROM:+0100
TZOFFSETTO:+0200
TZNAME:CEST
DTSTART:20260329T010000
END:DAYLIGHT
BEGIN:STANDARD
TZOFFSETFROM:+0200
TZOFFSETTO:+0100
TZNAME:CET
DTSTART:20261025T010000
END:STANDARD
BEGIN:DAYLIGHT
TZOFFSETFROM:+0100
TZOFFSETTO:+0200
TZNAME:CEST
DTSTART:20270328T010000
END:DAYLIGHT
BEGIN:STANDARD
TZOFFSETFROM:+0200
TZOFFSETTO:+0100
TZNAME:CET
DTSTART:20271031T010000
END:STANDARD
END:VTIMEZONE
BEGIN:VEVENT
DTSTART;TZID=Europe/Paris:20260203T090000
DTEND;TZID=Europe/Paris:20260328T190000
DTSTAMP:20260422T123008
CREATED:20260103T073008Z
LAST-MODIFIED:20260203T090506Z
UID:129599-1770109200-1774724400@www.eyguieres.org
SUMMARY:Du 3 au 28 février 2026  Exposition "Visages d'âme\, nuances bleues" - Médiathèque d'Eyguières
DESCRIPTION:🖌️✨ [𝗘𝗫𝗣𝗢𝗦𝗜𝗧𝗜𝗢𝗡 « 𝗩𝗜𝗦𝗔𝗚𝗘𝗦 𝗗’𝗔̂𝗠𝗘\, 𝗡𝗨𝗔𝗡𝗖𝗘𝗦 𝗕𝗟𝗘𝗨𝗘𝗦 » – 𝗠𝗘́𝗗𝗜𝗔𝗧𝗛𝗘̀𝗤𝗨𝗘 𝗗’𝗘𝗬𝗚𝗨𝗜𝗘̀𝗥𝗘𝗦] ✨🖌️ \nLa médiathèque d’Eyguières accueille l’artiste peintre Agnès Deschamps pour une exposition « Visages d’âme\, nuances bleues ». \n📅 Du 3 au 28 février 2026\n🎨 Vernissage le mercredi 4 février à 18h30\n📍 Médiathèque d’Eyguières \n👉 Renseignements : 04.90.57.94.62 / mediatheque@mairie-eyguieres.fr
URL:https://www.eyguieres.org/evenements/du-3-au-28-fevrier-2026-exposition-visages-dame-nuances-bleues-mediatheque-deyguieres/
LOCATION:Médiathèque\, 21 Rue Rabaud St Étienne\, Eyguières\, 13430
CATEGORIES:Local,Médiathèque
ATTACH;FMTTYPE=image/jpeg:https://www.eyguieres.org/wp-content/uploads/2026/01/Exposition-mediatheque-scaled.jpg
END:VEVENT
BEGIN:VEVENT
DTSTART;TZID=Europe/Paris:20260303T090000
DTEND;TZID=Europe/Paris:20260328T190000
DTSTAMP:20260422T123008
CREATED:20260203T064532Z
LAST-MODIFIED:20260303T080409Z
UID:130061-1772528400-1774724400@www.eyguieres.org
SUMMARY:Du 3 au 28 mars 2026  Exposition "Pinturo Passioun" - Médiathèque d'Eyguières
DESCRIPTION:🖌️ [𝗘𝗫𝗣𝗢𝗦𝗜𝗧𝗜𝗢𝗡 « 𝗣𝗜𝗡𝗧𝗨𝗥𝗢 𝗣𝗔𝗦𝗦𝗜𝗢𝗨𝗡 » – 𝗠𝗘́𝗗𝗜𝗔𝗧𝗛𝗘̀𝗤𝗨𝗘 𝗗’𝗘𝗬𝗚𝗨𝗜𝗘̀𝗥𝗘𝗦] 🖌️ \nLa médiathèque d’Eyguières accueille l’artiste peintre Lulu Inguimbert pour l’exposition « Pinturo Passioun ». \n📅 Du 3 au 28 mars 2026\n🎨 Vernissage le vendredi 6 mars à 18h30\n📍 Médiathèque d’Eyguières \n👉 Renseignements : 04.90.57.94.62 / mediatheque@mairie-eyguieres.fr
URL:https://www.eyguieres.org/evenements/du-3-au-28-mars-2026-exposition-pinturo-passioun-mediatheque-deyguieres/
LOCATION:Médiathèque\, 21 Rue Rabaud St Étienne\, Eyguières\, 13430
CATEGORIES:Local,Médiathèque
ATTACH;FMTTYPE=image/jpeg:https://www.eyguieres.org/wp-content/uploads/2026/02/Exposition-1-scaled.jpg
END:VEVENT
BEGIN:VEVENT
DTSTART;TZID=Europe/Paris:20260319T100000
DTEND;TZID=Europe/Paris:20260407T190000
DTSTAMP:20260422T123008
CREATED:20260219T080037Z
LAST-MODIFIED:20260320T095131Z
UID:130329-1773914400-1775588400@www.eyguieres.org
SUMMARY:Du 19 mars au 7 avril 2026  Exposition "Portraits" - Ateliers Agora
DESCRIPTION:👩‍🦰 [𝗘𝗫𝗣𝗢𝗦𝗜𝗧𝗜𝗢𝗡 « 𝗣𝗢𝗥𝗧𝗥𝗔𝗜𝗧𝗦 » – 𝗔𝗧𝗘𝗟𝗜𝗘𝗥𝗦 𝗔𝗚𝗢𝗥𝗔] 👩‍🦰 \n📣 Les Ateliers Agora vous invitent à découvrir leur nouvelle exposition « Portraits ». \n𝗘𝗫𝗣𝗢𝗦𝗜𝗧𝗜𝗢𝗡\n📅 Du 19 mars au 7 avril 2026 \n𝗩𝗘𝗥𝗡𝗜𝗦𝗦𝗔𝗚𝗘\n📅 Samedi 21 mars 2026\n🕛 11h30 \n📍 2 Place Thiers \nPour plus d’informations 👇\n✉️ galerie@ateliers-agora.fr 📞 06.60.64.07.54
URL:https://www.eyguieres.org/evenements/du-19-mars-au-7-avril-2026-exposition-portraits-ateliers-agora/
LOCATION:Ateliers Agora\, Place Thiers\, EYGUIERES\, 13430
CATEGORIES:Culture,Local
END:VEVENT
BEGIN:VEVENT
DTSTART;TZID=Europe/Paris:20260325T100000
DTEND;TZID=Europe/Paris:20260325T120000
DTSTAMP:20260422T123008
CREATED:20260225T073003Z
LAST-MODIFIED:20260310T090348Z
UID:130181-1774432800-1774440000@www.eyguieres.org
SUMMARY:25 mars 2026  Initiation à la généalogie - Médiathèque d'Eyguières
DESCRIPTION:🌳[𝗜𝗡𝗜𝗧𝗜𝗔𝗧𝗜𝗢𝗡 𝗔̀ 𝗟𝗔 𝗚𝗘́𝗡𝗘́𝗔𝗟𝗢𝗚𝗜𝗘 – 𝗠𝗘́𝗗𝗜𝗔𝗧𝗛𝗘̀𝗤𝗨𝗘 𝗗’𝗘𝗬𝗚𝗨𝗜𝗘̀𝗥𝗘𝗦]🌳 \nRetrouvez à la médiathèque l’initiation à la généalogie animée par Monsieur Godeferd. \n📅 Mercredi 25 mars 2026\n🕐 À 10h00\n📍 À la Médiathèque d’Eyguières \nℹ️ Inscription obligatoire 👇 \n📞 04 90 57 94 62\n📧 mediatheque@mairie-eyguieres.fr \n2
URL:https://www.eyguieres.org/evenements/25-mars-2026-initiation-a-la-genealogie-mediatheque-deyguieres/
LOCATION:Médiathèque\, 21 Rue Rabaud St Étienne\, Eyguières\, 13430
CATEGORIES:Local,Médiathèque
ATTACH;FMTTYPE=image/jpeg:https://www.eyguieres.org/wp-content/uploads/2026/03/Initiation-a-la-geneologie-1-scaled.jpg
END:VEVENT
BEGIN:VEVENT
DTSTART;TZID=Europe/Paris:20260325T160000
DTEND;TZID=Europe/Paris:20260325T170000
DTSTAMP:20260422T123008
CREATED:20260225T080012Z
LAST-MODIFIED:20260310T090402Z
UID:130179-1774454400-1774458000@www.eyguieres.org
SUMMARY:25 mars 2026  Atelier d'écriture enfant/ado - Ateliers Agora
DESCRIPTION:✒️ [𝗔𝗧𝗘𝗟𝗜𝗘𝗥 𝗗’𝗘́𝗖𝗥𝗜𝗧𝗨𝗥𝗘] ✒️ \n👉 L’Atelier Agora vous invite à son atelier d’écriture pour les enfants/ ados animé par Isabelle. \n📅 Mercredi 25 mars 2026\n🕒 De 16h à 17h\n📍 2 place Thiers \n📣 Retrouvez l’atelier d’écriture 1 mercredi par mois 😃 \nℹ️ Renseignements et inscriptions 👇\n📧 librairie@ateliers-agora.fr\n☎️ 06 60 64 07 54 \n‼️ Atelier gratuit\, adhésion à l’association de 20 €
URL:https://www.eyguieres.org/evenements/25-mars-2026-atelier-decriture-enfant-ado-ateliers-agora/
LOCATION:Ateliers Agora\, Place Thiers\, EYGUIERES\, 13430
CATEGORIES:Local
ATTACH;FMTTYPE=image/jpeg:https://www.eyguieres.org/wp-content/uploads/2024/03/fountain-pen-written-page-01.jpg
END:VEVENT
END:VCALENDAR