BEGIN:VCALENDAR
VERSION:2.0
PRODID:-//Eyguières Les Alpilles - ECPv6.15.16//NONSGML v1.0//EN
CALSCALE:GREGORIAN
METHOD:PUBLISH
X-WR-CALNAME:Eyguières Les Alpilles
X-ORIGINAL-URL:https://www.eyguieres.org
X-WR-CALDESC:Évènements pour Eyguières Les Alpilles
REFRESH-INTERVAL;VALUE=DURATION:PT1H
X-Robots-Tag:noindex
X-PUBLISHED-TTL:PT1H
BEGIN:VTIMEZONE
TZID:Europe/Paris
BEGIN:DAYLIGHT
TZOFFSETFROM:+0100
TZOFFSETTO:+0200
TZNAME:CEST
DTSTART:20240331T010000
END:DAYLIGHT
BEGIN:STANDARD
TZOFFSETFROM:+0200
TZOFFSETTO:+0100
TZNAME:CET
DTSTART:20241027T010000
END:STANDARD
BEGIN:DAYLIGHT
TZOFFSETFROM:+0100
TZOFFSETTO:+0200
TZNAME:CEST
DTSTART:20250330T010000
END:DAYLIGHT
BEGIN:STANDARD
TZOFFSETFROM:+0200
TZOFFSETTO:+0100
TZNAME:CET
DTSTART:20251026T010000
END:STANDARD
BEGIN:DAYLIGHT
TZOFFSETFROM:+0100
TZOFFSETTO:+0200
TZNAME:CEST
DTSTART:20260329T010000
END:DAYLIGHT
BEGIN:STANDARD
TZOFFSETFROM:+0200
TZOFFSETTO:+0100
TZNAME:CET
DTSTART:20261025T010000
END:STANDARD
END:VTIMEZONE
BEGIN:VEVENT
DTSTART;TZID=Europe/Paris:20250530T103000
DTEND;TZID=Europe/Paris:20250627T180000
DTSTAMP:20260423T145349
CREATED:20250517T060011Z
LAST-MODIFIED:20250528T100201Z
UID:125479-1748601000-1751047200@www.eyguieres.org
SUMMARY:Du 30 mai au 27 juin 2025  15ème édition - Tournoi de tennis - CNGT Des Alpilles
DESCRIPTION:🎾 [𝟭𝟱𝗘̀𝗠𝗘 𝗘́𝗗𝗜𝗧𝗜𝗢𝗡 – 𝗧𝗢𝗨𝗥𝗡𝗢𝗜 𝗗𝗘 𝗧𝗘𝗡𝗡𝗜𝗦 – 𝗖𝗡𝗚𝗧 𝗗𝗘𝗦 𝗔𝗟𝗣𝗜𝗟𝗟𝗘𝗦 ] 🎾 \n📣 La CNGT Des Alpilles organise la 15ème édition de son tournoi de tennis. \n📆 Du 30 mai au 27 juin 2025\n📍 Complexe sportif Mas Precatori\, Eyguières \n➡️ Des matchs de haut niveau \n🎫 Entrée gratuite – ouvert à tous \n🌅 Et lorsque que le soleil se couche\, place aux soirées organisées par le club et ses nombreux bénévoles 🥂 \nℹ️ Inscription des joueurs sur Ten’up
URL:https://www.eyguieres.org/evenements/du-30-mai-au-27-juin-2025-15eme-edition-tournoi-de-tennis-cngt-des-alpilles/
LOCATION:Complexe sportif Mas Precatori
CATEGORIES:Local,Sport
ATTACH;FMTTYPE=image/jpeg:https://www.eyguieres.org/wp-content/uploads/2025/05/Tournoi-de-tennis-cngt-des-alpilles-scaled.jpg
END:VEVENT
BEGIN:VEVENT
DTSTART;TZID=Europe/Paris:20250604T100000
DTEND;TZID=Europe/Paris:20250621T190000
DTSTAMP:20260423T145349
CREATED:20250520T060025Z
LAST-MODIFIED:20250604T081613Z
UID:125772-1749031200-1750532400@www.eyguieres.org
SUMMARY:Du 4 au 21 juin 2025  Exposition Papiers Collés - Ateliers Agora
DESCRIPTION:✨ [𝗘𝗫𝗣𝗢𝗦𝗜𝗧𝗜𝗢𝗡 𝗣𝗔𝗣𝗜𝗘𝗥𝗦 𝗖𝗢𝗟𝗟𝗘́𝗦 – 𝗔𝗧𝗘𝗟𝗜𝗘𝗥𝗦 𝗔𝗚𝗢𝗥𝗔] ✨ \n📣 Les Ateliers Agora vous invitent à découvrir leur nouvelle exposition Papiers Collés\, qui met en lumière cinq artistes qui réinventent cette pratique à travers des univers. \n👉 Venez découvrir les œuvres de Sylhène Ferrier\, Phosi\, Stephanie Chahinian\, Julink et Pierrette Prophète. \n𝗘𝗫𝗣𝗢𝗦𝗜𝗧𝗜𝗢𝗡\n📅 Du 4 au 21 juin 2025\n📍 2 Place Thiers \n𝗩𝗘𝗥𝗡𝗜𝗦𝗦𝗔𝗚𝗘\n📅 Vendredi 6 juin 2025\n🕛 À 18h30\n📍 2 Place Thiers \nPour plus d’informations 👇\n✉️ galerie@ateliers-agora.fr 📞 06.60.64.07.54
URL:https://www.eyguieres.org/evenements/du-4-au-21-juin-2025-exposition-papiers-colles-ateliers-agora/
LOCATION:Ateliers Agora\, Place Thiers\, EYGUIERES\, 13430
CATEGORIES:Évènements de la commune,Local
ATTACH;FMTTYPE=image/jpeg:https://www.eyguieres.org/wp-content/uploads/2025/06/Exposition-Ateliers-Agora-scaled.jpg
END:VEVENT
BEGIN:VEVENT
DTSTART;TZID=Europe/Paris:20250610T100000
DTEND;TZID=Europe/Paris:20250712T170000
DTSTAMP:20260423T145349
CREATED:20250525T070048Z
LAST-MODIFIED:20250605T094958Z
UID:125815-1749549600-1752339600@www.eyguieres.org
SUMMARY:Du 10 juin au 12 juillet 2025   Exposition "Emotion Paysages" par Michelle Picca Angers - Médiathèque d'Eyguières
DESCRIPTION:🏞️ [𝗘𝗫𝗣𝗢𝗦𝗜𝗧𝗜𝗢𝗡 « 𝗘𝗠𝗢𝗧𝗜𝗢𝗡𝗦 𝗣𝗔𝗬𝗦𝗔𝗚𝗘𝗦 » 𝗣𝗔𝗥 𝗠𝗜𝗖𝗛𝗘𝗟𝗟𝗘 𝗣𝗜𝗖𝗖𝗔 𝗔𝗡𝗚𝗘𝗥𝗦 – 𝗠𝗘́𝗗𝗜𝗔𝗧𝗛𝗘̀𝗤𝗨𝗘 𝗗’𝗘𝗬𝗚𝗨𝗜𝗘̀𝗥𝗘𝗦] 🏞️ \n👉 La Médiathèque d’Eyguières accueille Michelle Picca Angers pour son exposition « Émotions Paysages » ✨ \n𝗘𝗫𝗣𝗢𝗦𝗜𝗧𝗜𝗢𝗡\n📅 Du 10 juin au 12 juillet 2025 \n𝗩𝗘𝗥𝗡𝗜𝗦𝗦𝗔𝗚𝗘\n📅 Vendredi 13 juin  2025\n🕛 19h00 \n📍 à la Médiathèque d’Eyguières \nℹ️ Pour plus d’informations 👇\n📞 04 90 57 94 62\n📧 mediatheque@mairie-eyguieres.fr \n \n 
URL:https://www.eyguieres.org/evenements/du-10-juin-au-12-juillet-2025-exposition-emotion-paysages-par-michelle-picca-angers-mediatheque-deyguieres/
LOCATION:Médiathèque\, 21 Rue Rabaud St Étienne\, Eyguières\, 13430
CATEGORIES:Local,Médiathèque
ATTACH;FMTTYPE=image/jpeg:https://www.eyguieres.org/wp-content/uploads/2025/06/Exposition-mediatheque-scaled.jpg
END:VEVENT
BEGIN:VEVENT
DTSTART;TZID=Europe/Paris:20250613T100000
DTEND;TZID=Europe/Paris:20250613T120000
DTSTAMP:20260423T145349
CREATED:20250528T050015Z
LAST-MODIFIED:20250606T090701Z
UID:125763-1749808800-1749816000@www.eyguieres.org
SUMMARY:13 juin 2025   Café Littéraire
DESCRIPTION:📚[𝗖𝗔𝗙𝗘́ 𝗟𝗜𝗧𝗧𝗘́𝗥𝗔𝗜𝗥𝗘]📚 \n📅 Vendredi 13 juin 2025\n🕐 À 10h\n📍 À la Médiathèque d’Eyguières \n❗RÉSERVÉ AUX SÉNIORS❗ \n👉 Évènement proposé en partenariat avec la Maison du Bel âge \n✅ Gratuit ✅ mais réservation conseillée \nℹ️ Pour plus d’informations et/ou inscriptions 👇\n📞 04 90 57 94 62\n📧 mediatheque@mairie-eyguieres.fr
URL:https://www.eyguieres.org/evenements/13-juin-2025-cafe-litteraire/
LOCATION:Médiathèque\, 21 Rue Rabaud St Étienne\, Eyguières\, 13430
CATEGORIES:Local,Médiathèque
ATTACH;FMTTYPE=image/jpeg:https://www.eyguieres.org/wp-content/uploads/2025/06/EVENEMENT-mediatheque-Juin-2025-01.jpg
END:VEVENT
BEGIN:VEVENT
DTSTART;TZID=Europe/Paris:20250613T160000
DTEND;TZID=Europe/Paris:20250613T173000
DTSTAMP:20260423T145349
CREATED:20250528T060020Z
LAST-MODIFIED:20250606T090653Z
UID:125711-1749830400-1749835800@www.eyguieres.org
SUMMARY:13 juin 2025  Atelier écriture aux Ateliers Agora
DESCRIPTION:✒️ [𝗔𝗧𝗘𝗟𝗜𝗘𝗥 𝗗’𝗘́𝗖𝗥𝗜𝗧𝗨𝗥𝗘] ✒️ \n\n\n\n\n👉 L’Atelier Agora vous invite à son atelier d’écriture animé par Isabelle. \n\n\n\n\n📅 Vendredi 13 juin 2025\n🕒 De 16h à 17h30\n📍 2 place Thiers \n📣 Retrouvez les ateliers écritures 1 vendredi sur 2 😃 \nℹ️ Renseignements et inscriptions 👇\n📧 librairie@ateliers-agora.fr\n☎️ 06 60 64 07 54 \n‼️ Atelier gratuit\, adhésion à l’association de 20 €
URL:https://www.eyguieres.org/evenements/30-mai-2025-atelier-ecriture-aux-ateliers-agora-2/
LOCATION:Ateliers Agora\, Place Thiers\, EYGUIERES\, 13430
CATEGORIES:Local
ATTACH;FMTTYPE=image/jpeg:https://www.eyguieres.org/wp-content/uploads/2024/03/fountain-pen-written-page-01.jpg
END:VEVENT
BEGIN:VEVENT
DTSTART;TZID=Europe/Paris:20250613T180000
DTEND;TZID=Europe/Paris:20250613T224500
DTSTAMP:20260423T145349
CREATED:20250528T070006Z
LAST-MODIFIED:20250606T123832Z
UID:125697-1749837600-1749854700@www.eyguieres.org
SUMMARY:13 juin 2025  Les Vendredis Musicaux
DESCRIPTION:🎶 [𝗟𝗘𝗦 𝗩𝗘𝗡𝗗𝗥𝗘𝗗𝗜𝗦 𝗠𝗨𝗦𝗜𝗖𝗔𝗨𝗫] 🎶 \n📣 Nouveauté cette année dans notre village d’Eyguières ! \n😁  Retrouvez tous les 𝐯𝐞𝐧𝐝𝐫𝐞𝐝𝐢𝐬 𝐬𝐨𝐢𝐫𝐬 (à partir du 13 juin) 𝐋𝐞𝐬 𝐕𝐞𝐧𝐝𝐫𝐞𝐝𝐢𝐬 𝐌𝐮𝐬𝐢𝐜𝐚𝐮𝐱 ! \n🎸 Chaque semaine\, un 𝐧𝐨𝐮𝐯𝐞𝐚𝐮 𝐠𝐫𝐨𝐮𝐩𝐞 𝐝𝐞 𝐦𝐮𝐬𝐢𝐪𝐮𝐞 viendra enflammer la Place Thiers dans une ambiance conviviale\, festive et chaleureuse 💃🕺 \n📆 𝗩𝗲𝗻𝗱𝗿𝗲𝗱𝗶 𝟭𝟯 𝗷𝘂𝗶𝗻 𝟮𝟬𝟮𝟱\n🕕 À partir de 18h00\n📍 Place Thiers – Eyguières \nPour la première soirée des Vendredis Musicaux\, retrouvez :\n🎙 Groupe de Musique Live ➡️ US\n🎧 Animation ➡️ DJ KRIS-T \n✅ Entrée libre et gratuite\n🍔🍻 𝗥𝐞𝐬𝐭𝐚𝐮𝐫𝐚𝐭𝐢𝐨𝐧 𝗲𝘁 𝗯𝘂𝘃𝗲𝘁𝘁𝗲 𝐬𝐮𝐫 𝐩𝐥𝐚𝐜𝐞 \nℹ️ Renseignements 👇\n📞 04.90.59.88.00 \n\n\n \n\n\n 
URL:https://www.eyguieres.org/evenements/13-juin-2025-les-vendredis-musicaux/
LOCATION:Place Thiers\, Place Thiers\, EYGUIERES\, 13430
CATEGORIES:Évènements de la commune,Local
ATTACH;FMTTYPE=image/jpeg:https://www.eyguieres.org/wp-content/uploads/2025/05/declinaisons-RS-et-site-03-1.jpg
END:VEVENT
BEGIN:VEVENT
DTSTART;TZID=Europe/Paris:20250613T183000
DTEND;TZID=Europe/Paris:20250613T203000
DTSTAMP:20260423T145349
CREATED:20250528T080048Z
LAST-MODIFIED:20250606T090640Z
UID:125835-1749839400-1749846600@www.eyguieres.org
SUMMARY:13 juin 2025   Roulotte à jeux - Médiathèque d'Eyguières
DESCRIPTION:♟️🃏🎲[LUDOTHÈQUE ITINÉRANTE] 🎲🃏♟️ \n👋 𝗩𝗘𝗡𝗘𝗭 𝗝𝗢𝗨𝗘𝗥 𝗔𝗩𝗘𝗖 𝗡𝗢𝗨𝗦 ☺️ \n👉 La ludothèque  » 𝑳𝒂 𝑹𝒐𝒖𝒍𝒐𝒕𝒕𝒆 𝒂̀ 𝑱𝒆𝒖𝒙  » est ouverte à tous\, que ce soit aux familles\, aux groupes d’amis ou aux associations. \n_________________________ \n📅 𝐕𝐞𝐧𝐝𝐫𝐞𝐝𝐢 𝟏𝟑 𝐣𝐮𝐢𝐧 𝟐𝟎𝟐𝟓\n🕡 À 18h30\n📍 Au Moulin de l’Alcazar \n_________________________ \n👉 𝐀𝐮 𝐩𝐫𝐨𝐠𝐫𝐚𝐦𝐦𝐞\n🙌 Accueil et convivialité\n🧩 Activités ludiques\n🙋‍♀️ Rencontres et partages \n❗ 𝗚𝗥𝗔𝗧𝗨𝗜𝗧𝗦 ❗ \n👉 𝐋𝐚 𝐑𝐨𝐮𝐥𝐨𝐭𝐭𝐞 𝐚̀ 𝐣𝐞𝐮𝐱 est une ludothèque itinérante\, gérée par le SIVU Collines Durance\, les villes de Sénas et 𝗘𝘆𝗴𝘂𝗶𝗲̀𝗿𝗲𝘀 et en partenariat avec l’association Pile et Face. \n  \n \n 
URL:https://www.eyguieres.org/evenements/13-juin-2025-roulotte-a-jeux-mediatheque-deyguieres/
LOCATION:Moulin de l’Alcazar\, EYGUIERES\, 13430
CATEGORIES:Local,Médiathèque
ATTACH;FMTTYPE=image/jpeg:https://www.eyguieres.org/wp-content/uploads/2025/06/evenement-facebook-et-site-RVB-01.jpg
END:VEVENT
BEGIN:VEVENT
DTSTART;TZID=Europe/Paris:20250613T190000
DTEND;TZID=Europe/Paris:20250614T000000
DTSTAMP:20260423T145349
CREATED:20250529T050043Z
LAST-MODIFIED:20250612T122548Z
UID:125851-1749841200-1749859200@www.eyguieres.org
SUMMARY:13 juin 2025  Les Vendredi Du CNGT - CNGT Des Alpilles
DESCRIPTION:🎾 [𝗟𝗘𝗦 𝗩𝗘𝗡𝗗𝗥𝗘𝗗𝗜 𝗗𝗨 𝗖𝗡𝗚𝗧 – 𝗖𝗡𝗚𝗧 𝗗𝗘𝗦 𝗔𝗟𝗣𝗜𝗟𝗟𝗘𝗦] 🎾 \n📣 Retrouvez Les Vendredi du CNGT\, organisés par la CNGT des Alpilles. \n📆 Vendredi 13 juin 2025\n🕛 De 19h à 00h\n📍 Complexe sportif Mas Precatori\, Eyguières \n➡️ Au programme \n🌭 Barbecue grillades\n🎤 Music by Lucas
URL:https://www.eyguieres.org/evenements/13-juin-2025-les-vendredi-du-cngt-cngt-des-alpilles/
LOCATION:Complexe sportif Mas Precatori
CATEGORIES:Local,Sport
ATTACH;FMTTYPE=image/jpeg:https://www.eyguieres.org/wp-content/uploads/2025/06/Les-vendredis-de-la-CNGT.jpg
END:VEVENT
END:VCALENDAR