BEGIN:VCALENDAR
VERSION:2.0
PRODID:-//Eyguières Les Alpilles - ECPv6.15.16//NONSGML v1.0//EN
CALSCALE:GREGORIAN
METHOD:PUBLISH
X-WR-CALNAME:Eyguières Les Alpilles
X-ORIGINAL-URL:https://www.eyguieres.org
X-WR-CALDESC:Évènements pour Eyguières Les Alpilles
REFRESH-INTERVAL;VALUE=DURATION:PT1H
X-Robots-Tag:noindex
X-PUBLISHED-TTL:PT1H
BEGIN:VTIMEZONE
TZID:Europe/Paris
BEGIN:DAYLIGHT
TZOFFSETFROM:+0100
TZOFFSETTO:+0200
TZNAME:CEST
DTSTART:20240331T010000
END:DAYLIGHT
BEGIN:STANDARD
TZOFFSETFROM:+0200
TZOFFSETTO:+0100
TZNAME:CET
DTSTART:20241027T010000
END:STANDARD
BEGIN:DAYLIGHT
TZOFFSETFROM:+0100
TZOFFSETTO:+0200
TZNAME:CEST
DTSTART:20250330T010000
END:DAYLIGHT
BEGIN:STANDARD
TZOFFSETFROM:+0200
TZOFFSETTO:+0100
TZNAME:CET
DTSTART:20251026T010000
END:STANDARD
BEGIN:DAYLIGHT
TZOFFSETFROM:+0100
TZOFFSETTO:+0200
TZNAME:CEST
DTSTART:20260329T010000
END:DAYLIGHT
BEGIN:STANDARD
TZOFFSETFROM:+0200
TZOFFSETTO:+0100
TZNAME:CET
DTSTART:20261025T010000
END:STANDARD
END:VTIMEZONE
BEGIN:VEVENT
DTSTART;TZID=Europe/Paris:20250530T103000
DTEND;TZID=Europe/Paris:20250627T180000
DTSTAMP:20260423T132657
CREATED:20250517T060011Z
LAST-MODIFIED:20250528T100201Z
UID:125479-1748601000-1751047200@www.eyguieres.org
SUMMARY:Du 30 mai au 27 juin 2025  15ème édition - Tournoi de tennis - CNGT Des Alpilles
DESCRIPTION:🎾 [𝟭𝟱𝗘̀𝗠𝗘 𝗘́𝗗𝗜𝗧𝗜𝗢𝗡 – 𝗧𝗢𝗨𝗥𝗡𝗢𝗜 𝗗𝗘 𝗧𝗘𝗡𝗡𝗜𝗦 – 𝗖𝗡𝗚𝗧 𝗗𝗘𝗦 𝗔𝗟𝗣𝗜𝗟𝗟𝗘𝗦 ] 🎾 \n📣 La CNGT Des Alpilles organise la 15ème édition de son tournoi de tennis. \n📆 Du 30 mai au 27 juin 2025\n📍 Complexe sportif Mas Precatori\, Eyguières \n➡️ Des matchs de haut niveau \n🎫 Entrée gratuite – ouvert à tous \n🌅 Et lorsque que le soleil se couche\, place aux soirées organisées par le club et ses nombreux bénévoles 🥂 \nℹ️ Inscription des joueurs sur Ten’up
URL:https://www.eyguieres.org/evenements/du-30-mai-au-27-juin-2025-15eme-edition-tournoi-de-tennis-cngt-des-alpilles/
LOCATION:Complexe sportif Mas Precatori
CATEGORIES:Local,Sport
ATTACH;FMTTYPE=image/jpeg:https://www.eyguieres.org/wp-content/uploads/2025/05/Tournoi-de-tennis-cngt-des-alpilles-scaled.jpg
END:VEVENT
BEGIN:VEVENT
DTSTART;TZID=Europe/Paris:20250604T100000
DTEND;TZID=Europe/Paris:20250621T190000
DTSTAMP:20260423T132657
CREATED:20250520T060025Z
LAST-MODIFIED:20250604T081613Z
UID:125772-1749031200-1750532400@www.eyguieres.org
SUMMARY:Du 4 au 21 juin 2025  Exposition Papiers Collés - Ateliers Agora
DESCRIPTION:✨ [𝗘𝗫𝗣𝗢𝗦𝗜𝗧𝗜𝗢𝗡 𝗣𝗔𝗣𝗜𝗘𝗥𝗦 𝗖𝗢𝗟𝗟𝗘́𝗦 – 𝗔𝗧𝗘𝗟𝗜𝗘𝗥𝗦 𝗔𝗚𝗢𝗥𝗔] ✨ \n📣 Les Ateliers Agora vous invitent à découvrir leur nouvelle exposition Papiers Collés\, qui met en lumière cinq artistes qui réinventent cette pratique à travers des univers. \n👉 Venez découvrir les œuvres de Sylhène Ferrier\, Phosi\, Stephanie Chahinian\, Julink et Pierrette Prophète. \n𝗘𝗫𝗣𝗢𝗦𝗜𝗧𝗜𝗢𝗡\n📅 Du 4 au 21 juin 2025\n📍 2 Place Thiers \n𝗩𝗘𝗥𝗡𝗜𝗦𝗦𝗔𝗚𝗘\n📅 Vendredi 6 juin 2025\n🕛 À 18h30\n📍 2 Place Thiers \nPour plus d’informations 👇\n✉️ galerie@ateliers-agora.fr 📞 06.60.64.07.54
URL:https://www.eyguieres.org/evenements/du-4-au-21-juin-2025-exposition-papiers-colles-ateliers-agora/
LOCATION:Ateliers Agora\, Place Thiers\, EYGUIERES\, 13430
CATEGORIES:Évènements de la commune,Local
ATTACH;FMTTYPE=image/jpeg:https://www.eyguieres.org/wp-content/uploads/2025/06/Exposition-Ateliers-Agora-scaled.jpg
END:VEVENT
BEGIN:VEVENT
DTSTART;TZID=Europe/Paris:20250610T100000
DTEND;TZID=Europe/Paris:20250712T170000
DTSTAMP:20260423T132657
CREATED:20250525T070048Z
LAST-MODIFIED:20250605T094958Z
UID:125815-1749549600-1752339600@www.eyguieres.org
SUMMARY:Du 10 juin au 12 juillet 2025   Exposition "Emotion Paysages" par Michelle Picca Angers - Médiathèque d'Eyguières
DESCRIPTION:🏞️ [𝗘𝗫𝗣𝗢𝗦𝗜𝗧𝗜𝗢𝗡 « 𝗘𝗠𝗢𝗧𝗜𝗢𝗡𝗦 𝗣𝗔𝗬𝗦𝗔𝗚𝗘𝗦 » 𝗣𝗔𝗥 𝗠𝗜𝗖𝗛𝗘𝗟𝗟𝗘 𝗣𝗜𝗖𝗖𝗔 𝗔𝗡𝗚𝗘𝗥𝗦 – 𝗠𝗘́𝗗𝗜𝗔𝗧𝗛𝗘̀𝗤𝗨𝗘 𝗗’𝗘𝗬𝗚𝗨𝗜𝗘̀𝗥𝗘𝗦] 🏞️ \n👉 La Médiathèque d’Eyguières accueille Michelle Picca Angers pour son exposition « Émotions Paysages » ✨ \n𝗘𝗫𝗣𝗢𝗦𝗜𝗧𝗜𝗢𝗡\n📅 Du 10 juin au 12 juillet 2025 \n𝗩𝗘𝗥𝗡𝗜𝗦𝗦𝗔𝗚𝗘\n📅 Vendredi 13 juin  2025\n🕛 19h00 \n📍 à la Médiathèque d’Eyguières \nℹ️ Pour plus d’informations 👇\n📞 04 90 57 94 62\n📧 mediatheque@mairie-eyguieres.fr \n \n 
URL:https://www.eyguieres.org/evenements/du-10-juin-au-12-juillet-2025-exposition-emotion-paysages-par-michelle-picca-angers-mediatheque-deyguieres/
LOCATION:Médiathèque\, 21 Rue Rabaud St Étienne\, Eyguières\, 13430
CATEGORIES:Local,Médiathèque
ATTACH;FMTTYPE=image/jpeg:https://www.eyguieres.org/wp-content/uploads/2025/06/Exposition-mediatheque-scaled.jpg
END:VEVENT
BEGIN:VEVENT
DTSTART;TZID=Europe/Paris:20250614T100000
DTEND;TZID=Europe/Paris:20250614T120000
DTSTAMP:20260423T132657
CREATED:20250529T060035Z
LAST-MODIFIED:20250605T100807Z
UID:125810-1749895200-1749902400@www.eyguieres.org
SUMMARY:14 juin 2025  Rencontre et dédicace - Claude Siméon
DESCRIPTION:✨ [𝗥𝗘𝗡𝗖𝗢𝗡𝗧𝗥𝗘 𝗘𝗧 𝗗𝗘́𝗗𝗜𝗖𝗔𝗖𝗘 – 𝗖𝗟𝗔𝗨𝗗𝗘 𝗦𝗜𝗠𝗘́𝗢𝗡] ✨ \n📣 L’Ateliers Agora a le plaisir d’accueillir Claude Siméon\, pour son livre « Herbier des collines et des chemins ». \n📅 Samedi 14 juin 2025\n🕛 De 10h à 12h\n📍 Ateliers Agora \nPour plus d’informations 👇 \n📞 06 60 64 07 54 📧 librairie@ateliers-agora.fr \n 
URL:https://www.eyguieres.org/evenements/14-juin-2025-rencontre-et-dedicace-claude-simeon/
LOCATION:Ateliers Agora\, Place Thiers\, EYGUIERES\, 13430
CATEGORIES:Culture,Local
ATTACH;FMTTYPE=image/jpeg:https://www.eyguieres.org/wp-content/uploads/2025/06/Rencontre-et-dedicace-ateliers-agora-scaled.jpg
END:VEVENT
BEGIN:VEVENT
DTSTART;TZID=Europe/Paris:20250614T100000
DTEND;TZID=Europe/Paris:20250614T120000
DTSTAMP:20260423T132657
CREATED:20250529T070014Z
LAST-MODIFIED:20250606T092246Z
UID:125832-1749895200-1749902400@www.eyguieres.org
SUMMARY:14 juin 2025   Découverte des échecs
DESCRIPTION:♟️[𝗗𝗘́𝗖𝗢𝗨𝗩𝗘𝗥𝗧𝗘 𝗗𝗘𝗦 𝗘́𝗖𝗛𝗘𝗖𝗦]♟️ \n📅 Samedi 14 juin 2025\n🕐 De 10h à 12h\n📍 À la Médiathèque d’Eyguières \n👉 Ouvert à tous \nℹ️ Inscription conseillée 👇 \n📞 04 90 57 94 62\n📧 mediatheque@mairie-eyguieres.fr
URL:https://www.eyguieres.org/evenements/14-juin-2025-decouverte-des-echecs/
LOCATION:Médiathèque\, 21 Rue Rabaud St Étienne\, Eyguières\, 13430
CATEGORIES:Local,Médiathèque
ATTACH;FMTTYPE=image/jpeg:https://www.eyguieres.org/wp-content/uploads/2025/06/EVENEMENT-mediatheque-Juin-2025-04.jpg
END:VEVENT
BEGIN:VEVENT
DTSTART;TZID=Europe/Paris:20250614T150000
DTEND;TZID=Europe/Paris:20250614T170000
DTSTAMP:20260423T132657
CREATED:20250529T080053Z
LAST-MODIFIED:20250606T092302Z
UID:125753-1749913200-1749920400@www.eyguieres.org
SUMMARY:14 juin 2025  Atelier café tricot aux Ateliers Agora
DESCRIPTION:🧶 [𝗔𝗧𝗘𝗟𝗜𝗘𝗥 𝗖𝗔𝗙𝗘́ 𝗧𝗥𝗜𝗖𝗢𝗧] 🧶 \n📣 L’Atelier Agora vous invite à découvrir son atelier Café Tricot\, animé par Maryse et Carole ✨ \n👉 Que vous soyez débutant·e ou confirmé·e\, Maryse et Carole seront là pour vous guider avec conseils\, astuces et bonne humeur 😁 \n📅 Samedi 14 juin 2025\n🕒 De 15h à 17h\n📍 2 place Thiers \n📣 Retrouvez les ateliers 2 samedis par mois 😃 \n🧵 Pensez à apporter votre matériel\n🎟️ Adhésion à l’association : 20 € par an \n❗ Inscription obligatoire ❗ \nℹ️ Renseignements et inscriptions 👇\n📧 librairie@ateliers-agora.fr ☎️ 06 60 64 07 54
URL:https://www.eyguieres.org/evenements/14-juin-2025-atelier-cafe-tricot-aux-ateliers-agora/
LOCATION:Ateliers Agora\, Place Thiers\, EYGUIERES\, 13430
CATEGORIES:Local
ATTACH;FMTTYPE=image/jpeg:https://www.eyguieres.org/wp-content/uploads/2025/04/Atelier-Cafe-Tricot-Ateliers-Agora-scaled.jpg
END:VEVENT
BEGIN:VEVENT
DTSTART;TZID=Europe/Paris:20250614T150000
DTEND;TZID=Europe/Paris:20250614T210000
DTSTAMP:20260423T132657
CREATED:20250529T090028Z
LAST-MODIFIED:20250606T092308Z
UID:125758-1749913200-1749934800@www.eyguieres.org
SUMMARY:14 juin 2025   Fête des A.I.L - Association A.I.L d'Eyguières
DESCRIPTION:📣[𝗙𝗘̂𝗧𝗘 𝗗𝗘𝗦 𝗔.𝗜.𝗟 – 𝗔𝗦𝗦𝗢𝗖𝗜𝗔𝗧𝗜𝗢𝗡 𝗔.𝗜.𝗟 𝗗’𝗘𝗬𝗚𝗨𝗜𝗘̀𝗥𝗘𝗦] 📣 \n👉 L’Association A.I.L d’Eyguières vous donne rendez-vous à la fête des A.I.L 👉 𝗹𝗲 𝗦𝗮𝗺𝗲𝗱𝗶 𝟭𝟰 𝗝𝘂𝗶𝗻 𝟮𝟬𝟮𝟱 \n✨ 𝘈𝘶 𝘱𝘳𝘰𝘨𝘳𝘢𝘮𝘮𝘦 👇 \n🤸‍♀️ 𝗗𝗲 𝗹𝗮 𝗴𝘆𝗺𝗻𝗮𝘀𝘁𝗶𝗾𝘂𝗲 𝗮𝗿𝘁𝗶𝘀𝘁𝗶𝗾𝘂𝗲\n🕝 À 15h00\n📍 Au complexe sportif du Mas de Barreau\n🎫 Entrée 3€ \n💃🕺𝗚𝗮𝗹𝗮 𝗱𝗲 𝗗𝗮𝗻𝘀𝗲\, 𝗞’𝗠𝗼𝘂𝘃\, 𝗭𝘂𝗺𝗯𝗮\, 𝗬𝗼𝗴𝗮 𝗲𝗻𝗳𝗮𝗻𝘁\n🕝 À 19h00\n📍 Arènes Chabaud\n🎫 Entrée 5€ \nℹ️ Gratuit pour les -10ans
URL:https://www.eyguieres.org/evenements/14-juin-2025-fete-des-a-i-l-association-a-i-l-deyguieres/
CATEGORIES:Évènements de la commune,Local
ATTACH;FMTTYPE=image/jpeg:https://www.eyguieres.org/wp-content/uploads/2025/05/Fete-AIL-01-scaled.jpg
END:VEVENT
END:VCALENDAR