BEGIN:VCALENDAR
VERSION:2.0
PRODID:-//Eyguières Les Alpilles - ECPv6.15.16//NONSGML v1.0//EN
CALSCALE:GREGORIAN
METHOD:PUBLISH
X-WR-CALNAME:Eyguières Les Alpilles
X-ORIGINAL-URL:https://www.eyguieres.org
X-WR-CALDESC:Évènements pour Eyguières Les Alpilles
REFRESH-INTERVAL;VALUE=DURATION:PT1H
X-Robots-Tag:noindex
X-PUBLISHED-TTL:PT1H
BEGIN:VTIMEZONE
TZID:Europe/Paris
BEGIN:DAYLIGHT
TZOFFSETFROM:+0100
TZOFFSETTO:+0200
TZNAME:CEST
DTSTART:20240331T010000
END:DAYLIGHT
BEGIN:STANDARD
TZOFFSETFROM:+0200
TZOFFSETTO:+0100
TZNAME:CET
DTSTART:20241027T010000
END:STANDARD
BEGIN:DAYLIGHT
TZOFFSETFROM:+0100
TZOFFSETTO:+0200
TZNAME:CEST
DTSTART:20250330T010000
END:DAYLIGHT
BEGIN:STANDARD
TZOFFSETFROM:+0200
TZOFFSETTO:+0100
TZNAME:CET
DTSTART:20251026T010000
END:STANDARD
BEGIN:DAYLIGHT
TZOFFSETFROM:+0100
TZOFFSETTO:+0200
TZNAME:CEST
DTSTART:20260329T010000
END:DAYLIGHT
BEGIN:STANDARD
TZOFFSETFROM:+0200
TZOFFSETTO:+0100
TZNAME:CET
DTSTART:20261025T010000
END:STANDARD
END:VTIMEZONE
BEGIN:VEVENT
DTSTART;TZID=Europe/Paris:20250530T103000
DTEND;TZID=Europe/Paris:20250627T180000
DTSTAMP:20260423T115831
CREATED:20250517T060011Z
LAST-MODIFIED:20250528T100201Z
UID:125479-1748601000-1751047200@www.eyguieres.org
SUMMARY:Du 30 mai au 27 juin 2025  15ème édition - Tournoi de tennis - CNGT Des Alpilles
DESCRIPTION:🎾 [𝟭𝟱𝗘̀𝗠𝗘 𝗘́𝗗𝗜𝗧𝗜𝗢𝗡 – 𝗧𝗢𝗨𝗥𝗡𝗢𝗜 𝗗𝗘 𝗧𝗘𝗡𝗡𝗜𝗦 – 𝗖𝗡𝗚𝗧 𝗗𝗘𝗦 𝗔𝗟𝗣𝗜𝗟𝗟𝗘𝗦 ] 🎾 \n📣 La CNGT Des Alpilles organise la 15ème édition de son tournoi de tennis. \n📆 Du 30 mai au 27 juin 2025\n📍 Complexe sportif Mas Precatori\, Eyguières \n➡️ Des matchs de haut niveau \n🎫 Entrée gratuite – ouvert à tous \n🌅 Et lorsque que le soleil se couche\, place aux soirées organisées par le club et ses nombreux bénévoles 🥂 \nℹ️ Inscription des joueurs sur Ten’up
URL:https://www.eyguieres.org/evenements/du-30-mai-au-27-juin-2025-15eme-edition-tournoi-de-tennis-cngt-des-alpilles/
LOCATION:Complexe sportif Mas Precatori
CATEGORIES:Local,Sport
ATTACH;FMTTYPE=image/jpeg:https://www.eyguieres.org/wp-content/uploads/2025/05/Tournoi-de-tennis-cngt-des-alpilles-scaled.jpg
END:VEVENT
BEGIN:VEVENT
DTSTART;TZID=Europe/Paris:20250604T100000
DTEND;TZID=Europe/Paris:20250621T190000
DTSTAMP:20260423T115831
CREATED:20250520T060025Z
LAST-MODIFIED:20250604T081613Z
UID:125772-1749031200-1750532400@www.eyguieres.org
SUMMARY:Du 4 au 21 juin 2025  Exposition Papiers Collés - Ateliers Agora
DESCRIPTION:✨ [𝗘𝗫𝗣𝗢𝗦𝗜𝗧𝗜𝗢𝗡 𝗣𝗔𝗣𝗜𝗘𝗥𝗦 𝗖𝗢𝗟𝗟𝗘́𝗦 – 𝗔𝗧𝗘𝗟𝗜𝗘𝗥𝗦 𝗔𝗚𝗢𝗥𝗔] ✨ \n📣 Les Ateliers Agora vous invitent à découvrir leur nouvelle exposition Papiers Collés\, qui met en lumière cinq artistes qui réinventent cette pratique à travers des univers. \n👉 Venez découvrir les œuvres de Sylhène Ferrier\, Phosi\, Stephanie Chahinian\, Julink et Pierrette Prophète. \n𝗘𝗫𝗣𝗢𝗦𝗜𝗧𝗜𝗢𝗡\n📅 Du 4 au 21 juin 2025\n📍 2 Place Thiers \n𝗩𝗘𝗥𝗡𝗜𝗦𝗦𝗔𝗚𝗘\n📅 Vendredi 6 juin 2025\n🕛 À 18h30\n📍 2 Place Thiers \nPour plus d’informations 👇\n✉️ galerie@ateliers-agora.fr 📞 06.60.64.07.54
URL:https://www.eyguieres.org/evenements/du-4-au-21-juin-2025-exposition-papiers-colles-ateliers-agora/
LOCATION:Ateliers Agora\, Place Thiers\, EYGUIERES\, 13430
CATEGORIES:Évènements de la commune,Local
ATTACH;FMTTYPE=image/jpeg:https://www.eyguieres.org/wp-content/uploads/2025/06/Exposition-Ateliers-Agora-scaled.jpg
END:VEVENT
BEGIN:VEVENT
DTSTART;TZID=Europe/Paris:20250610T100000
DTEND;TZID=Europe/Paris:20250712T170000
DTSTAMP:20260423T115831
CREATED:20250525T070048Z
LAST-MODIFIED:20250605T094958Z
UID:125815-1749549600-1752339600@www.eyguieres.org
SUMMARY:Du 10 juin au 12 juillet 2025   Exposition "Emotion Paysages" par Michelle Picca Angers - Médiathèque d'Eyguières
DESCRIPTION:🏞️ [𝗘𝗫𝗣𝗢𝗦𝗜𝗧𝗜𝗢𝗡 « 𝗘𝗠𝗢𝗧𝗜𝗢𝗡𝗦 𝗣𝗔𝗬𝗦𝗔𝗚𝗘𝗦 » 𝗣𝗔𝗥 𝗠𝗜𝗖𝗛𝗘𝗟𝗟𝗘 𝗣𝗜𝗖𝗖𝗔 𝗔𝗡𝗚𝗘𝗥𝗦 – 𝗠𝗘́𝗗𝗜𝗔𝗧𝗛𝗘̀𝗤𝗨𝗘 𝗗’𝗘𝗬𝗚𝗨𝗜𝗘̀𝗥𝗘𝗦] 🏞️ \n👉 La Médiathèque d’Eyguières accueille Michelle Picca Angers pour son exposition « Émotions Paysages » ✨ \n𝗘𝗫𝗣𝗢𝗦𝗜𝗧𝗜𝗢𝗡\n📅 Du 10 juin au 12 juillet 2025 \n𝗩𝗘𝗥𝗡𝗜𝗦𝗦𝗔𝗚𝗘\n📅 Vendredi 13 juin  2025\n🕛 19h00 \n📍 à la Médiathèque d’Eyguières \nℹ️ Pour plus d’informations 👇\n📞 04 90 57 94 62\n📧 mediatheque@mairie-eyguieres.fr \n \n 
URL:https://www.eyguieres.org/evenements/du-10-juin-au-12-juillet-2025-exposition-emotion-paysages-par-michelle-picca-angers-mediatheque-deyguieres/
LOCATION:Médiathèque\, 21 Rue Rabaud St Étienne\, Eyguières\, 13430
CATEGORIES:Local,Médiathèque
ATTACH;FMTTYPE=image/jpeg:https://www.eyguieres.org/wp-content/uploads/2025/06/Exposition-mediatheque-scaled.jpg
END:VEVENT
END:VCALENDAR