BEGIN:VCALENDAR
VERSION:2.0
PRODID:-//Eyguières Les Alpilles - ECPv6.15.16//NONSGML v1.0//EN
CALSCALE:GREGORIAN
METHOD:PUBLISH
X-WR-CALNAME:Eyguières Les Alpilles
X-ORIGINAL-URL:https://www.eyguieres.org
X-WR-CALDESC:Évènements pour Eyguières Les Alpilles
REFRESH-INTERVAL;VALUE=DURATION:PT1H
X-Robots-Tag:noindex
X-PUBLISHED-TTL:PT1H
BEGIN:VTIMEZONE
TZID:Europe/Paris
BEGIN:DAYLIGHT
TZOFFSETFROM:+0100
TZOFFSETTO:+0200
TZNAME:CEST
DTSTART:20240331T010000
END:DAYLIGHT
BEGIN:STANDARD
TZOFFSETFROM:+0200
TZOFFSETTO:+0100
TZNAME:CET
DTSTART:20241027T010000
END:STANDARD
BEGIN:DAYLIGHT
TZOFFSETFROM:+0100
TZOFFSETTO:+0200
TZNAME:CEST
DTSTART:20250330T010000
END:DAYLIGHT
BEGIN:STANDARD
TZOFFSETFROM:+0200
TZOFFSETTO:+0100
TZNAME:CET
DTSTART:20251026T010000
END:STANDARD
BEGIN:DAYLIGHT
TZOFFSETFROM:+0100
TZOFFSETTO:+0200
TZNAME:CEST
DTSTART:20260329T010000
END:DAYLIGHT
BEGIN:STANDARD
TZOFFSETFROM:+0200
TZOFFSETTO:+0100
TZNAME:CET
DTSTART:20261025T010000
END:STANDARD
END:VTIMEZONE
BEGIN:VEVENT
DTSTART;TZID=Europe/Paris:20250610T100000
DTEND;TZID=Europe/Paris:20250712T170000
DTSTAMP:20260423T103643
CREATED:20250525T070048Z
LAST-MODIFIED:20250605T094958Z
UID:125815-1749549600-1752339600@www.eyguieres.org
SUMMARY:Du 10 juin au 12 juillet 2025   Exposition "Emotion Paysages" par Michelle Picca Angers - Médiathèque d'Eyguières
DESCRIPTION:🏞️ [𝗘𝗫𝗣𝗢𝗦𝗜𝗧𝗜𝗢𝗡 « 𝗘𝗠𝗢𝗧𝗜𝗢𝗡𝗦 𝗣𝗔𝗬𝗦𝗔𝗚𝗘𝗦 » 𝗣𝗔𝗥 𝗠𝗜𝗖𝗛𝗘𝗟𝗟𝗘 𝗣𝗜𝗖𝗖𝗔 𝗔𝗡𝗚𝗘𝗥𝗦 – 𝗠𝗘́𝗗𝗜𝗔𝗧𝗛𝗘̀𝗤𝗨𝗘 𝗗’𝗘𝗬𝗚𝗨𝗜𝗘̀𝗥𝗘𝗦] 🏞️ \n👉 La Médiathèque d’Eyguières accueille Michelle Picca Angers pour son exposition « Émotions Paysages » ✨ \n𝗘𝗫𝗣𝗢𝗦𝗜𝗧𝗜𝗢𝗡\n📅 Du 10 juin au 12 juillet 2025 \n𝗩𝗘𝗥𝗡𝗜𝗦𝗦𝗔𝗚𝗘\n📅 Vendredi 13 juin  2025\n🕛 19h00 \n📍 à la Médiathèque d’Eyguières \nℹ️ Pour plus d’informations 👇\n📞 04 90 57 94 62\n📧 mediatheque@mairie-eyguieres.fr \n \n 
URL:https://www.eyguieres.org/evenements/du-10-juin-au-12-juillet-2025-exposition-emotion-paysages-par-michelle-picca-angers-mediatheque-deyguieres/
LOCATION:Médiathèque\, 21 Rue Rabaud St Étienne\, Eyguières\, 13430
CATEGORIES:Local,Médiathèque
ATTACH;FMTTYPE=image/jpeg:https://www.eyguieres.org/wp-content/uploads/2025/06/Exposition-mediatheque-scaled.jpg
END:VEVENT
BEGIN:VEVENT
DTSTART;TZID=Europe/Paris:20250623T183000
DTEND;TZID=Europe/Paris:20250630T220000
DTSTAMP:20260423T103643
CREATED:20250605T060019Z
LAST-MODIFIED:20250618T091638Z
UID:125905-1750703400-1751320800@www.eyguieres.org
SUMMARY:Du 23 au 30 juin 2025  Les estivales musicales 2025 - École de musique d'Eyguières
DESCRIPTION:🪈[𝗟𝗘𝗦 𝗘𝗦𝗧𝗜𝗩𝗔𝗟𝗘𝗦 𝗠𝗨𝗦𝗜𝗖𝗔𝗟𝗘𝗦 𝟮𝟬𝟮𝟱 – 𝗘́𝗖𝗢𝗟𝗘 𝗗𝗘 𝗠𝗨𝗦𝗜𝗤𝗨𝗘 𝗗’𝗘𝗬𝗚𝗨𝗜𝗘̀𝗥𝗘𝗦]🪈 \nL’école de musique d’Eyguières vous invite aux Estivales Musicales 2025. \n👉 Au programme \n📆 Lundi 23 juin 2025 \n𝗘𝗻 𝗮-𝘃𝗲𝗻𝘁𝘀 !\n𝘊𝘭𝘢𝘳𝘪𝘯𝘦𝘵𝘵𝘦𝘴 / 𝘦𝘯𝘴𝘦𝘮𝘣𝘭𝘦 𝘥𝘦 𝘷𝘦𝘯𝘵𝘴\n🕖 À 18h30\n📍Grenier de l’Alcazar\, Eyguières  \n📆 Mercredi 25  juin 2025 \n𝗦𝗰𝗲̀𝗻𝗲 𝗼𝘂𝘃𝗲𝗿𝘁𝗲 (𝗺𝘂𝘀𝗶𝗾𝘂𝗲𝘀 𝗮𝗰𝘁𝘂𝗲𝗹𝗹𝗲𝘀\, 𝗳𝗼𝗹𝗸𝗯𝗮𝗻𝗱…)\n🕖 À partir de 18h30\n📍Théâtre de Verdure\, Eyguières  \n𝗖𝗵𝗼𝗿𝗮𝗹𝗲𝘀\n𝘓’𝘢𝘪𝘳 𝘥𝘦 𝘳𝘪𝘦𝘯 »\, & 𝘊𝘩𝘰𝘦𝘶𝘳 𝘥’𝘦𝘯𝘧𝘢𝘯𝘵𝘴\, 𝘥𝘪𝘳. 𝘒𝘢𝘳𝘪𝘯𝘦 𝘔𝘢𝘨𝘯𝘦𝘵𝘵𝘰\n🕖 20h45\n📍Théâtre de Verdure\, Eyguières  \n📆 Samedi 28  juin 2025 \n𝗖𝗼𝗻𝗰𝗲𝗿𝘁 𝗶𝗺𝗽𝗿𝗼𝗺𝗽𝘁𝘂\n𝘗𝘪𝘢𝘯𝘰\, 𝘧𝘭𝘶̂𝘵𝘦𝘴 𝘢̀ 𝘣𝘦𝘤…\n🕖 17h30\n📍Centre culturel \n📆 Lundi 30 juin 2025 \n𝗟’𝗮𝗿𝘁 𝗹𝘆𝗿𝗶𝗾𝘂𝗲 𝗮̀ 𝗹’𝗵𝗼𝗻𝗻𝗲𝘂𝗿\n𝘗𝘪𝘢𝘯𝘰 : 𝘊𝘭𝘢𝘪𝘳𝘦 𝘝𝘪𝘢𝘪𝘯\n🕖 19h00\n📍Grenier de l’Alcazar \n📆 Du 27 au 30 juin 2025\n𝗠𝗮𝘀𝘁𝗲𝗿-𝗰𝗹𝗮𝘀𝘀 𝗹𝘆𝗿𝗶𝗾𝘂𝗲 \nℹ️ Accès libre \nSONY DSC
URL:https://www.eyguieres.org/evenements/du-23-au-30-juin-2025-les-estivales-musicales-2025-ecole-de-musique-deyguieres/
CATEGORIES:Local
ATTACH;FMTTYPE=image/jpeg:https://www.eyguieres.org/wp-content/uploads/2025/06/Ecole-de-musique-deyguieres.jpg
END:VEVENT
BEGIN:VEVENT
DTSTART;TZID=Europe/Paris:20250625T100000
DTEND;TZID=Europe/Paris:20250713T190000
DTSTAMP:20260423T103643
CREATED:20250609T060059Z
LAST-MODIFIED:20250620T114808Z
UID:126069-1750845600-1752433200@www.eyguieres.org
SUMMARY:Du 25 juin au 13 juillet 2025  Exposition et vernissage ML’ Art Jeunes Talents 2025 - Ateliers Agora
DESCRIPTION:✨ [𝗘𝗫𝗣𝗢𝗦𝗜𝗧𝗜𝗢𝗡 𝗘𝗧 𝗩𝗘𝗥𝗡𝗜𝗦𝗦𝗔𝗚𝗘 𝗠𝗟’ 𝗔𝗥𝗧 𝗝𝗘𝗨𝗡𝗘𝗦 𝗧𝗔𝗟𝗘𝗡𝗧𝗦 𝟮𝟬𝟮𝟱 – 𝗔𝗧𝗘𝗟𝗜𝗘𝗥𝗦 𝗔𝗚𝗢𝗥𝗔] ✨ \n📣 Les Ateliers Agora vous invitent à découvrir une nouvelle édition de cette exposition collective en partenariat avec la Mission Locale du Pays Salonais et avec le soutien du Conseil Départemental des Bouches-du-Rhône et de la Caisse Locale du Crédit Agricole d’Eyguières. \n👉 Venez découvrir les œuvres de ces jeunes artistes\, explorer leurs univers et soutenir la jeunesse dans ce qu’elle a de plus vibrant : sa capacité à imaginer et à faire naître le monde de demain. \n📅 Du 25  juin au 13 juillet  2025\n📍 2 Place Thiers \n𝗩𝗘𝗥𝗡𝗜𝗦𝗦𝗔𝗚𝗘\n📅 Mercredi 25 juin 2025\n🕛 À 18h30\n📍 2 Place Thiers \nPour plus d’informations 👇\n✉️ galerie@ateliers-agora.fr 📞 06.60.64.07.54
URL:https://www.eyguieres.org/evenements/du-25-juin-au-13-juillet-2025-exposition-et-vernissage-ml-art-jeunes-talents-2025-ateliers-agora/
LOCATION:Ateliers Agora\, Place Thiers\, EYGUIERES\, 13430
CATEGORIES:Évènements de la commune,Local
ATTACH;FMTTYPE=image/jpeg:https://www.eyguieres.org/wp-content/uploads/2025/06/Exposition-et-vernissage-Ateliers-Agora.jpg
END:VEVENT
BEGIN:VEVENT
DTSTART;TZID=Europe/Paris:20250629T120000
DTEND;TZID=Europe/Paris:20250629T180000
DTSTAMP:20260423T103643
CREATED:20250613T070034Z
LAST-MODIFIED:20250626T140150Z
UID:125691-1751198400-1751220000@www.eyguieres.org
SUMMARY:29 juin 2025   Déjeuner Pétanque
DESCRIPTION:🥘[𝐃𝐄́𝐉𝐄𝐔𝐍𝐄𝐑 𝐏𝐄́𝐓𝐀𝐍𝐐𝐔𝐄]🥘 \nLa commune organise une 𝗗𝗔𝗨𝗕𝗘 𝐏𝐄́𝐓𝐀𝐍𝐐𝐔𝐄 ! \n📅 𝗗𝗶𝗺𝗮𝗻𝗰𝗵𝗲 𝟮𝟵 𝗷𝘂𝗶𝗻 𝟮𝟬𝟮𝟱\n📍 Au boulodrome \n🌧 Pour information\, en cas de mauvais temps\, le déjeuner paëlla pétanque sera déplacé au 📍 Moulin de l’Alcazar. \n‼️ Vous serez informé dans la matinée de dimanche. \n🕐 12h00 – 𝗗𝗮𝘂𝗯𝗲 𝗮𝘃𝗲𝗰 𝘂𝗻 𝗺𝗲𝗻𝘂 𝗰𝗼𝗺𝗽𝗹𝗲𝘁 🍷\n🕐 15h00 – 𝐂𝐨𝐧𝐜𝐨𝐮𝐫𝐬 𝐝𝐞 𝐩𝐞́𝐭𝐚𝐧𝐪𝐮𝐞 🎖️(Réserver aux adultes) \n🤩 Et pour animer cet événement\, une ambiance musicale avec DJ fera danser les petits comme les grands ! \n🎫 Tarif : 10€ \n❗Places limitées❗ \n➡️ Réservation\, règlement et retrait des tickets à l’accueil de la mairie \nℹ️ Renseignements au 04.90.59.88.00 \n 
URL:https://www.eyguieres.org/evenements/29-juin-2025-dejeuner-petanque/
LOCATION:Boulodrome\, eyguières\, Eyguières\, 13430
CATEGORIES:Évènements de la commune,Local,Sport
ATTACH;FMTTYPE=image/jpeg:https://www.eyguieres.org/wp-content/uploads/2025/06/declinaisons-RS-et-site-annule-03.jpg
END:VEVENT
BEGIN:VEVENT
DTSTART;TZID=Europe/Paris:20250629T163000
DTEND;TZID=Europe/Paris:20250629T193000
DTSTAMP:20260423T103643
CREATED:20250613T080051Z
LAST-MODIFIED:20250620T114635Z
UID:125641-1751214600-1751225400@www.eyguieres.org
SUMMARY:29 juin 2025   Course à l'avenir - 2ème série du Trident d’or
DESCRIPTION:🔱 [𝗖𝗢𝗨𝗥𝗦𝗘 𝗔̀ 𝗟’𝗔𝗩𝗘𝗡𝗜𝗥 – 𝟮𝗘̀𝗠𝗘 𝗦𝗘́𝗥𝗜𝗘 𝗗𝗨 𝗧𝗥𝗜𝗗𝗘𝗡𝗧 𝗗’𝗢𝗥]🔱 \n📆 Dimanche 29 juin 2025\n🕘 À 16h30\n📍 Aux Arènes d’Eyguieres \nEntrée : 10 euros\nEntrée 8 – 12 ans : 5 euros\nEntrée carte jeune FFCC / carte jeune MDJ : 2 euros \nBuvette sur place 🥤🍺 Ainsi que la confiserie Buffone 
URL:https://www.eyguieres.org/evenements/1-juin-2025-course-a-lavenir-1ere-journee-trophee-des-opies/
LOCATION:Arènes\, Chemin des Arènes\, EYGUIERES\, 13430\, France
CATEGORIES:Évènements de la commune,Local,Sport
ATTACH;FMTTYPE=image/jpeg:https://www.eyguieres.org/wp-content/uploads/2021/05/manifestation-taurine-01.jpg
END:VEVENT
END:VCALENDAR