BEGIN:VCALENDAR
VERSION:2.0
PRODID:-//Eyguières Les Alpilles - ECPv6.15.16//NONSGML v1.0//EN
CALSCALE:GREGORIAN
METHOD:PUBLISH
X-ORIGINAL-URL:https://www.eyguieres.org
X-WR-CALDESC:Évènements pour Eyguières Les Alpilles
REFRESH-INTERVAL;VALUE=DURATION:PT1H
X-Robots-Tag:noindex
X-PUBLISHED-TTL:PT1H
BEGIN:VTIMEZONE
TZID:Europe/Paris
BEGIN:DAYLIGHT
TZOFFSETFROM:+0100
TZOFFSETTO:+0200
TZNAME:CEST
DTSTART:20240331T010000
END:DAYLIGHT
BEGIN:STANDARD
TZOFFSETFROM:+0200
TZOFFSETTO:+0100
TZNAME:CET
DTSTART:20241027T010000
END:STANDARD
BEGIN:DAYLIGHT
TZOFFSETFROM:+0100
TZOFFSETTO:+0200
TZNAME:CEST
DTSTART:20250330T010000
END:DAYLIGHT
BEGIN:STANDARD
TZOFFSETFROM:+0200
TZOFFSETTO:+0100
TZNAME:CET
DTSTART:20251026T010000
END:STANDARD
BEGIN:DAYLIGHT
TZOFFSETFROM:+0100
TZOFFSETTO:+0200
TZNAME:CEST
DTSTART:20260329T010000
END:DAYLIGHT
BEGIN:STANDARD
TZOFFSETFROM:+0200
TZOFFSETTO:+0100
TZNAME:CET
DTSTART:20261025T010000
END:STANDARD
END:VTIMEZONE
BEGIN:VEVENT
DTSTART;TZID=Europe/Paris:20250610T100000
DTEND;TZID=Europe/Paris:20250712T170000
DTSTAMP:20260423T104004
CREATED:20250525T070048Z
LAST-MODIFIED:20250605T094958Z
UID:125815-1749549600-1752339600@www.eyguieres.org
SUMMARY:Du 10 juin au 12 juillet 2025   Exposition "Emotion Paysages" par Michelle Picca Angers - Médiathèque d'Eyguières
DESCRIPTION:🏞️ [𝗘𝗫𝗣𝗢𝗦𝗜𝗧𝗜𝗢𝗡 « 𝗘𝗠𝗢𝗧𝗜𝗢𝗡𝗦 𝗣𝗔𝗬𝗦𝗔𝗚𝗘𝗦 » 𝗣𝗔𝗥 𝗠𝗜𝗖𝗛𝗘𝗟𝗟𝗘 𝗣𝗜𝗖𝗖𝗔 𝗔𝗡𝗚𝗘𝗥𝗦 – 𝗠𝗘́𝗗𝗜𝗔𝗧𝗛𝗘̀𝗤𝗨𝗘 𝗗’𝗘𝗬𝗚𝗨𝗜𝗘̀𝗥𝗘𝗦] 🏞️ \n👉 La Médiathèque d’Eyguières accueille Michelle Picca Angers pour son exposition « Émotions Paysages » ✨ \n𝗘𝗫𝗣𝗢𝗦𝗜𝗧𝗜𝗢𝗡\n📅 Du 10 juin au 12 juillet 2025 \n𝗩𝗘𝗥𝗡𝗜𝗦𝗦𝗔𝗚𝗘\n📅 Vendredi 13 juin  2025\n🕛 19h00 \n📍 à la Médiathèque d’Eyguières \nℹ️ Pour plus d’informations 👇\n📞 04 90 57 94 62\n📧 mediatheque@mairie-eyguieres.fr \n \n 
URL:https://www.eyguieres.org/evenements/du-10-juin-au-12-juillet-2025-exposition-emotion-paysages-par-michelle-picca-angers-mediatheque-deyguieres/
LOCATION:Médiathèque\, 21 Rue Rabaud St Étienne\, Eyguières\, 13430
CATEGORIES:Local,Médiathèque
ATTACH;FMTTYPE=image/jpeg:https://www.eyguieres.org/wp-content/uploads/2025/06/Exposition-mediatheque-scaled.jpg
END:VEVENT
BEGIN:VEVENT
DTSTART;TZID=Europe/Paris:20250625T100000
DTEND;TZID=Europe/Paris:20250713T190000
DTSTAMP:20260423T104004
CREATED:20250609T060059Z
LAST-MODIFIED:20250620T114808Z
UID:126069-1750845600-1752433200@www.eyguieres.org
SUMMARY:Du 25 juin au 13 juillet 2025  Exposition et vernissage ML’ Art Jeunes Talents 2025 - Ateliers Agora
DESCRIPTION:✨ [𝗘𝗫𝗣𝗢𝗦𝗜𝗧𝗜𝗢𝗡 𝗘𝗧 𝗩𝗘𝗥𝗡𝗜𝗦𝗦𝗔𝗚𝗘 𝗠𝗟’ 𝗔𝗥𝗧 𝗝𝗘𝗨𝗡𝗘𝗦 𝗧𝗔𝗟𝗘𝗡𝗧𝗦 𝟮𝟬𝟮𝟱 – 𝗔𝗧𝗘𝗟𝗜𝗘𝗥𝗦 𝗔𝗚𝗢𝗥𝗔] ✨ \n📣 Les Ateliers Agora vous invitent à découvrir une nouvelle édition de cette exposition collective en partenariat avec la Mission Locale du Pays Salonais et avec le soutien du Conseil Départemental des Bouches-du-Rhône et de la Caisse Locale du Crédit Agricole d’Eyguières. \n👉 Venez découvrir les œuvres de ces jeunes artistes\, explorer leurs univers et soutenir la jeunesse dans ce qu’elle a de plus vibrant : sa capacité à imaginer et à faire naître le monde de demain. \n📅 Du 25  juin au 13 juillet  2025\n📍 2 Place Thiers \n𝗩𝗘𝗥𝗡𝗜𝗦𝗦𝗔𝗚𝗘\n📅 Mercredi 25 juin 2025\n🕛 À 18h30\n📍 2 Place Thiers \nPour plus d’informations 👇\n✉️ galerie@ateliers-agora.fr 📞 06.60.64.07.54
URL:https://www.eyguieres.org/evenements/du-25-juin-au-13-juillet-2025-exposition-et-vernissage-ml-art-jeunes-talents-2025-ateliers-agora/
LOCATION:Ateliers Agora\, Place Thiers\, EYGUIERES\, 13430
CATEGORIES:Évènements de la commune,Local
ATTACH;FMTTYPE=image/jpeg:https://www.eyguieres.org/wp-content/uploads/2025/06/Exposition-et-vernissage-Ateliers-Agora.jpg
END:VEVENT
BEGIN:VEVENT
DTSTART;TZID=Europe/Paris:20250710T093000
DTEND;TZID=Europe/Paris:20250710T120000
DTSTAMP:20260423T104004
CREATED:20250624T070022Z
LAST-MODIFIED:20250702T084406Z
UID:126107-1752139800-1752148800@www.eyguieres.org
SUMMARY:10 juillet 2025  Balades contées - Médiathèque d'Eyguières
DESCRIPTION:🍪[𝗕𝗔𝗟𝗔𝗗𝗘𝗦 𝗖𝗢𝗡𝗧𝗘́𝗘𝗦 – 𝗠𝗘́𝗗𝗜𝗔𝗧𝗛𝗘̀𝗤𝗨𝗘 𝗗’𝗘𝗬𝗚𝗨𝗜𝗘̀𝗥𝗘𝗦]🍪 \n👉 La médiathèque d’Eyguières vous invite à participer à une balade contée à travers Eyguières par Régine Bordonaro. \n📅 Jeudi 10 juillet 2025\n🕛 De 9h45 à 11h45 (départ à 10h pile )\n📍 Devant la médiathèque\, parc Recordier \n⏱️ Durée : 1h45 – environ 45 min de marche \n🌿 Parcours en 10 étapes\, parmi :\nParc Recordier\, Rue Viol de la Corse\, Lavoir\, Impasse des Platanes\, Fontaine Cocotte\, Au-dessus du Théâtre de verdure\, École de Musique\, Calvaire\, Église\, Théâtre de verdure (fin de la balade) ou Retour au Parc Recordier\, selon le timing pour la fin de la balade. \n🧒 Les enfants doivent être accompagnés\n👟 Prévoir chaussures confortables\, eau\, chapeau\, brumisateur… éventuellement un petit siège pliant pour ceux qui ne supportent pas trop longtemps la position debout.\n💨 En cas de mistral ou de pluie : repli à la médiathèque \nℹ️ Pour plus d’informations et/ou inscriptions 👇 \n📞 04 90 57 94 62\n📧 mediatheque@mairie-eyguieres.fr \n❗Gratuit – Réservation obligatoire❗
URL:https://www.eyguieres.org/evenements/10-juillet-2025-balades-contees-mediatheque-deyguieres/
LOCATION:Médiathèque\, 21 Rue Rabaud St Étienne\, Eyguières\, 13430
CATEGORIES:Local,Médiathèque
ATTACH;FMTTYPE=image/jpeg:https://www.eyguieres.org/wp-content/uploads/2025/06/Mediatheque-balade-contee.jpg
END:VEVENT
END:VCALENDAR