BEGIN:VCALENDAR
VERSION:2.0
PRODID:-//Eyguières Les Alpilles - ECPv6.15.16//NONSGML v1.0//EN
CALSCALE:GREGORIAN
METHOD:PUBLISH
X-ORIGINAL-URL:https://www.eyguieres.org
X-WR-CALDESC:Évènements pour Eyguières Les Alpilles
REFRESH-INTERVAL;VALUE=DURATION:PT1H
X-Robots-Tag:noindex
X-PUBLISHED-TTL:PT1H
BEGIN:VTIMEZONE
TZID:Europe/Paris
BEGIN:DAYLIGHT
TZOFFSETFROM:+0100
TZOFFSETTO:+0200
TZNAME:CEST
DTSTART:20240331T010000
END:DAYLIGHT
BEGIN:STANDARD
TZOFFSETFROM:+0200
TZOFFSETTO:+0100
TZNAME:CET
DTSTART:20241027T010000
END:STANDARD
BEGIN:DAYLIGHT
TZOFFSETFROM:+0100
TZOFFSETTO:+0200
TZNAME:CEST
DTSTART:20250330T010000
END:DAYLIGHT
BEGIN:STANDARD
TZOFFSETFROM:+0200
TZOFFSETTO:+0100
TZNAME:CET
DTSTART:20251026T010000
END:STANDARD
BEGIN:DAYLIGHT
TZOFFSETFROM:+0100
TZOFFSETTO:+0200
TZNAME:CEST
DTSTART:20260329T010000
END:DAYLIGHT
BEGIN:STANDARD
TZOFFSETFROM:+0200
TZOFFSETTO:+0100
TZNAME:CET
DTSTART:20261025T010000
END:STANDARD
END:VTIMEZONE
BEGIN:VEVENT
DTSTART;VALUE=DATE:20250715
DTEND;VALUE=DATE:20250716
DTSTAMP:20260423T120558
CREATED:20250629T070002Z
LAST-MODIFIED:20250709T110415Z
UID:126270-1752537600-1752623999@www.eyguieres.org
SUMMARY:15 juillet 2025  Café Lire
DESCRIPTION:📚[𝗖𝗔𝗙𝗘́ 𝗟𝗜𝗥𝗘]📚 \n📅 Mardi 15 juillet 2025\n🕐 De 10h à 12h\n📍 À la Médiathèque d’Eyguières \n❗Ouvert à tous❗ \n✅ Gratuit ✅ mais réservation conseillée \nℹ️ Pour plus d’informations et/ou inscriptions 👇\n📞 04 90 57 94 62\n📧 mediatheque@mairie-eyguieres.fr
URL:https://www.eyguieres.org/evenements/15-juillet-2025-cafe-lire/
LOCATION:Médiathèque\, 21 Rue Rabaud St Étienne\, Eyguières\, 13430
CATEGORIES:Local,Médiathèque
ATTACH;FMTTYPE=image/jpeg:https://www.eyguieres.org/wp-content/uploads/2025/07/EVENEMENT-mediatheque-Juillet-2025-04.jpg
END:VEVENT
BEGIN:VEVENT
DTSTART;TZID=Europe/Paris:20250715T100000
DTEND;TZID=Europe/Paris:20250720T190000
DTSTAMP:20260423T120558
CREATED:20250629T080048Z
LAST-MODIFIED:20250709T110422Z
UID:126442-1752573600-1753038000@www.eyguieres.org
SUMMARY:Du 15 au 20 juillet 2025  Exposition Céramique "Les Jours Heureux" - Ateliers Agora
DESCRIPTION:✨ [𝗘𝗫𝗣𝗢𝗦𝗜𝗧𝗜𝗢𝗡 𝗖𝗘́𝗥𝗔𝗠𝗜𝗤𝗨𝗘 « 𝗟𝗘𝗦 𝗝𝗢𝗨𝗥𝗦 𝗛𝗘𝗨𝗥𝗘𝗨𝗫 » – 𝗔𝗧𝗘𝗟𝗜𝗘𝗥𝗦 𝗔𝗚𝗢𝗥𝗔] ✨ \n📣 Les Ateliers Agora et Florence Lucchini de l’Atelier Terre de Sens vous invitent à découvrir leur nouvelle exposition une nouvelle exposition de céramique : « Les Jours Heureux ». \n👉 Une semaine d’exposition dédiée à la terre\, au modelage et à la sculpture\, où chaque pièce raconte un instant de bonheur. \n𝗘𝗫𝗣𝗢𝗦𝗜𝗧𝗜𝗢𝗡\n📅 Du 15 au 20 juillet 2025\n📍 2 Place Thiers \n𝗩𝗘𝗥𝗡𝗜𝗦𝗦𝗔𝗚𝗘\n📅 Mercredi 16 juillet 2025\n🕛 À 18h30\n📍 2 Place Thiers \nPour plus d’informations 👇\n✉️ galerie@ateliers-agora.fr 📞 06.60.64.07.54
URL:https://www.eyguieres.org/evenements/du-15-au-20-juillet-2025-exposition-ceramique-les-jours-heureux-ateliers-agora/
LOCATION:Ateliers Agora\, Place Thiers\, EYGUIERES\, 13430
CATEGORIES:Évènements de la commune,Local
ATTACH;FMTTYPE=image/jpeg:https://www.eyguieres.org/wp-content/uploads/2025/07/Exposition-ateliers-agora-1-scaled.jpg
END:VEVENT
BEGIN:VEVENT
DTSTART;TZID=Europe/Paris:20250715T100000
DTEND;TZID=Europe/Paris:20250802T170000
DTSTAMP:20260423T120558
CREATED:20250629T083021Z
LAST-MODIFIED:20250826T090030Z
UID:126514-1752573600-1754154000@www.eyguieres.org
SUMMARY:Du 15 juillet au 2 août 2025   Exposition "Encadrer la différence\, révéler l'excellence" - Médiathèque d'Eyguières
DESCRIPTION:⭐ [𝗘𝗫𝗣𝗢𝗦𝗜𝗧𝗜𝗢𝗡 « 𝗘𝗡𝗖𝗔𝗗𝗥𝗘𝗥 𝗟𝗔 𝗗𝗜𝗙𝗙𝗘́𝗥𝗘𝗡𝗖𝗘\, 𝗥𝗘́𝗩𝗘́𝗟𝗘𝗥 𝗟’𝗘𝗫𝗖𝗘𝗟𝗟𝗘𝗡𝗖𝗘 » – 𝗠𝗘́𝗗𝗜𝗔𝗧𝗛𝗘̀𝗤𝗨𝗘 𝗗’𝗘𝗬𝗚𝗨𝗜𝗘̀𝗥𝗘𝗦] ⭐ \n👉 La Médiathèque d’Eyguières accueille une nouvelle exposition\, « Encadrer la différence\, révéler l’excellence » par des élèves du dispositif ULIS du collège Lucie Aubrac à Eyguières. \n𝗘𝗫𝗣𝗢𝗦𝗜𝗧𝗜𝗢𝗡\n📅 Du 15 juillet au 2 août 2025 \n𝗩𝗘𝗥𝗡𝗜𝗦𝗦𝗔𝗚𝗘\n📅 Vendredi 29 août  2025\n🕛 18h00 \n📍 à la Médiathèque d’Eyguières \nℹ️ Pour plus d’informations 👇\n📞 04 90 57 94 62\n📧 mediatheque@mairie-eyguieres.fr \n \n 
URL:https://www.eyguieres.org/evenements/du-15-juillet-au-2-aout-et-du-26-aout-au-13-septembre-2025-exposition-encadrer-la-difference-reveler-lexcellence-mediatheque-deyguieres/
LOCATION:Médiathèque\, 21 Rue Rabaud St Étienne\, Eyguières\, 13430
CATEGORIES:Local,Médiathèque
ATTACH;FMTTYPE=image/jpeg:https://www.eyguieres.org/wp-content/uploads/2025/07/Exposition-mediatheque-dEyguieres-01-scaled.jpg
END:VEVENT
BEGIN:VEVENT
DTSTART;TZID=Europe/Paris:20250715T190000
DTEND;TZID=Europe/Paris:20250715T203000
DTSTAMP:20260423T120558
CREATED:20250629T090002Z
LAST-MODIFIED:20250711T083935Z
UID:126482-1752606000-1752611400@www.eyguieres.org
SUMMARY:15 juillet 2025   Yog'Apéro  Domaine du Vallon des Glauges
DESCRIPTION:🧘‍♀ [𝗬𝗢𝗚’𝗔𝗣𝗘́𝗥𝗢] 🧘‍♀ \nLe Domaine du Vallon des Glauges vous propose un atelier 100% bien-être️ avec Maud  🙌 \nAu programme : \n➡️ Une séance de yoga en plein air au coucher du soleil\, entre vignes et collines\n➡️ Suivie d’un apéro convivial autour des vins du domaine 🍇 »\n➡️ Ambiance bien-être\, nature et partage \n📅 Mardi 15 juillet 2025\n🕐 À 19h00\n📍 Domaine du Vallon des Glauges\, Voie d’Aureille\, 13430 Eyguières \n—– \n🧘‍♀️ Ouvert à tous niveaux\n🧘‍♀  Penser à ramener votre tapis de yoga \nℹ Sur réservation uniquement
URL:https://www.eyguieres.org/evenements/15-juillet-2025-yogapero-domaine-du-vallon-des-glauges/
LOCATION:Domaine du Vallon des Glauges\, Chemin des Glauges\, Eyguieres\, 13430\, France
CATEGORIES:Évènements de la commune,Local
ATTACH;FMTTYPE=image/jpeg:https://www.eyguieres.org/wp-content/uploads/2025/07/yogapero-scaled.jpg
END:VEVENT
END:VCALENDAR