BEGIN:VCALENDAR
VERSION:2.0
PRODID:-//Eyguières Les Alpilles - ECPv6.15.16//NONSGML v1.0//EN
CALSCALE:GREGORIAN
METHOD:PUBLISH
X-ORIGINAL-URL:https://www.eyguieres.org
X-WR-CALDESC:Évènements pour Eyguières Les Alpilles
REFRESH-INTERVAL;VALUE=DURATION:PT1H
X-Robots-Tag:noindex
X-PUBLISHED-TTL:PT1H
BEGIN:VTIMEZONE
TZID:Europe/Paris
BEGIN:DAYLIGHT
TZOFFSETFROM:+0100
TZOFFSETTO:+0200
TZNAME:CEST
DTSTART:20240331T010000
END:DAYLIGHT
BEGIN:STANDARD
TZOFFSETFROM:+0200
TZOFFSETTO:+0100
TZNAME:CET
DTSTART:20241027T010000
END:STANDARD
BEGIN:DAYLIGHT
TZOFFSETFROM:+0100
TZOFFSETTO:+0200
TZNAME:CEST
DTSTART:20250330T010000
END:DAYLIGHT
BEGIN:STANDARD
TZOFFSETFROM:+0200
TZOFFSETTO:+0100
TZNAME:CET
DTSTART:20251026T010000
END:STANDARD
BEGIN:DAYLIGHT
TZOFFSETFROM:+0100
TZOFFSETTO:+0200
TZNAME:CEST
DTSTART:20260329T010000
END:DAYLIGHT
BEGIN:STANDARD
TZOFFSETFROM:+0200
TZOFFSETTO:+0100
TZNAME:CET
DTSTART:20261025T010000
END:STANDARD
END:VTIMEZONE
BEGIN:VEVENT
DTSTART;TZID=Europe/Paris:20250715T100000
DTEND;TZID=Europe/Paris:20250802T170000
DTSTAMP:20260421T151758
CREATED:20250629T083021Z
LAST-MODIFIED:20250826T090030Z
UID:126514-1752573600-1754154000@www.eyguieres.org
SUMMARY:Du 15 juillet au 2 août 2025   Exposition "Encadrer la différence\, révéler l'excellence" - Médiathèque d'Eyguières
DESCRIPTION:⭐ [𝗘𝗫𝗣𝗢𝗦𝗜𝗧𝗜𝗢𝗡 « 𝗘𝗡𝗖𝗔𝗗𝗥𝗘𝗥 𝗟𝗔 𝗗𝗜𝗙𝗙𝗘́𝗥𝗘𝗡𝗖𝗘\, 𝗥𝗘́𝗩𝗘́𝗟𝗘𝗥 𝗟’𝗘𝗫𝗖𝗘𝗟𝗟𝗘𝗡𝗖𝗘 » – 𝗠𝗘́𝗗𝗜𝗔𝗧𝗛𝗘̀𝗤𝗨𝗘 𝗗’𝗘𝗬𝗚𝗨𝗜𝗘̀𝗥𝗘𝗦] ⭐ \n👉 La Médiathèque d’Eyguières accueille une nouvelle exposition\, « Encadrer la différence\, révéler l’excellence » par des élèves du dispositif ULIS du collège Lucie Aubrac à Eyguières. \n𝗘𝗫𝗣𝗢𝗦𝗜𝗧𝗜𝗢𝗡\n📅 Du 15 juillet au 2 août 2025 \n𝗩𝗘𝗥𝗡𝗜𝗦𝗦𝗔𝗚𝗘\n📅 Vendredi 29 août  2025\n🕛 18h00 \n📍 à la Médiathèque d’Eyguières \nℹ️ Pour plus d’informations 👇\n📞 04 90 57 94 62\n📧 mediatheque@mairie-eyguieres.fr \n \n 
URL:https://www.eyguieres.org/evenements/du-15-juillet-au-2-aout-et-du-26-aout-au-13-septembre-2025-exposition-encadrer-la-difference-reveler-lexcellence-mediatheque-deyguieres/
LOCATION:Médiathèque\, 21 Rue Rabaud St Étienne\, Eyguières\, 13430
CATEGORIES:Local,Médiathèque
ATTACH;FMTTYPE=image/jpeg:https://www.eyguieres.org/wp-content/uploads/2025/07/Exposition-mediatheque-dEyguieres-01-scaled.jpg
END:VEVENT
BEGIN:VEVENT
DTSTART;TZID=Europe/Paris:20250722T100000
DTEND;TZID=Europe/Paris:20250724T120000
DTSTAMP:20260421T151758
CREATED:20250706T070022Z
LAST-MODIFIED:20250721T082649Z
UID:126585-1753178400-1753358400@www.eyguieres.org
SUMMARY:22 et 24 juillet 2025  Galets Dominos - Médiathèque d'Eyguières
DESCRIPTION:✨[𝗚𝗔𝗟𝗘𝗧𝗦 𝗗𝗢𝗠𝗜𝗡𝗢𝗦 – 𝗠𝗘́𝗗𝗜𝗔𝗧𝗛𝗘̀𝗤𝗨𝗘 𝗗’𝗘𝗬𝗚𝗨𝗜𝗘̀𝗥𝗘𝗦]✨ \n📅 Mardi 22 et jeudi 24 juillet 2025\n🕐 De 10h00 à 12h00\n📍 À la Médiathèque d’Eyguières \nℹ️ Inscription obligatoire 👇 \n📞 04 90 57 94 62 ou 📧 mediatheque@mairie-eyguieres.fr \n\n\n\n\n\n❗ À partir de 5 ans ❗
URL:https://www.eyguieres.org/evenements/22-et-24-juillet-2025-galets-dominos-mediatheque-deyguieres/
LOCATION:Médiathèque\, 21 Rue Rabaud St Étienne\, Eyguières\, 13430
CATEGORIES:Local,Médiathèque
ATTACH;FMTTYPE=image/jpeg:https://www.eyguieres.org/wp-content/uploads/2025/07/Galets-dominos-mediatheques-deyguieres-scaled.jpg
END:VEVENT
BEGIN:VEVENT
DTSTART;TZID=Europe/Paris:20250723T100000
DTEND;TZID=Europe/Paris:20250810T190000
DTSTAMP:20260421T151758
CREATED:20250707T053009Z
LAST-MODIFIED:20250722T081737Z
UID:126632-1753264800-1754852400@www.eyguieres.org
SUMMARY:Du 23 juillet au 10 août 2025  Exposition "L'arbre" - Ateliers Agora
DESCRIPTION:🌳 [𝗘𝗫𝗣𝗢𝗦𝗜𝗧𝗜𝗢𝗡 « 𝗟’𝗔𝗥𝗕𝗥𝗘 » – 𝗔𝗧𝗘𝗟𝗜𝗘𝗥𝗦 𝗔𝗚𝗢𝗥𝗔] 🌳 \n📣 L’Ateliers Agora vous invitent à découvrir leur nouvelle exposition : « L’arbre ». \n👉 À travers les univers singuliers de six artistes\, photographie\, sculpture\, peinture\, découpage et assemblage s’entrelacent pour offrir une vision plurielle et sensible de l’arbre. \n𝗘𝗫𝗣𝗢𝗦𝗜𝗧𝗜𝗢𝗡\n📅 Du 23 juillet au 10 août 2025\n📍 2 Place Thiers \n𝗩𝗘𝗥𝗡𝗜𝗦𝗦𝗔𝗚𝗘\n📅 Mercredi 23 juillet 2025\n🕛 À 18h30\n📍 2 Place Thiers \nPour plus d’informations 👇\n✉️ galerie@ateliers-agora.fr 📞 06.60.64.07.54
URL:https://www.eyguieres.org/evenements/du-23-juillet-au-10-aout-2025-exposition-larbre-ateliers-agora/
LOCATION:Ateliers Agora\, Place Thiers\, EYGUIERES\, 13430
CATEGORIES:Évènements de la commune,Local
ATTACH;FMTTYPE=image/jpeg:https://www.eyguieres.org/wp-content/uploads/2025/07/Exposition-ateliers-agora-du-23-juillet-au-10-aout-2025-larbre-01-scaled.jpg
END:VEVENT
BEGIN:VEVENT
DTSTART;TZID=Europe/Paris:20250724T093000
DTEND;TZID=Europe/Paris:20250724T120000
DTSTAMP:20260421T151758
CREATED:20250708T060058Z
LAST-MODIFIED:20250721T082736Z
UID:126509-1753349400-1753358400@www.eyguieres.org
SUMMARY:24 juillet 2025  Balades contées - Médiathèque d'Eyguières
DESCRIPTION:🍪[𝗕𝗔𝗟𝗔𝗗𝗘𝗦 𝗖𝗢𝗡𝗧𝗘́𝗘𝗦 – 𝗠𝗘́𝗗𝗜𝗔𝗧𝗛𝗘̀𝗤𝗨𝗘 𝗗’𝗘𝗬𝗚𝗨𝗜𝗘̀𝗥𝗘𝗦]🍪 \n👉 La médiathèque d’Eyguières vous invite à participer à une balade contée à travers Eyguières par Régine Bordonaro. \n📅 Jeudi 24 juillet 2025\n🕛 De 9h45 à 11h45 (départ à 10h pile )\n📍 Devant la médiathèque\, parc Recordier \n⏱️ Durée : 1h45 – environ 45 min de marche \n🌿 Parcours en 10 étapes\, parmi :\nParc Recordier\, Rue Viol de la Corse\, Lavoir\, Impasse des Platanes\, Fontaine Cocotte\, Au-dessus du Théâtre de verdure\, École de Musique\, Calvaire\, Église\, Théâtre de verdure (fin de la balade) ou Retour au Parc Recordier\, selon le timing pour la fin de la balade. \n🧒 Les enfants doivent être accompagnés\n👟 Prévoir chaussures confortables\, eau\, chapeau\, brumisateur… éventuellement un petit siège pliant pour ceux qui ne supportent pas trop longtemps la position debout.\n💨 En cas de mistral ou de pluie : repli à la médiathèque \nℹ️ Pour plus d’informations et/ou inscriptions 👇 \n📞 04 90 57 94 62\n📧 mediatheque@mairie-eyguieres.fr \n❗Gratuit – Réservation obligatoire❗
URL:https://www.eyguieres.org/evenements/24-juillet-2025-balades-contees-mediatheque-deyguieres/
LOCATION:Médiathèque\, 21 Rue Rabaud St Étienne\, Eyguières\, 13430
CATEGORIES:Local,Médiathèque
ATTACH;FMTTYPE=image/jpeg:https://www.eyguieres.org/wp-content/uploads/2025/06/Mediatheque-balade-contee.jpg
END:VEVENT
END:VCALENDAR