BEGIN:VCALENDAR
VERSION:2.0
PRODID:-//Eyguières Les Alpilles - ECPv6.15.16//NONSGML v1.0//EN
CALSCALE:GREGORIAN
METHOD:PUBLISH
X-WR-CALNAME:Eyguières Les Alpilles
X-ORIGINAL-URL:https://www.eyguieres.org
X-WR-CALDESC:Évènements pour Eyguières Les Alpilles
REFRESH-INTERVAL;VALUE=DURATION:PT1H
X-Robots-Tag:noindex
X-PUBLISHED-TTL:PT1H
BEGIN:VTIMEZONE
TZID:Europe/Paris
BEGIN:DAYLIGHT
TZOFFSETFROM:+0100
TZOFFSETTO:+0200
TZNAME:CEST
DTSTART:20240331T010000
END:DAYLIGHT
BEGIN:STANDARD
TZOFFSETFROM:+0200
TZOFFSETTO:+0100
TZNAME:CET
DTSTART:20241027T010000
END:STANDARD
BEGIN:DAYLIGHT
TZOFFSETFROM:+0100
TZOFFSETTO:+0200
TZNAME:CEST
DTSTART:20250330T010000
END:DAYLIGHT
BEGIN:STANDARD
TZOFFSETFROM:+0200
TZOFFSETTO:+0100
TZNAME:CET
DTSTART:20251026T010000
END:STANDARD
BEGIN:DAYLIGHT
TZOFFSETFROM:+0100
TZOFFSETTO:+0200
TZNAME:CEST
DTSTART:20260329T010000
END:DAYLIGHT
BEGIN:STANDARD
TZOFFSETFROM:+0200
TZOFFSETTO:+0100
TZNAME:CET
DTSTART:20261025T010000
END:STANDARD
END:VTIMEZONE
BEGIN:VEVENT
DTSTART;TZID=Europe/Paris:20250723T100000
DTEND;TZID=Europe/Paris:20250810T190000
DTSTAMP:20260423T103720
CREATED:20250707T053009Z
LAST-MODIFIED:20250722T081737Z
UID:126632-1753264800-1754852400@www.eyguieres.org
SUMMARY:Du 23 juillet au 10 août 2025  Exposition "L'arbre" - Ateliers Agora
DESCRIPTION:🌳 [𝗘𝗫𝗣𝗢𝗦𝗜𝗧𝗜𝗢𝗡 « 𝗟’𝗔𝗥𝗕𝗥𝗘 » – 𝗔𝗧𝗘𝗟𝗜𝗘𝗥𝗦 𝗔𝗚𝗢𝗥𝗔] 🌳 \n📣 L’Ateliers Agora vous invitent à découvrir leur nouvelle exposition : « L’arbre ». \n👉 À travers les univers singuliers de six artistes\, photographie\, sculpture\, peinture\, découpage et assemblage s’entrelacent pour offrir une vision plurielle et sensible de l’arbre. \n𝗘𝗫𝗣𝗢𝗦𝗜𝗧𝗜𝗢𝗡\n📅 Du 23 juillet au 10 août 2025\n📍 2 Place Thiers \n𝗩𝗘𝗥𝗡𝗜𝗦𝗦𝗔𝗚𝗘\n📅 Mercredi 23 juillet 2025\n🕛 À 18h30\n📍 2 Place Thiers \nPour plus d’informations 👇\n✉️ galerie@ateliers-agora.fr 📞 06.60.64.07.54
URL:https://www.eyguieres.org/evenements/du-23-juillet-au-10-aout-2025-exposition-larbre-ateliers-agora/
LOCATION:Ateliers Agora\, Place Thiers\, EYGUIERES\, 13430
CATEGORIES:Évènements de la commune,Local
ATTACH;FMTTYPE=image/jpeg:https://www.eyguieres.org/wp-content/uploads/2025/07/Exposition-ateliers-agora-du-23-juillet-au-10-aout-2025-larbre-01-scaled.jpg
END:VEVENT
BEGIN:VEVENT
DTSTART;TZID=Europe/Paris:20250808T190000
DTEND;TZID=Europe/Paris:20250811T233000
DTSTAMP:20260423T103720
CREATED:20250723T070015Z
LAST-MODIFIED:20250724T082637Z
UID:126598-1754679600-1754955000@www.eyguieres.org
SUMMARY:Du 8 au 11 août 2025   Fête de la Saint Vérédème
DESCRIPTION:🎊[𝐅𝐄̂𝐓𝐄 𝐃𝐄 𝐋𝐀 𝐒𝐀𝐈𝐍𝐓 𝐕𝐄́𝐑𝐄́𝐃𝐄̀𝐌𝐄]🎊 \n👉 𝗗𝗨 𝟖 𝗔𝗨 𝟭𝟭 𝗔𝗢𝗨̂𝗧 \n📣 Voici le programme 👇 \n🎠 Fête Foraine\n📅 Du 8 au 11 août\n📍 Place des Frères Roche \n📆 𝗩𝗘𝗡𝗗𝗥𝗘𝗗𝗜 𝟖 𝗔𝗢𝗨̂𝗧 \n🕥 19h 🎶 Ambiance musicale\n🕥 21h 🎤 Concert Eric Roy\n📍 Place Thiers \n📆 𝗦𝗔𝗠𝗘𝗗𝗜 𝟗 𝗔𝗢𝗨̂𝗧 \n❗ Le marché du samedi matin est déplacé rue des Frères Perret\, rue Raoul Jauffret et Rue Boisgelin. \n🕥 De 9h30 à 12h30\n👧 Jeux enfants (gratuit)\n📍 Place Thiers \n🕥 12h\n🍴 Aïoli – Ambiance musicale Gipsy\n📍 Cour de l’école Gabriel Péri\n🎫 Tarif : 10€\nℹ️ Inscription à l’accueil de la Mairie \n19h 🎶 Ambiance musicale – Orchestre « Mephisto »\n📍 Place Thiers \n📆 𝗗𝗜𝗠𝗔𝗡𝗖𝗛𝗘 𝟭𝟬 𝗔𝗢𝗨̂𝗧 \n🕥 10h ⛪ Messe en Provençal\n📍 Église Notre Dame de Grâce \n🕥 11h00\n🎊 Défilé folklorique\n📍 Centre-ville \n🕥 15h30\n💃 Représentation de danses folkloriques\n📍 Arènes Chabaud \n🕥 16h30\n🐂 Course Camarguaise\n📍 Arènes Chabaud \n🕥 19h\n🎶 Ambiance musical\n📍 Place Thiers \n🕥 21h\n🎤 Lio et François Valéry\n📍 Place Thiers \n📆 𝗟𝗨𝗡𝗗𝗜 𝟭𝟭 𝗔𝗢𝗨̂𝗧 \n📍 Centre ville \n🕥 10h30 🐎 Abrivado de poneys pour les enfants\n🕥 11h30 🐂 Abrivado\, bandido\n🕥 18h 🐴 Roussataïo\n🕥 19h 🐎 Abrivado + bandido\n🕥 21h 🐂 Festival d’abrivado\n🕥 23h 🐂 Encierro\nPeña « La Provençale » et « Lou Pati » \n\n \n 
URL:https://www.eyguieres.org/evenements/du-8-au-11-aout-2025-fete-de-la-saint-veredeme/
CATEGORIES:Évènements de la commune,Local
ATTACH;FMTTYPE=image/jpeg:https://www.eyguieres.org/wp-content/uploads/2025/07/site-RVB.jpg
END:VEVENT
BEGIN:VEVENT
DTSTART;TZID=Europe/Paris:20250809T120000
DTEND;TZID=Europe/Paris:20250809T150000
DTSTAMP:20260423T103720
CREATED:20250724T070055Z
LAST-MODIFIED:20250801T095722Z
UID:126588-1754740800-1754751600@www.eyguieres.org
SUMMARY:9 août 2025  Aïoli municipal
DESCRIPTION:𝗔𝗶̈𝗼𝗹𝗶 𝗺𝘂𝗻𝗶𝗰𝗶𝗽𝗮𝗹 \n\n\n\nAmbiance conviviale\, saveurs du Sud et rythmes Gipsy au programme !\n\n\n\nRejoignez-nous le 𝘀𝗮𝗺𝗲𝗱𝗶 𝟵 𝗮𝗼𝘂̂𝘁 𝗮̀ 𝟭𝟮𝗵 pour un déjeuner festif en plein air\, animé en musique et placé sous le signe de la bonne humeur !\n\n\n\n Cours de l’école Gabriel Péri\n\n 10€ par personne – Places limitées !\n\n Billets en vente à l’accueil de la mairie\n\n\n\n Ne tardez pas\, on vous attend nombreux pour partager ce moment typiquement provençal !
URL:https://www.eyguieres.org/evenements/9-aout-2025-aioli-municipal/
LOCATION:Cours Ecole Gabriel Péri
CATEGORIES:Évènements de la commune,Local
ATTACH;FMTTYPE=image/jpeg:https://www.eyguieres.org/wp-content/uploads/2025/07/declinaisons-RS-et-site-03-1.jpg
END:VEVENT
BEGIN:VEVENT
DTSTART;TZID=Europe/Paris:20250809T190000
DTEND;TZID=Europe/Paris:20250809T223000
DTSTAMP:20260423T103720
CREATED:20250724T080027Z
LAST-MODIFIED:20250725T073256Z
UID:126772-1754766000-1754778600@www.eyguieres.org
SUMMARY:9 août 2025  Orchestre - Mephisto
DESCRIPTION:🎶 [𝗢𝗥𝗖𝗛𝗘𝗦𝗧𝗥𝗘 – 𝗠𝗘𝗣𝗛𝗜𝗦𝗧𝗢] 🎶 \n🎼  Retrouvez durant la Saint Vérédème l’orchestre « Mephisto » à Eyguières ! \n𝗦𝗮𝗺𝗲𝗱𝗶 𝟵 𝗮𝗼𝘂̂𝘁 𝟮𝟬𝟮𝟱\n🕔 19h00 \n🎵 Ambiance musicale\n🎤 Orchestre – Mephisto \n⭐ 𝙍𝘿𝙑 𝙋𝙇𝘼𝘾𝙀 𝙏𝙃𝙄𝙀𝙍𝙎\n👉 𝘌𝘕𝘛𝘙𝘌́𝘌 𝘎𝘙𝘈𝘛𝘜𝘐𝘛𝘌
URL:https://www.eyguieres.org/evenements/9-aout-2025-orchestre-mephisto/
LOCATION:Place Thiers\, Place Thiers\, EYGUIERES\, 13430
CATEGORIES:Évènements de la commune,Local
ATTACH;FMTTYPE=image/jpeg:https://www.eyguieres.org/wp-content/uploads/2025/07/orchestre-Mephisto-01.jpg
END:VEVENT
END:VCALENDAR