BEGIN:VCALENDAR
VERSION:2.0
PRODID:-//Eyguières Les Alpilles - ECPv6.15.16//NONSGML v1.0//EN
CALSCALE:GREGORIAN
METHOD:PUBLISH
X-WR-CALNAME:Eyguières Les Alpilles
X-ORIGINAL-URL:https://www.eyguieres.org
X-WR-CALDESC:Évènements pour Eyguières Les Alpilles
REFRESH-INTERVAL;VALUE=DURATION:PT1H
X-Robots-Tag:noindex
X-PUBLISHED-TTL:PT1H
BEGIN:VTIMEZONE
TZID:Europe/Paris
BEGIN:DAYLIGHT
TZOFFSETFROM:+0100
TZOFFSETTO:+0200
TZNAME:CEST
DTSTART:20240331T010000
END:DAYLIGHT
BEGIN:STANDARD
TZOFFSETFROM:+0200
TZOFFSETTO:+0100
TZNAME:CET
DTSTART:20241027T010000
END:STANDARD
BEGIN:DAYLIGHT
TZOFFSETFROM:+0100
TZOFFSETTO:+0200
TZNAME:CEST
DTSTART:20250330T010000
END:DAYLIGHT
BEGIN:STANDARD
TZOFFSETFROM:+0200
TZOFFSETTO:+0100
TZNAME:CET
DTSTART:20251026T010000
END:STANDARD
BEGIN:DAYLIGHT
TZOFFSETFROM:+0100
TZOFFSETTO:+0200
TZNAME:CEST
DTSTART:20260329T010000
END:DAYLIGHT
BEGIN:STANDARD
TZOFFSETFROM:+0200
TZOFFSETTO:+0100
TZNAME:CET
DTSTART:20261025T010000
END:STANDARD
END:VTIMEZONE
BEGIN:VEVENT
DTSTART;TZID=Europe/Paris:20250813T190000
DTEND;TZID=Europe/Paris:20250814T001500
DTSTAMP:20260421T151443
CREATED:20250727T070049Z
LAST-MODIFIED:20250825T075032Z
UID:127295-1755111600-1755130500@www.eyguieres.org
SUMMARY:13 août 2025   Cinéma en plein - Domaine ODDO Vallon Des Glauges
DESCRIPTION:[𝗖𝗜𝗡𝗘́𝗠𝗔 𝗘𝗡 𝗣𝗟𝗘𝗜𝗡 𝗔𝗜𝗥] \n\n\n\n Le Domaine ODDO Vallon des Glauges vous donne rendez-vous pour une soirée Ciné Étoilé\, en plein cœur des Alpilles ! \n\n\n\nCette séance de cinéma est organisée en partenariat avec la mairie d’Eyguières \n\n\n\n 𝘿𝙤𝙢𝙖𝙞𝙣𝙚 𝙊𝘿𝘿𝙊 𝙑𝙖𝙡𝙡𝙤𝙣 𝙙𝙚𝙨 𝙂𝙡𝙖𝙪𝙜𝙚𝙨\, 𝙑𝙤𝙞𝙚 𝙙’𝘼𝙪𝙧𝙚𝙞𝙡𝙡𝙚 – 13430 𝙀𝙔𝙂𝙐𝙄𝙀̀𝙍𝙀𝙎\n\n\n\n Mercredi 13 août 2025\n 19h30 à 21h30  Ambiance musicale et apéro \n 21h45 à 00h15  Diffusion du film culte Mamma Mia! \n\n\n\n Restauration possible sur place \n\n\n\n Entrée sur réservation\nTarif normal : 12\,50 €\nTarif enfant (-12 ans) : 7 €\n\n\n\n Réservez vos places dès maintenant en cliquant sur ce lien : https://urlr.me/mRsGYT
URL:https://www.eyguieres.org/evenements/13-aout-2025-cinema-en-plein-domaine-oddo-vallon-des-glauges/
LOCATION:Domaine du Vallon des Glauges\, Chemin des Glauges\, Eyguieres\, 13430\, France
CATEGORIES:Évènements de la commune,Local
ATTACH;FMTTYPE=image/jpeg:https://www.eyguieres.org/wp-content/uploads/2025/08/Cine-etoile-13-aout-2025-Mamma-Mia.jpg
END:VEVENT
BEGIN:VEVENT
DTSTART;TZID=Europe/Paris:20250814T180000
DTEND;TZID=Europe/Paris:20250814T190000
DTSTAMP:20260421T151443
CREATED:20250728T070030Z
LAST-MODIFIED:20250825T075039Z
UID:126912-1755194400-1755198000@www.eyguieres.org
SUMMARY:14 août 2025   Concert orgue et chant - Les Amis de l'Orgue d'Eyguières
DESCRIPTION:⛪ [𝗖𝗢𝗡𝗖𝗘𝗥𝗧 𝗢𝗥𝗚𝗨𝗘 𝗘𝗧 𝗖𝗛𝗔𝗡𝗧 – 𝗟𝗘𝗦 𝗔𝗠𝗜𝗦 𝗗𝗘 𝗟’𝗢𝗥𝗚𝗨𝗘 𝗗’𝗘𝗬𝗚𝗨𝗜𝗘̀𝗥𝗘𝗦] ⛪ \n📣 L’association Les Amis de l’Orgue vous invite à un concert d’orgue et chant. \n👤 Jean-Jacques Tournebise se produira à l’orgue\, accompagné de Benjamin Alexandre en haute-contre. \n📅 Jeudi 14 août 2025\n🕛 À 18h00\n📍 Église Notre-Dame de Grâce – 1 rue de Craponne\, Eyguières \nℹ️   Entrée gratuite – libre participation du public
URL:https://www.eyguieres.org/evenements/14-aout-2025-concert-orgue-et-chant-les-amis-de-lorgue-deyguieres/
LOCATION:Église Notre Dame de Grâce
CATEGORIES:Culture,Évènements de la commune,Local
ATTACH;FMTTYPE=image/jpeg:https://www.eyguieres.org/wp-content/uploads/2025/07/Concert-orgue-et-chant-14-aout-2025-eyguieres-01-scaled.jpg
END:VEVENT
END:VCALENDAR