BEGIN:VCALENDAR
VERSION:2.0
PRODID:-//Eyguières Les Alpilles - ECPv6.15.16//NONSGML v1.0//EN
CALSCALE:GREGORIAN
METHOD:PUBLISH
X-WR-CALNAME:Eyguières Les Alpilles
X-ORIGINAL-URL:https://www.eyguieres.org
X-WR-CALDESC:Évènements pour Eyguières Les Alpilles
REFRESH-INTERVAL;VALUE=DURATION:PT1H
X-Robots-Tag:noindex
X-PUBLISHED-TTL:PT1H
BEGIN:VTIMEZONE
TZID:Europe/Paris
BEGIN:DAYLIGHT
TZOFFSETFROM:+0100
TZOFFSETTO:+0200
TZNAME:CEST
DTSTART:20240331T010000
END:DAYLIGHT
BEGIN:STANDARD
TZOFFSETFROM:+0200
TZOFFSETTO:+0100
TZNAME:CET
DTSTART:20241027T010000
END:STANDARD
BEGIN:DAYLIGHT
TZOFFSETFROM:+0100
TZOFFSETTO:+0200
TZNAME:CEST
DTSTART:20250330T010000
END:DAYLIGHT
BEGIN:STANDARD
TZOFFSETFROM:+0200
TZOFFSETTO:+0100
TZNAME:CET
DTSTART:20251026T010000
END:STANDARD
BEGIN:DAYLIGHT
TZOFFSETFROM:+0100
TZOFFSETTO:+0200
TZNAME:CEST
DTSTART:20260329T010000
END:DAYLIGHT
BEGIN:STANDARD
TZOFFSETFROM:+0200
TZOFFSETTO:+0100
TZNAME:CET
DTSTART:20261025T010000
END:STANDARD
END:VTIMEZONE
BEGIN:VEVENT
DTSTART;TZID=Europe/Paris:20250815T180000
DTEND;TZID=Europe/Paris:20250815T224500
DTSTAMP:20260423T120021
CREATED:20250729T070017Z
LAST-MODIFIED:20250825T075057Z
UID:126935-1755280800-1755297900@www.eyguieres.org
SUMMARY:15 août 2025  Les Vendredis Musicaux
DESCRIPTION:🎶 [𝗟𝗘𝗦 𝗩𝗘𝗡𝗗𝗥𝗘𝗗𝗜𝗦 𝗠𝗨𝗦𝗜𝗖𝗔𝗨𝗫] 🎶 \n📣 Nouveauté cette année dans notre village d’Eyguières ! \n😁 Retrouvez tous les 𝐯𝐞𝐧𝐝𝐫𝐞𝐝𝐢𝐬 𝐬𝐨𝐢𝐫𝐬 𝐋𝐞𝐬 𝐕𝐞𝐧𝐝𝐫𝐞𝐝𝐢𝐬 𝐌𝐮𝐬𝐢𝐜𝐚𝐮𝐱 ! \n🎸 Chaque semaine\, un 𝐧𝐨𝐮𝐯𝐞𝐚𝐮 𝐠𝐫𝐨𝐮𝐩𝐞 𝐝𝐞 𝐦𝐮𝐬𝐢𝐪𝐮𝐞 viendra enflammer la Place Thiers dans une ambiance conviviale\, festive et chaleureuse 💃🕺 \n𝗩𝗲𝗻𝗱𝗿𝗲𝗱𝗶 𝟭𝟱 𝗮𝗼𝘂̂𝘁 𝟮𝟬𝟮𝟱\n🕕 À partir de 18h00\n📍 Place Thiers – Eyguières \n✅ Entrée libre et gratuite\n🍔🍻 𝗥𝐞𝐬𝐭𝐚𝐮𝐫𝐚𝐭𝐢𝐨𝐧 𝗲𝘁 𝗯𝘂𝘃𝗲𝘁𝘁𝗲 𝐬𝐮𝐫 𝐩𝐥𝐚𝐜𝐞 \nℹ️ Renseignements 👇\n📞 04.90.59.88.00
URL:https://www.eyguieres.org/evenements/15-aout-2025-les-vendredis-musicaux/
LOCATION:Place Thiers\, Place Thiers\, EYGUIERES\, 13430
CATEGORIES:Évènements de la commune,Local
ATTACH;FMTTYPE=image/jpeg:https://www.eyguieres.org/wp-content/uploads/2025/05/declinaisons-RS-et-site-03-1.jpg
END:VEVENT
END:VCALENDAR