BEGIN:VCALENDAR
VERSION:2.0
PRODID:-//Eyguières Les Alpilles - ECPv6.15.16//NONSGML v1.0//EN
CALSCALE:GREGORIAN
METHOD:PUBLISH
X-WR-CALNAME:Eyguières Les Alpilles
X-ORIGINAL-URL:https://www.eyguieres.org
X-WR-CALDESC:Évènements pour Eyguières Les Alpilles
REFRESH-INTERVAL;VALUE=DURATION:PT1H
X-Robots-Tag:noindex
X-PUBLISHED-TTL:PT1H
BEGIN:VTIMEZONE
TZID:Europe/Paris
BEGIN:DAYLIGHT
TZOFFSETFROM:+0100
TZOFFSETTO:+0200
TZNAME:CEST
DTSTART:20240331T010000
END:DAYLIGHT
BEGIN:STANDARD
TZOFFSETFROM:+0200
TZOFFSETTO:+0100
TZNAME:CET
DTSTART:20241027T010000
END:STANDARD
BEGIN:DAYLIGHT
TZOFFSETFROM:+0100
TZOFFSETTO:+0200
TZNAME:CEST
DTSTART:20250330T010000
END:DAYLIGHT
BEGIN:STANDARD
TZOFFSETFROM:+0200
TZOFFSETTO:+0100
TZNAME:CET
DTSTART:20251026T010000
END:STANDARD
BEGIN:DAYLIGHT
TZOFFSETFROM:+0100
TZOFFSETTO:+0200
TZNAME:CEST
DTSTART:20260329T010000
END:DAYLIGHT
BEGIN:STANDARD
TZOFFSETFROM:+0200
TZOFFSETTO:+0100
TZNAME:CET
DTSTART:20261025T010000
END:STANDARD
END:VTIMEZONE
BEGIN:VEVENT
DTSTART;TZID=Europe/Paris:20250819T190000
DTEND;TZID=Europe/Paris:20250819T203000
DTSTAMP:20260423T145409
CREATED:20250802T070044Z
LAST-MODIFIED:20250825T075125Z
UID:126941-1755630000-1755635400@www.eyguieres.org
SUMMARY:19 août 2025   Yog'Apéro  Domaine du Vallon des Glauges
DESCRIPTION:🧘‍♀ [𝗬𝗢𝗚’𝗔𝗣𝗘́𝗥𝗢] 🧘‍♀ \nLe Domaine du Vallon des Glauges vous propose un atelier 100% bien-être️ avec Maud  🙌 \nAu programme : \n➡️ Une séance de yoga en plein air au coucher du soleil\, entre vignes et collines\n➡️ Suivie d’un apéro convivial autour des vins du domaine 🍇 »\n➡️ Ambiance bien-être\, nature et partage \n📅 Mardi 19 août 2025\n🕐 À 19h00\n📍 Domaine du Vallon des Glauges\, Voie d’Aureille\, 13430 Eyguières \n—– \n🧘‍♀️ Ouvert à tous niveaux\n🧘‍♀  Penser à ramener votre tapis de yoga \nℹ Sur réservation uniquement
URL:https://www.eyguieres.org/evenements/19-aout-2025-yogapero-domaine-du-vallon-des-glauges/
LOCATION:Domaine du Vallon des Glauges\, Chemin des Glauges\, Eyguieres\, 13430\, France
CATEGORIES:Évènements de la commune,Local
ATTACH;FMTTYPE=image/jpeg:https://www.eyguieres.org/wp-content/uploads/2025/07/yogapero-scaled.jpg
END:VEVENT
BEGIN:VEVENT
DTSTART;TZID=Europe/Paris:20250819T210000
DTEND;TZID=Europe/Paris:20250819T230000
DTSTAMP:20260423T145409
CREATED:20250802T080013Z
LAST-MODIFIED:20250825T075136Z
UID:127024-1755637200-1755644400@www.eyguieres.org
SUMMARY:19 août 2025   Cinéma en plein air - Bad guys 2
DESCRIPTION:🎞 [𝗖𝗜𝗡𝗘́𝗠𝗔 𝗘𝗡 𝗣𝗟𝗘𝗜𝗡 𝗔𝗜𝗥] 🌅 \n✨ Séance de cinéma organisée par la mairie au Théâtre de Verdure ! ✨ \n📍 𝗧𝗛𝗘́𝗔̂𝗧𝗥𝗘 𝗗𝗘 𝗩𝗘𝗥𝗗𝗨𝗥𝗘 \n📆 Mardi 19 août 2025\n👉 𝗕𝗮𝗱 𝗴𝘂𝘆𝘀 𝟮 🎬\n🕙 La séance débute à 21h \n🎫 Les places sont au tarif habituel et s’achètent sur place.
URL:https://www.eyguieres.org/evenements/19-aout-2025-cinema-en-plein-air-bad-guys-2/
LOCATION:Théâtre de Verdure\, 8 rue calade\, Eyguieres\, 13430\, France
CATEGORIES:Évènements de la commune,Local
ATTACH;FMTTYPE=image/jpeg:https://www.eyguieres.org/wp-content/uploads/2025/08/decli-cinema-plein-air-eyguieres-aout-2025-01.jpg
END:VEVENT
BEGIN:VEVENT
DTSTART;TZID=Europe/Paris:20250819T210000
DTEND;TZID=Europe/Paris:20250824T233000
DTSTAMP:20260423T145409
CREATED:20250802T090004Z
LAST-MODIFIED:20250825T075146Z
UID:127023-1755637200-1756078200@www.eyguieres.org
SUMMARY:Du 19 au 24 août 2025   Cinéma en plein air
DESCRIPTION:🎞 [𝗖𝗜𝗡𝗘́𝗠𝗔 𝗘𝗡 𝗣𝗟𝗘𝗜𝗡 𝗔𝗜𝗥] 🌅 \nDes séances de cinéma sont organisées par la mairie au Théâtre de Verdure ✨ \n🕙 Toutes les séances débutent à 21h00 🕙 \n📍 𝗧𝗛𝗘́𝗔̂𝗧𝗥𝗘 𝗗𝗘 𝗩𝗘𝗥𝗗𝗨𝗥𝗘 \n📆 Mardi 19 août- Bad guys 2\n📆 Mercredi 20 août – Les 4 fantastiques\n📆 Jeudi 21 août – Y’a pas de réseau\n📆 Samedi 23 août – En fanfare\n📆 Dimanche 24 août – La femme qui en savait trop \nLe dimanche 24 août à 20h\, la municipalité vous invite à un concert de musique persane 🎵 \n🎫 Les places sont au tarif habituel et s’achètent sur place
URL:https://www.eyguieres.org/evenements/du-19-au-24-aout-2025-cinema-en-plein-air/
LOCATION:Théâtre de Verdure\, 8 rue calade\, Eyguieres\, 13430\, France
CATEGORIES:Évènements de la commune,Local
ATTACH;FMTTYPE=image/jpeg:https://www.eyguieres.org/wp-content/uploads/2025/08/declinaisons-1-01-1.jpg
END:VEVENT
END:VCALENDAR