BEGIN:VCALENDAR
VERSION:2.0
PRODID:-//Eyguières Les Alpilles - ECPv6.15.16//NONSGML v1.0//EN
CALSCALE:GREGORIAN
METHOD:PUBLISH
X-WR-CALNAME:Eyguières Les Alpilles
X-ORIGINAL-URL:https://www.eyguieres.org
X-WR-CALDESC:Évènements pour Eyguières Les Alpilles
REFRESH-INTERVAL;VALUE=DURATION:PT1H
X-Robots-Tag:noindex
X-PUBLISHED-TTL:PT1H
BEGIN:VTIMEZONE
TZID:Europe/Paris
BEGIN:DAYLIGHT
TZOFFSETFROM:+0100
TZOFFSETTO:+0200
TZNAME:CEST
DTSTART:20240331T010000
END:DAYLIGHT
BEGIN:STANDARD
TZOFFSETFROM:+0200
TZOFFSETTO:+0100
TZNAME:CET
DTSTART:20241027T010000
END:STANDARD
BEGIN:DAYLIGHT
TZOFFSETFROM:+0100
TZOFFSETTO:+0200
TZNAME:CEST
DTSTART:20250330T010000
END:DAYLIGHT
BEGIN:STANDARD
TZOFFSETFROM:+0200
TZOFFSETTO:+0100
TZNAME:CET
DTSTART:20251026T010000
END:STANDARD
BEGIN:DAYLIGHT
TZOFFSETFROM:+0100
TZOFFSETTO:+0200
TZNAME:CEST
DTSTART:20260329T010000
END:DAYLIGHT
BEGIN:STANDARD
TZOFFSETFROM:+0200
TZOFFSETTO:+0100
TZNAME:CET
DTSTART:20261025T010000
END:STANDARD
END:VTIMEZONE
BEGIN:VEVENT
DTSTART;TZID=Europe/Paris:20250826T100000
DTEND;TZID=Europe/Paris:20250913T170000
DTSTAMP:20260423T132833
CREATED:20250809T060035Z
LAST-MODIFIED:20250826T090329Z
UID:127558-1756202400-1757782800@www.eyguieres.org
SUMMARY:Du 26 août au 13 septembre 2025   Exposition "Encadrer la différence\, révéler l'excellence" - Médiathèque d'Eyguières
DESCRIPTION:⭐ [𝗘𝗫𝗣𝗢𝗦𝗜𝗧𝗜𝗢𝗡 « 𝗘𝗡𝗖𝗔𝗗𝗥𝗘𝗥 𝗟𝗔 𝗗𝗜𝗙𝗙𝗘́𝗥𝗘𝗡𝗖𝗘\, 𝗥𝗘́𝗩𝗘́𝗟𝗘𝗥 𝗟’𝗘𝗫𝗖𝗘𝗟𝗟𝗘𝗡𝗖𝗘 » – 𝗠𝗘́𝗗𝗜𝗔𝗧𝗛𝗘̀𝗤𝗨𝗘 𝗗’𝗘𝗬𝗚𝗨𝗜𝗘̀𝗥𝗘𝗦] ⭐ \n👉 La Médiathèque d’Eyguières accueille une nouvelle exposition\, « Encadrer la différence\, révéler l’excellence » par des élèves du dispositif ULIS du collège Lucie Aubrac à Eyguières. \n𝗘𝗫𝗣𝗢𝗦𝗜𝗧𝗜𝗢𝗡\n📅 Du 26 août au 13 septembre 2025 \n𝗩𝗘𝗥𝗡𝗜𝗦𝗦𝗔𝗚𝗘\n📅 Vendredi 29 août  2025\n🕛 18h00 \n📍 à la Médiathèque d’Eyguières \nℹ️ Pour plus d’informations 👇\n📞 04 90 57 94 62\n📧 mediatheque@mairie-eyguieres.fr \n \n 
URL:https://www.eyguieres.org/evenements/du-26-aout-au-13-septembre-2025-exposition-encadrer-la-difference-reveler-lexcellence-mediatheque-deyguieres/
LOCATION:Médiathèque\, 21 Rue Rabaud St Étienne\, Eyguières\, 13430
CATEGORIES:Local,Médiathèque
ATTACH;FMTTYPE=image/jpeg:https://www.eyguieres.org/wp-content/uploads/2025/07/Exposition-mediatheque-dEyguieres-01-scaled.jpg
END:VEVENT
BEGIN:VEVENT
DTSTART;TZID=Europe/Paris:20250903T100000
DTEND;TZID=Europe/Paris:20250921T190000
DTSTAMP:20260423T132833
CREATED:20250818T050042Z
LAST-MODIFIED:20251003T140806Z
UID:127597-1756893600-1758481200@www.eyguieres.org
SUMMARY:Du 3 au 21 septembre 2025  Exposition "4 artistes\, 4 amis" - Ateliers Agora
DESCRIPTION:📷🖌️[𝗘𝗫𝗣𝗢𝗦𝗜𝗧𝗜𝗢𝗡 « 𝟰 𝗔𝗥𝗧𝗜𝗦𝗧𝗘𝗦\, 𝟰 𝗔𝗠𝗜𝗦 » – 𝗔𝗧𝗘𝗟𝗜𝗘𝗥𝗦 𝗔𝗚𝗢𝗥𝗔] 🖌️📷 \n📣 L’Ateliers Agora vous invitent à découvrir leur nouvelle exposition « 4 artistes\, 4 amis »\, réunissant quatre membres du collectif La Raffinerie de Martigues. Peintres et photographe\, ils partagent une même complicité artistique et humaine et nous ouvrent les portes de leurs univers singuliers. \n𝗘𝗫𝗣𝗢𝗦𝗜𝗧𝗜𝗢𝗡\n📅 Du 3 au 21 septembre 2025 \n𝗩𝗘𝗥𝗡𝗜𝗦𝗦𝗔𝗚𝗘\n📅 Samedi 6 septembre 2025\n🕛 11h30 \n📍 2 Place Thiers \nPour plus d’informations 👇\n✉️ galerie@ateliers-agora.fr\n📞 06.60.64.07.54
URL:https://www.eyguieres.org/evenements/du-3-au-21-septembre-2025-exposition-4-artistes-4-amis-ateliers-agora/
LOCATION:Ateliers Agora\, Place Thiers\, EYGUIERES\, 13430
CATEGORIES:Culture,Local
ATTACH;FMTTYPE=image/jpeg:https://www.eyguieres.org/wp-content/uploads/2025/08/Exposition-01-scaled.jpg
END:VEVENT
BEGIN:VEVENT
DTSTART;TZID=Europe/Paris:20250912T090000
DTEND;TZID=Europe/Paris:20250914T120000
DTSTAMP:20260423T132833
CREATED:20250826T040046Z
LAST-MODIFIED:20251003T140940Z
UID:127758-1757667600-1757851200@www.eyguieres.org
SUMMARY:Du 12 au 14 septembre 2025  Grande collecte 2025 - ASSOCIATION APATE
DESCRIPTION:🐈[𝗚𝗥𝗔𝗡𝗗𝗘 𝗖𝗢𝗟𝗟𝗘𝗖𝗧𝗘 𝟮𝟬𝟮𝟱 – 𝗔𝗦𝗦𝗢𝗖𝗜𝗔𝗧𝗜𝗢𝗡 𝗔𝗣𝗔𝗧𝗘]🐈 \n📣 L’association A.P.A.T.E organise sa collecte de rentrée « Opération terrines » au profit de nos amis à quatre pattes 🐱 à 📍 l’𝗜𝗡𝗧𝗘𝗥𝗠𝗔𝗥𝗖𝗛𝗘́ 𝗗’𝗘𝗬𝗚𝗨𝗜𝗘𝗥𝗘𝗦. \n📅 𝗩𝗲𝗻𝗱𝗿𝗲𝗱𝗶 𝟭𝟮 𝗲𝘁 𝘀𝗮𝗺𝗲𝗱𝗶 𝟭𝟯 𝘀𝗲𝗽𝘁𝗲𝗺𝗯𝗿𝗲 𝟮𝟬𝟮𝟱\n🕖 De 9h à 19h \n📅 𝗗𝗶𝗺𝗮𝗻𝗰𝗵𝗲 𝟭𝟰 𝘀𝗲𝗽𝘁𝗲𝗺𝗯𝗿𝗲 𝟮𝟬𝟮𝟱\n🕖 Seulement le matin \n📣 Nous vous attendons nombreux!!!
URL:https://www.eyguieres.org/evenements/du-12-au-14-septembre-2025-grande-collecte-2025-association-apate/
CATEGORIES:Évènements de la commune,Local
ATTACH;FMTTYPE=image/jpeg:https://www.eyguieres.org/wp-content/uploads/2025/09/collecte-pour-chat-01-scaled.jpg
END:VEVENT
BEGIN:VEVENT
DTSTART;TZID=Europe/Paris:20250913T100000
DTEND;TZID=Europe/Paris:20250913T120000
DTSTAMP:20260423T132833
CREATED:20250827T050016Z
LAST-MODIFIED:20251003T141021Z
UID:127601-1757757600-1757764800@www.eyguieres.org
SUMMARY:13 septembre 2025   Découverte des échecs
DESCRIPTION:♟️[𝗗𝗘́𝗖𝗢𝗨𝗩𝗘𝗥𝗧𝗘 𝗗𝗘𝗦 𝗘́𝗖𝗛𝗘𝗖𝗦]♟️ \n📅 Samedi 13 septembre 2025\n🕐 De 10h à 12h\n📍 À la Médiathèque d’Eyguières \n👉 Ouvert à tous \nℹ️ Inscription conseillée 👇 \n📞 04 90 57 94 62\n📧 mediatheque@mairie-eyguieres.fr
URL:https://www.eyguieres.org/evenements/13-septembre-2025-decouverte-des-echecs/
LOCATION:Médiathèque\, 21 Rue Rabaud St Étienne\, Eyguières\, 13430
CATEGORIES:Local,Médiathèque
ATTACH;FMTTYPE=image/jpeg:https://www.eyguieres.org/wp-content/uploads/2025/08/Decouverte-des-echecs-mediatheque-Septembre-2025.jpg
END:VEVENT
BEGIN:VEVENT
DTSTART;TZID=Europe/Paris:20250913T100000
DTEND;TZID=Europe/Paris:20250913T120000
DTSTAMP:20260423T132833
CREATED:20250827T060008Z
LAST-MODIFIED:20251003T141029Z
UID:127751-1757757600-1757764800@www.eyguieres.org
SUMMARY:13 septembre 2025  Matinée port(é)es ouvertes - École de musique d'Eyguières
DESCRIPTION:🎶 [𝗠𝗔𝗧𝗜𝗡𝗘́𝗘 𝗣𝗢𝗥𝗧(𝗘́)𝗘𝗦 𝗢𝗨𝗩𝗘𝗥𝗧𝗘𝗦 – 𝗘́𝗖𝗢𝗟𝗘 𝗗𝗘 𝗠𝗨𝗦𝗜𝗤𝗨𝗘 𝗗’𝗘𝗬𝗚𝗨𝗜𝗘̀𝗥𝗘𝗦] 🎶 \n📣 L’école de musique d’Eyguières organise une matinée port(é)es ouvertes. \n📆 Samedi 13 septembre 2025\n🕚 De 10h00 à 12h00\n📍Centre culturel du Mont-Menu\, Eyguières
URL:https://www.eyguieres.org/evenements/13-septembre-2025-matinee-portees-ouvertes-ecole-de-musique-deyguieres/
CATEGORIES:Évènements de la commune,Local
ATTACH;FMTTYPE=image/jpeg:https://www.eyguieres.org/wp-content/uploads/2025/09/Musique-01-scaled.jpg
END:VEVENT
BEGIN:VEVENT
DTSTART;TZID=Europe/Paris:20250913T183000
DTEND;TZID=Europe/Paris:20250913T210000
DTSTAMP:20260423T132833
CREATED:20250827T070022Z
LAST-MODIFIED:20251003T141039Z
UID:127582-1757788200-1757797200@www.eyguieres.org
SUMMARY:13 septembre 2025   Concert - Groupe AÏOLI
DESCRIPTION:🌧️‼️𝗔𝗡𝗡𝗨𝗟𝗘́ 𝗘𝗡 𝗥𝗔𝗜𝗦𝗢𝗡 𝗗𝗘 𝗟𝗔 𝗣𝗟𝗨𝗜𝗘 ‼️🌧️ \nEn raison des prévisions météorologiques\, le concert est annulé. \n🎶 [𝗖𝗢𝗡𝗖𝗘𝗥𝗧 – 𝗚𝗥𝗢𝗨𝗣𝗘 𝗔𝗜̈𝗢𝗟𝗜] 🎵 \n🌟 𝙍𝘿𝙑 𝘼𝙐 𝙏𝙃𝙀́𝘼̂𝙏𝙍𝙀 𝘿𝙀 𝙑𝙀𝙍𝘿𝙐𝙍𝙀 \n📆 𝗦𝗮𝗺𝗲𝗱𝗶 𝟭𝟯 𝘀𝗲𝗽𝘁𝗲𝗺𝗯𝗿𝗲 𝟮𝟬𝟮𝟱\n🕔 18h30 > Ouverture des portes\n🕔 19h30 > Début du concert \n🎼 Groupe toulonnais le plus connu mondialement dans le Var\, composé d’excellents musiciens issus de la culture funk\, pop\, jazz et de la chanson française. \n______________ \n👉 Tarif : 10€\n🎫 Billetterie 👉 À l’accueil de la mairie et sur place également. \n______________
URL:https://www.eyguieres.org/evenements/13-septembre-2025-concert-groupe-aioli/
LOCATION:Théâtre de Verdure\, 8 rue calade\, Eyguieres\, 13430\, France
CATEGORIES:Évènements de la commune,Local
ATTACH;FMTTYPE=image/jpeg:https://www.eyguieres.org/wp-content/uploads/2025/09/declinaisons-RS-et-site-02.jpg
END:VEVENT
BEGIN:VEVENT
DTSTART;TZID=Europe/Paris:20250913T200000
DTEND;TZID=Europe/Paris:20250914T160000
DTSTAMP:20260423T132833
CREATED:20250827T080059Z
LAST-MODIFIED:20251003T141052Z
UID:127777-1757793600-1757865600@www.eyguieres.org
SUMMARY:13 et 14 septembre 2025   Match Handball à domicile  Aphbec
DESCRIPTION:🤾‍♂️🤾🏼‍♀️ [𝗠𝗔𝗧𝗖𝗛𝗦 𝗛𝗔𝗡𝗗𝗕𝗔𝗟𝗟] 🤾‍♂️🤾🏼‍♀️ \nCe week-end\, le club de handball Aphbec vous donne rendez-vous à domicile\, samedi et dimanche ! 🔵⚪️ \n📆 𝗦𝗮𝗺𝗲𝗱𝗶 𝟭𝟯 𝘀𝗲𝗽𝘁𝗲𝗺𝗯𝗿𝗲 𝟮𝟬𝟮𝟱\n🕒 à 20h00 💥\n👉 N2F VS Étoile Beauvallon \n📆 𝗗𝗶𝗺𝗮𝗻𝗰𝗵𝗲 𝟭𝟰 𝘀𝗲𝗽𝘁𝗲𝗺𝗯𝗿𝗲 𝟮𝟬𝟮𝟱\n🕒 à 14h00 💥\n👉 D2F VS GAP \n📍 Gymnase Raymond Lieutaud\, Eyguières
URL:https://www.eyguieres.org/evenements/13-et-14-septembre-2025-match-handball-a-domicile-aphbec/
LOCATION:Gymnase Lieutaud
CATEGORIES:Local,Sport
ATTACH;FMTTYPE=image/jpeg:https://www.eyguieres.org/wp-content/uploads/2022/08/TOURNOI-handball-eyguieres-3-et-4-septembre-2022.jpg
END:VEVENT
END:VCALENDAR