BEGIN:VCALENDAR
VERSION:2.0
PRODID:-//Eyguières Les Alpilles - ECPv6.15.16//NONSGML v1.0//EN
CALSCALE:GREGORIAN
METHOD:PUBLISH
X-ORIGINAL-URL:https://www.eyguieres.org
X-WR-CALDESC:Évènements pour Eyguières Les Alpilles
REFRESH-INTERVAL;VALUE=DURATION:PT1H
X-Robots-Tag:noindex
X-PUBLISHED-TTL:PT1H
BEGIN:VTIMEZONE
TZID:Europe/Paris
BEGIN:DAYLIGHT
TZOFFSETFROM:+0100
TZOFFSETTO:+0200
TZNAME:CEST
DTSTART:20240331T010000
END:DAYLIGHT
BEGIN:STANDARD
TZOFFSETFROM:+0200
TZOFFSETTO:+0100
TZNAME:CET
DTSTART:20241027T010000
END:STANDARD
BEGIN:DAYLIGHT
TZOFFSETFROM:+0100
TZOFFSETTO:+0200
TZNAME:CEST
DTSTART:20250330T010000
END:DAYLIGHT
BEGIN:STANDARD
TZOFFSETFROM:+0200
TZOFFSETTO:+0100
TZNAME:CET
DTSTART:20251026T010000
END:STANDARD
BEGIN:DAYLIGHT
TZOFFSETFROM:+0100
TZOFFSETTO:+0200
TZNAME:CEST
DTSTART:20260329T010000
END:DAYLIGHT
BEGIN:STANDARD
TZOFFSETFROM:+0200
TZOFFSETTO:+0100
TZNAME:CET
DTSTART:20261025T010000
END:STANDARD
END:VTIMEZONE
BEGIN:VEVENT
DTSTART;TZID=Europe/Paris:20250924T100000
DTEND;TZID=Europe/Paris:20251012T190000
DTSTAMP:20260419T162136
CREATED:20250907T070046Z
LAST-MODIFIED:20251003T141217Z
UID:127874-1758708000-1760295600@www.eyguieres.org
SUMMARY:Du 24 septembre au 12 octobre 2025  Exposition "Rythmes Sonores" - Ateliers Agora
DESCRIPTION:🎶 [𝗘𝗫𝗣𝗢𝗦𝗜𝗧𝗜𝗢𝗡 « 𝗥𝗬𝗧𝗛𝗠𝗘𝗦 𝗦𝗢𝗡𝗢𝗥𝗘𝗦 » – 𝗔𝗧𝗘𝗟𝗜𝗘𝗥𝗦 𝗔𝗚𝗢𝗥𝗔] 🎶 \n📣 L’Ateliers Agora vous invitent à découvrir leur nouvelle exposition « Rythmes Sonores »\, réunissant quatre artistes qui font vibrer la frontière entre arts visuels et musique. \n𝗘𝗫𝗣𝗢𝗦𝗜𝗧𝗜𝗢𝗡\n📅 Du 24 septembre au 12 octobre 2025 \n𝗩𝗘𝗥𝗡𝗜𝗦𝗦𝗔𝗚𝗘\n📅 Vendredi 26 septembre 2025\n🕛 18h30 \n📍 2 Place Thiers \nPour plus d’informations 👇\n✉️ galerie@ateliers-agora.fr\n📞 06.60.64.07.54
URL:https://www.eyguieres.org/evenements/du-24-septembre-au-12-octobre-2025-exposition-rythmes-sonores-ateliers-agora/
LOCATION:Ateliers Agora\, Place Thiers\, EYGUIERES\, 13430
CATEGORIES:Culture,Local
ATTACH;FMTTYPE=image/jpeg:https://www.eyguieres.org/wp-content/uploads/2025/09/expo-scaled.jpg
END:VEVENT
BEGIN:VEVENT
DTSTART;TZID=Europe/Paris:20250930T100000
DTEND;TZID=Europe/Paris:20251025T170000
DTSTAMP:20260419T162136
CREATED:20250914T070017Z
LAST-MODIFIED:20251003T141320Z
UID:128003-1759226400-1761411600@www.eyguieres.org
SUMMARY:Du 30 septembre au 25 octobre 2025   Exposition "Les flamants dansent sans rien dire..." - Médiathèque d'Eyguières
DESCRIPTION:🦩 [𝗘𝗫𝗣𝗢𝗦𝗜𝗧𝗜𝗢𝗡 « 𝗟𝗘𝗦 𝗙𝗟𝗔𝗠𝗔𝗡𝗧𝗦 𝗗𝗔𝗡𝗦𝗘𝗡𝗧 𝗦𝗔𝗡𝗦 𝗥𝗜𝗘𝗡 𝗗𝗜𝗥𝗘… » – 𝗠𝗘́𝗗𝗜𝗔𝗧𝗛𝗘̀𝗤𝗨𝗘 𝗗’𝗘𝗬𝗚𝗨𝗜𝗘̀𝗥𝗘𝗦] 🦩 \n👉 La Médiathèque d’Eyguières accueille une nouvelle exposition photos\, « Les flamants dansent sans rien dire… » par Yves Verrier. \n𝗘𝗫𝗣𝗢𝗦𝗜𝗧𝗜𝗢𝗡\n📅 Du 30 septembre au 25 octobre 2025 \n𝗩𝗘𝗥𝗡𝗜𝗦𝗦𝗔𝗚𝗘\n📅 Le 3 octobre 2025\n🕛 19h00 \n📍 à la Médiathèque d’Eyguières \nℹ️ Pour plus d’informations 👇\n📞 04 90 57 94 62\n📧 mediatheque@mairie-eyguieres.fr \n \n 
URL:https://www.eyguieres.org/evenements/du-30-septembre-au-25-octobre-2025-exposition-les-flamants-dansent-sans-rien-dire-mediatheque-deyguieres/
LOCATION:Médiathèque\, 21 Rue Rabaud St Étienne\, Eyguières\, 13430
CATEGORIES:Local,Médiathèque
ATTACH;FMTTYPE=image/jpeg:https://www.eyguieres.org/wp-content/uploads/2025/09/exposition-eyguieres-scaled.jpg
END:VEVENT
BEGIN:VEVENT
DTSTART;TZID=Europe/Paris:20251011T090000
DTEND;TZID=Europe/Paris:20251012T183000
DTSTAMP:20260419T162136
CREATED:20250925T070003Z
LAST-MODIFIED:20251003T141430Z
UID:127881-1760173200-1760293800@www.eyguieres.org
SUMMARY:Du 11 au 12 octobre 2025   Foire aux livres - Association APATE
DESCRIPTION:📚 [𝗙𝗢𝗜𝗥𝗘 𝗔𝗨𝗫 𝗟𝗜𝗩𝗥𝗘𝗦 – 𝗔𝗦𝗦𝗢𝗖𝗜𝗔𝗧𝗜𝗢𝗡 𝗔𝗣𝗔𝗧𝗘] 📚 \n👉 L’Association APATE organise sa Foire aux Livres d’automne dont tous les bénéfices seront intégralement reversés pour soutenir ses actions quotidiennes en faveur de la protection animale 😺 \nPour tous les âges\, une grande variété de livres 📚 à de petits prix… \n📅 Du 11 et 12 octobre 2025\n🕑 De 9h à 18h30\n📍 Salle de la gare\, Eyguières \nℹ️ Entrée et Parking Gratuit
URL:https://www.eyguieres.org/evenements/du-11-au-12-octobre-2025-foire-aux-livres-association-apate/
LOCATION:Salle de la Gare\, Avenue de la Gare\, EYGUIERES\, 13430
CATEGORIES:Local
ATTACH;FMTTYPE=image/jpeg:https://www.eyguieres.org/wp-content/uploads/2025/04/Foire-aux-livres--scaled.jpg
END:VEVENT
BEGIN:VEVENT
DTSTART;TZID=Europe/Paris:20251011T160000
DTEND;TZID=Europe/Paris:20251012T130000
DTSTAMP:20260419T162136
CREATED:20250925T080038Z
LAST-MODIFIED:20251008T082342Z
UID:128083-1760198400-1760274000@www.eyguieres.org
SUMMARY:11 et 12 octobre 2025   Match Handball à domicile  Aphbec
DESCRIPTION:🤾‍♂️🤾🏼‍♀️ [𝗠𝗔𝗧𝗖𝗛𝗦 𝗛𝗔𝗡𝗗𝗕𝗔𝗟𝗟] 🤾‍♂️🤾🏼‍♀️ \nLe club de handball Aphbec vous donne rendez-vous à domicile ce samedi et dimanche ! 🔵⚪️ \n📆 𝗦𝗮𝗺𝗲𝗱𝗶 𝟭𝟭 𝗼𝗰𝘁𝗼𝗯𝗿𝗲 𝟮𝟬𝟮𝟱 \n🕒 à 16h00 💥\n👉 U15F VS Avignon \n🕒 à 18h00 💥\n👉 U17F VS ASSM \n🕒 à 20h00 💥\n👉 PNF VS Conv.Phoenix \n📆 𝗗𝗶𝗺𝗮𝗻𝗰𝗵𝗲 𝟭𝟮 𝗼𝗰𝘁𝗼𝗯𝗿𝗲 𝟮𝟬𝟮𝟱 \n🕒 à 11h00 💥\n👉 u15G VS Mallemort \n📍 Gymnase Raymond Lieutaud\, Eyguières
URL:https://www.eyguieres.org/evenements/11-et-12-octobre-2025-match-handball-a-domicile-aphbec/
LOCATION:Gymnase Lieutaud
CATEGORIES:Local,Sport
ATTACH;FMTTYPE=image/jpeg:https://www.eyguieres.org/wp-content/uploads/2022/08/TOURNOI-handball-eyguieres-3-et-4-septembre-2022.jpg
END:VEVENT
BEGIN:VEVENT
DTSTART;TZID=Europe/Paris:20251012T070000
DTEND;TZID=Europe/Paris:20251012T170000
DTSTAMP:20260419T162136
CREATED:20250926T070056Z
LAST-MODIFIED:20251003T141453Z
UID:127841-1760252400-1760288400@www.eyguieres.org
SUMMARY:12 octobre 2025   Vide Grenier
DESCRIPTION:🏺📚🖼 [𝗩𝗜𝗗𝗘 𝗚𝗥𝗘𝗡𝗜𝗘𝗥] 🛷📕👗 \n📣 Grand vide grenier organisé par la Raquette d’Eyguières en partenariat avec la municipalité ! \n📅 Dimanche 12 octobre 2025\n🕛 De 8h à 18h\n📍 Centre ville \n👉ℹ Vous souhaitez être EXPOSANT ?\n➡ Inscrivez-vous❗𝗔𝗩𝗔𝗡𝗧 𝗟𝗨𝗡𝗗𝗜 𝟲 𝗢𝗖𝗧𝗢𝗕𝗥𝗘 𝟮𝟬𝟮𝟱❗ \nLe numéro d’emplacement et l’accès sera communiqué aux participants 48h à 24h avant l’évènement. \n📝✅ Lien pour accéder au bulletin d’inscription et règlement (vous pouvez le récupérer à l’accueil de la mairie également) : je télécharge le document. \n\n \n\n\n➡ Le dossier est à renvoyer ou à déposer au club La Raquette d’Eyguières.\n\n\nℹ Pour plus de renseignements vous pouvez écrire un mail à videgreniereyguieres@yahoo.com ou appeler le 06 36 15 28 92\n\n \n  \n\n\n\n\n\n\n\n\n\n\n 
URL:https://www.eyguieres.org/evenements/12-octobre-2025-vide-grenier/
LOCATION:Centre Ville\, Place Thiers\, Eyguières\, 13430
CATEGORIES:Évènements de la commune,Local
ATTACH;FMTTYPE=image/jpeg:https://www.eyguieres.org/wp-content/uploads/2025/09/declinaisons-RS-et-site-03-1.jpg
END:VEVENT
BEGIN:VEVENT
DTSTART;TZID=Europe/Paris:20251012T150000
DTEND;TZID=Europe/Paris:20251012T170000
DTSTAMP:20260419T162136
CREATED:20250926T080024Z
LAST-MODIFIED:20251008T123852Z
UID:128022-1760281200-1760288400@www.eyguieres.org
SUMMARY:12 octobre 2025   MATCH RUGBY - EYGUIERES XV VS RC GIGNAC MARIGNANE
DESCRIPTION:🏉 [𝗠𝗔𝗧𝗖𝗛 𝗗𝗘 𝗥𝗨𝗚𝗕𝗬] 🏉 \n📅 𝗗𝗶𝗺𝗮𝗻𝗰𝗵𝗲 𝟭𝟮 𝗼𝗰𝘁𝗼𝗯𝗿𝗲 𝟮𝟬𝟮𝟱\n🕛 15h00 \n🆚 Adversaire : RC GIGNAC MARIGNANE \n📍 Stade de Rugby d’Eyguières
URL:https://www.eyguieres.org/evenements/12-octobre-2025-match-rugby-eyguieres-xv-vs-rc-gignac-marignane/
LOCATION:Eyguières\, Eyguieres\, Eyguieres\, France
CATEGORIES:Local,Sport
ATTACH;FMTTYPE=image/jpeg:https://www.eyguieres.org/wp-content/uploads/2022/03/match-rugby-eugieres-6-mars-2022-couve-01.jpg
END:VEVENT
BEGIN:VEVENT
DTSTART;TZID=Europe/Paris:20251012T160000
DTEND;TZID=Europe/Paris:20251012T170000
DTSTAMP:20260419T162136
CREATED:20250926T090028Z
LAST-MODIFIED:20251003T141519Z
UID:127847-1760284800-1760288400@www.eyguieres.org
SUMMARY:12 octobre 2025  Concert de Gospel - Gospel'njoy
DESCRIPTION:⛪ [𝗖𝗢𝗡𝗖𝗘𝗥𝗧 𝗗𝗘 𝗚𝗢𝗦𝗣𝗘𝗟 – 𝗚𝗢𝗦𝗣𝗘𝗟’𝗡𝗝𝗢𝗬] ⛪ \n📣 Gospel’njoy en partenariat avec l’association du sporting club d’Eyguières et la Municipalité vous propose un concert de Gospel au profit de l’IPC. \n📅  Dimanche 12 octobre 2025\n🕛 À 16h00 (ouverture au public à 15h30)\n📍 Église Notre-Dame de Grâce –  Eyguières \n🎫 Entrée : 10 euros \nℹ️ Renseignements au 📞 06.78.37.25.66
URL:https://www.eyguieres.org/evenements/12-octobre-2025-concert-de-gospel-gospelnjoy/
LOCATION:Église Notre Dame de Grâce
CATEGORIES:Culture,Évènements de la commune,Local
ATTACH;FMTTYPE=image/jpeg:https://www.eyguieres.org/wp-content/uploads/2025/09/Gospel-scaled.jpg
END:VEVENT
END:VCALENDAR