BEGIN:VCALENDAR
VERSION:2.0
PRODID:-//Eyguières Les Alpilles - ECPv6.15.16//NONSGML v1.0//EN
CALSCALE:GREGORIAN
METHOD:PUBLISH
X-WR-CALNAME:Eyguières Les Alpilles
X-ORIGINAL-URL:https://www.eyguieres.org
X-WR-CALDESC:Évènements pour Eyguières Les Alpilles
REFRESH-INTERVAL;VALUE=DURATION:PT1H
X-Robots-Tag:noindex
X-PUBLISHED-TTL:PT1H
BEGIN:VTIMEZONE
TZID:Europe/Paris
BEGIN:DAYLIGHT
TZOFFSETFROM:+0100
TZOFFSETTO:+0200
TZNAME:CEST
DTSTART:20240331T010000
END:DAYLIGHT
BEGIN:STANDARD
TZOFFSETFROM:+0200
TZOFFSETTO:+0100
TZNAME:CET
DTSTART:20241027T010000
END:STANDARD
BEGIN:DAYLIGHT
TZOFFSETFROM:+0100
TZOFFSETTO:+0200
TZNAME:CEST
DTSTART:20250330T010000
END:DAYLIGHT
BEGIN:STANDARD
TZOFFSETFROM:+0200
TZOFFSETTO:+0100
TZNAME:CET
DTSTART:20251026T010000
END:STANDARD
BEGIN:DAYLIGHT
TZOFFSETFROM:+0100
TZOFFSETTO:+0200
TZNAME:CEST
DTSTART:20260329T010000
END:DAYLIGHT
BEGIN:STANDARD
TZOFFSETFROM:+0200
TZOFFSETTO:+0100
TZNAME:CET
DTSTART:20261025T010000
END:STANDARD
END:VTIMEZONE
BEGIN:VEVENT
DTSTART;TZID=Europe/Paris:20250930T100000
DTEND;TZID=Europe/Paris:20251025T170000
DTSTAMP:20260421T121503
CREATED:20250914T070017Z
LAST-MODIFIED:20251003T141320Z
UID:128003-1759226400-1761411600@www.eyguieres.org
SUMMARY:Du 30 septembre au 25 octobre 2025   Exposition "Les flamants dansent sans rien dire..." - Médiathèque d'Eyguières
DESCRIPTION:🦩 [𝗘𝗫𝗣𝗢𝗦𝗜𝗧𝗜𝗢𝗡 « 𝗟𝗘𝗦 𝗙𝗟𝗔𝗠𝗔𝗡𝗧𝗦 𝗗𝗔𝗡𝗦𝗘𝗡𝗧 𝗦𝗔𝗡𝗦 𝗥𝗜𝗘𝗡 𝗗𝗜𝗥𝗘… » – 𝗠𝗘́𝗗𝗜𝗔𝗧𝗛𝗘̀𝗤𝗨𝗘 𝗗’𝗘𝗬𝗚𝗨𝗜𝗘̀𝗥𝗘𝗦] 🦩 \n👉 La Médiathèque d’Eyguières accueille une nouvelle exposition photos\, « Les flamants dansent sans rien dire… » par Yves Verrier. \n𝗘𝗫𝗣𝗢𝗦𝗜𝗧𝗜𝗢𝗡\n📅 Du 30 septembre au 25 octobre 2025 \n𝗩𝗘𝗥𝗡𝗜𝗦𝗦𝗔𝗚𝗘\n📅 Le 3 octobre 2025\n🕛 19h00 \n📍 à la Médiathèque d’Eyguières \nℹ️ Pour plus d’informations 👇\n📞 04 90 57 94 62\n📧 mediatheque@mairie-eyguieres.fr \n \n 
URL:https://www.eyguieres.org/evenements/du-30-septembre-au-25-octobre-2025-exposition-les-flamants-dansent-sans-rien-dire-mediatheque-deyguieres/
LOCATION:Médiathèque\, 21 Rue Rabaud St Étienne\, Eyguières\, 13430
CATEGORIES:Local,Médiathèque
ATTACH;FMTTYPE=image/jpeg:https://www.eyguieres.org/wp-content/uploads/2025/09/exposition-eyguieres-scaled.jpg
END:VEVENT
BEGIN:VEVENT
DTSTART;TZID=Europe/Paris:20251013T153000
DTEND;TZID=Europe/Paris:20251013T170000
DTSTAMP:20260421T121503
CREATED:20250927T070047Z
LAST-MODIFIED:20251010T073024Z
UID:128073-1760369400-1760374800@www.eyguieres.org
SUMMARY:13 octobre 2025   Yoga chaise séniors - AIL Eyguières
DESCRIPTION:🧘 [𝗬𝗢𝗚𝗔 𝗖𝗛𝗔𝗜𝗦𝗘 𝗦𝗘́𝗡𝗜𝗢𝗥𝗦 – 𝗔𝗜𝗟 𝗘𝗬𝗚𝗨𝗜𝗘̀𝗥𝗘𝗦] 🧘‍ \n📣 L’AIL Eyguières propose un cours de yoga sur chaise spécialement pour les seniors animé par Caroline Joubert. \n📅 Lundi 13 octobre 2025\n🕐 De 15h45 à 16h45\n📍 Salle polyvalente 2 \n👉 Les cours ont lieu tous les lundi de 15h45 à 16h45. \nℹ N’hésitez pas à vous inscrire !
URL:https://www.eyguieres.org/evenements/13-octobre-2025-yoga-chaise-seniors-ail-eyguieres/
CATEGORIES:Évènements de la commune,Local
ATTACH;FMTTYPE=image/jpeg:https://www.eyguieres.org/wp-content/uploads/2025/09/eyguieres-1-1.jpg
END:VEVENT
END:VCALENDAR