BEGIN:VCALENDAR
VERSION:2.0
PRODID:-//Eyguières Les Alpilles - ECPv6.15.16//NONSGML v1.0//EN
CALSCALE:GREGORIAN
METHOD:PUBLISH
X-ORIGINAL-URL:https://www.eyguieres.org
X-WR-CALDESC:Évènements pour Eyguières Les Alpilles
REFRESH-INTERVAL;VALUE=DURATION:PT1H
X-Robots-Tag:noindex
X-PUBLISHED-TTL:PT1H
BEGIN:VTIMEZONE
TZID:Europe/Paris
BEGIN:DAYLIGHT
TZOFFSETFROM:+0100
TZOFFSETTO:+0200
TZNAME:CEST
DTSTART:20240331T010000
END:DAYLIGHT
BEGIN:STANDARD
TZOFFSETFROM:+0200
TZOFFSETTO:+0100
TZNAME:CET
DTSTART:20241027T010000
END:STANDARD
BEGIN:DAYLIGHT
TZOFFSETFROM:+0100
TZOFFSETTO:+0200
TZNAME:CEST
DTSTART:20250330T010000
END:DAYLIGHT
BEGIN:STANDARD
TZOFFSETFROM:+0200
TZOFFSETTO:+0100
TZNAME:CET
DTSTART:20251026T010000
END:STANDARD
BEGIN:DAYLIGHT
TZOFFSETFROM:+0100
TZOFFSETTO:+0200
TZNAME:CEST
DTSTART:20260329T010000
END:DAYLIGHT
BEGIN:STANDARD
TZOFFSETFROM:+0200
TZOFFSETTO:+0100
TZNAME:CET
DTSTART:20261025T010000
END:STANDARD
END:VTIMEZONE
BEGIN:VEVENT
DTSTART;TZID=Europe/Paris:20250930T100000
DTEND;TZID=Europe/Paris:20251025T170000
DTSTAMP:20260419T144020
CREATED:20250914T070017Z
LAST-MODIFIED:20251003T141320Z
UID:128003-1759226400-1761411600@www.eyguieres.org
SUMMARY:Du 30 septembre au 25 octobre 2025   Exposition "Les flamants dansent sans rien dire..." - Médiathèque d'Eyguières
DESCRIPTION:🦩 [𝗘𝗫𝗣𝗢𝗦𝗜𝗧𝗜𝗢𝗡 « 𝗟𝗘𝗦 𝗙𝗟𝗔𝗠𝗔𝗡𝗧𝗦 𝗗𝗔𝗡𝗦𝗘𝗡𝗧 𝗦𝗔𝗡𝗦 𝗥𝗜𝗘𝗡 𝗗𝗜𝗥𝗘… » – 𝗠𝗘́𝗗𝗜𝗔𝗧𝗛𝗘̀𝗤𝗨𝗘 𝗗’𝗘𝗬𝗚𝗨𝗜𝗘̀𝗥𝗘𝗦] 🦩 \n👉 La Médiathèque d’Eyguières accueille une nouvelle exposition photos\, « Les flamants dansent sans rien dire… » par Yves Verrier. \n𝗘𝗫𝗣𝗢𝗦𝗜𝗧𝗜𝗢𝗡\n📅 Du 30 septembre au 25 octobre 2025 \n𝗩𝗘𝗥𝗡𝗜𝗦𝗦𝗔𝗚𝗘\n📅 Le 3 octobre 2025\n🕛 19h00 \n📍 à la Médiathèque d’Eyguières \nℹ️ Pour plus d’informations 👇\n📞 04 90 57 94 62\n📧 mediatheque@mairie-eyguieres.fr \n \n 
URL:https://www.eyguieres.org/evenements/du-30-septembre-au-25-octobre-2025-exposition-les-flamants-dansent-sans-rien-dire-mediatheque-deyguieres/
LOCATION:Médiathèque\, 21 Rue Rabaud St Étienne\, Eyguières\, 13430
CATEGORIES:Local,Médiathèque
ATTACH;FMTTYPE=image/jpeg:https://www.eyguieres.org/wp-content/uploads/2025/09/exposition-eyguieres-scaled.jpg
END:VEVENT
BEGIN:VEVENT
DTSTART;TZID=Europe/Paris:20251015T100000
DTEND;TZID=Europe/Paris:20251102T190000
DTSTAMP:20260419T144020
CREATED:20250929T070008Z
LAST-MODIFIED:20251015T091246Z
UID:128098-1760522400-1762110000@www.eyguieres.org
SUMMARY:Du 15 octobre au 2 novembre 2025  Exposition "Au fil des possibles" - Ateliers Agora
DESCRIPTION:🎨 [𝗘𝗫𝗣𝗢𝗦𝗜𝗧𝗜𝗢𝗡 « 𝗔𝗨 𝗙𝗜𝗟 𝗗𝗘𝗦 𝗣𝗢𝗦𝗦𝗜𝗕𝗟𝗘𝗦 » – 𝗔𝗧𝗘𝗟𝗜𝗘𝗥𝗦 𝗔𝗚𝗢𝗥𝗔] 🎨 \n📣 L’Ateliers Agora vous invitent à découvrir leur nouvelle exposition « Au fil des possibles »\, réunissant deux artistes aux univers singuliers. \n𝗘𝗫𝗣𝗢𝗦𝗜𝗧𝗜𝗢𝗡\n📅 Du 15 octobre au 2 novembre 2025 \n𝗩𝗘𝗥𝗡𝗜𝗦𝗦𝗔𝗚𝗘\n📅 Samedi 18 octobre 2025\n🕛 11h30 \n📍 2 Place Thiers \nPour plus d’informations 👇\n✉️ galerie@ateliers-agora.fr\n📞 06.60.64.07.54
URL:https://www.eyguieres.org/evenements/du-15-octobre-au-2-novembre-2025-exposition-au-fil-des-possibles-ateliers-agora/
LOCATION:Ateliers Agora\, Place Thiers\, EYGUIERES\, 13430
CATEGORIES:Culture,Local
ATTACH;FMTTYPE=image/jpeg:https://www.eyguieres.org/wp-content/uploads/2025/10/Exposition-ateliers-agora-scaled.jpg
END:VEVENT
BEGIN:VEVENT
DTSTART;TZID=Europe/Paris:20251021T100000
DTEND;TZID=Europe/Paris:20251031T110000
DTSTAMP:20260419T144020
CREATED:20251004T080029Z
LAST-MODIFIED:20251023T130055Z
UID:128103-1761040800-1761908400@www.eyguieres.org
SUMMARY:Du 21 au 31 octobre 2025  Ateliers – Vacances d’octobre | Médiathèque d’Eyguières
DESCRIPTION:🎃 [𝗔𝗧𝗘𝗟𝗜𝗘𝗥𝗦 – 𝗩𝗔𝗖𝗔𝗡𝗖𝗘𝗦 𝗗’𝗢𝗖𝗧𝗢𝗕𝗥𝗘 | 𝗠𝗘́𝗗𝗜𝗔𝗧𝗛𝗘̀𝗤𝗨𝗘 𝗗’𝗘𝗬𝗚𝗨𝗜𝗘̀𝗥𝗘𝗦] 🎃 \n👉 Dans le cadre du festival « Nous\, sorcières et sauvages »\, des ateliers créatifs imaginés par Hitomi Takeda sont proposés par la Bibliothèque départementale des Bouches-du-Rhône\, en collaboration avec la municipalité. \nLe bucheron et la sorcière (à partir de 6 ans)\n📆 Les mardis ou mercredis\n🕑 De 10h à 11h \nLe bestiaire bizarre (à partir de 6 ans)\n📆 Les jeudis ou vendredis\n🕑 De 10h à 11h \n📍 À la médiathèque d’Eyguières \nℹ️ Pour plus d’informations 👇\n📞 04 90 57 94 62\n📧 mediatheque@mairie-eyguieres.fr
URL:https://www.eyguieres.org/evenements/du-21-au-31-octobre-2025-ateliers-vacances-doctobre-mediatheque-deyguieres/
LOCATION:Médiathèque\, 21 Rue Rabaud St Étienne\, Eyguières\, 13430
CATEGORIES:Évènements de la commune,Local
ATTACH;FMTTYPE=image/jpeg:https://www.eyguieres.org/wp-content/uploads/2025/10/Vacance-doctobre-mediatheque-scaled.jpg
END:VEVENT
END:VCALENDAR