BEGIN:VCALENDAR
VERSION:2.0
PRODID:-//Eyguières Les Alpilles - ECPv6.15.16//NONSGML v1.0//EN
CALSCALE:GREGORIAN
METHOD:PUBLISH
X-WR-CALNAME:Eyguières Les Alpilles
X-ORIGINAL-URL:https://www.eyguieres.org
X-WR-CALDESC:Évènements pour Eyguières Les Alpilles
REFRESH-INTERVAL;VALUE=DURATION:PT1H
X-Robots-Tag:noindex
X-PUBLISHED-TTL:PT1H
BEGIN:VTIMEZONE
TZID:Europe/Paris
BEGIN:DAYLIGHT
TZOFFSETFROM:+0100
TZOFFSETTO:+0200
TZNAME:CEST
DTSTART:20240331T010000
END:DAYLIGHT
BEGIN:STANDARD
TZOFFSETFROM:+0200
TZOFFSETTO:+0100
TZNAME:CET
DTSTART:20241027T010000
END:STANDARD
BEGIN:DAYLIGHT
TZOFFSETFROM:+0100
TZOFFSETTO:+0200
TZNAME:CEST
DTSTART:20250330T010000
END:DAYLIGHT
BEGIN:STANDARD
TZOFFSETFROM:+0200
TZOFFSETTO:+0100
TZNAME:CET
DTSTART:20251026T010000
END:STANDARD
BEGIN:DAYLIGHT
TZOFFSETFROM:+0100
TZOFFSETTO:+0200
TZNAME:CEST
DTSTART:20260329T010000
END:DAYLIGHT
BEGIN:STANDARD
TZOFFSETFROM:+0200
TZOFFSETTO:+0100
TZNAME:CET
DTSTART:20261025T010000
END:STANDARD
END:VTIMEZONE
BEGIN:VEVENT
DTSTART;TZID=Europe/Paris:20251028T090000
DTEND;TZID=Europe/Paris:20251129T190000
DTSTAMP:20260421T151544
CREATED:20251006T070041Z
LAST-MODIFIED:20251105T132847Z
UID:128383-1761642000-1764442800@www.eyguieres.org
SUMMARY:Du 28 octobre au 29 novembre 2025  Exposition " Encre & Lumière"
DESCRIPTION:🖋✨ [𝗘𝗫𝗣𝗢𝗦𝗜𝗧𝗜𝗢𝗡 – 𝗘𝗡𝗖𝗥𝗘 & 𝗟𝗨𝗠𝗜𝗘̀𝗥𝗘] ✨🖋 \nLa médiathèque d’Eyguières accueille l’artiste Fabien Lopez pour une exposition haute en contrastes et en émotions ! Entre ombre et clarté\, découvrez ses œuvres qui mêlent finesse du trait et profondeur des ambiances 🎨 \n📅 Du 28 octobre au 29 novembre 2025\n🎨 Vernissage le 07 novembre à 19h00\n📍 Médiathèque – Entrée parc des frères Recordier \nℹ️ Entrée libre et gratuite. \n👉 Renseignements : 04.90.57.94.62 / mediatheque@mairie-eyguieres.fr
URL:https://www.eyguieres.org/evenements/28-octobre-2025-exposition-encre-lumiere/
LOCATION:Médiathèque\, 21 Rue Rabaud St Étienne\, Eyguières\, 13430
CATEGORIES:Local,Médiathèque
ATTACH;FMTTYPE=image/jpeg:https://www.eyguieres.org/wp-content/uploads/2025/10/base-image-article-evenement-site-01-scaled.jpg
END:VEVENT
BEGIN:VEVENT
DTSTART;TZID=Europe/Paris:20251105T100000
DTEND;TZID=Europe/Paris:20251123T190000
DTSTAMP:20260421T151544
CREATED:20251018T070008Z
LAST-MODIFIED:20251105T110723Z
UID:128468-1762336800-1763924400@www.eyguieres.org
SUMMARY:Du 5 au 23 novembre 2025  Exposition "l'environnement se cultive" - Ateliers Agora
DESCRIPTION:🦋 [𝗘𝗫𝗣𝗢𝗦𝗜𝗧𝗜𝗢𝗡 « 𝗟’𝗘𝗡𝗩𝗜𝗥𝗢𝗡𝗡𝗘𝗠𝗘𝗡𝗧 𝗦𝗘 𝗖𝗨𝗟𝗧𝗜𝗩𝗘 » – 𝗔𝗧𝗘𝗟𝗜𝗘𝗥𝗦 𝗔𝗚𝗢𝗥𝗔] 🦋 \n📣 L’Ateliers Agora vous invitent à découvrir leur nouvelle exposition « l’environnement se cultive ». \n𝗘𝗫𝗣𝗢𝗦𝗜𝗧𝗜𝗢𝗡\n📅 Du 5 au 23 novembre 2025 \n𝗩𝗘𝗥𝗡𝗜𝗦𝗦𝗔𝗚𝗘\n📅 Vendredi 7 novembre 2025\n🕛 18h30 \n📍 2 Place Thiers \nPour plus d’informations 👇\n✉️ galerie@ateliers-agora.fr\n📞 06.60.64.07.54
URL:https://www.eyguieres.org/evenements/du-5-au-23-novembre-2025-exposition-lenvironnement-se-cultive-ateliers-agora/
LOCATION:Ateliers Agora\, Place Thiers\, EYGUIERES\, 13430
CATEGORIES:Culture,Local
ATTACH;FMTTYPE=image/jpeg:https://www.eyguieres.org/wp-content/uploads/2025/11/Expo-ateliers-agora-scaled.jpg
END:VEVENT
BEGIN:VEVENT
DTSTART;TZID=Europe/Paris:20251121T093000
DTEND;TZID=Europe/Paris:20251121T123000
DTSTAMP:20260421T151544
CREATED:20251103T060001Z
LAST-MODIFIED:20251113T083329Z
UID:128524-1763717400-1763728200@www.eyguieres.org
SUMMARY:21 novembre 2025  Les matins câlins - LAEP
DESCRIPTION:👪[𝗟𝗘𝗦 𝗠𝗔𝗧𝗜𝗡𝗦 𝗖𝗔𝗟𝗜𝗡𝗦 – 𝗟𝗜𝗘𝗨𝗫 𝗗’𝗔𝗖𝗖𝗨𝗘𝗜𝗟 𝗘𝗡𝗙𝗔𝗡𝗧 𝗣𝗔𝗥𝗘𝗡𝗧]👪 \n👉Le LAEP\, est un lieu convivial qui permet de favoriser des temps d’échanges et de jeux entre parents et enfants. \nIl est souvent le premier lieu de socialisation pour l’enfant tout en facilitant les échanges entre adultes ✨ \nOn vient quand on veut et on part quand on veut. On joue\, on parle\, on crée du lien pour quelques instants ou pour plus longtemps 🥰 \n📅 Vendredi 21 novembre 2025\n🕐 De 9h30 à 12h30\n📍 Complexe sportif\, Mas de Barreau\, Eyguières \n❗Ouvert à tous❗ALSH 3/6 ans \n✅ Gratuit ✅ sans inscription \nℹ️ Pour plus d’informations 👇\n📞 04 90 59 73 76
URL:https://www.eyguieres.org/evenements/21-novembre-2025-les-matins-calins-laep/
LOCATION:Complexe sportif mas du barreau
CATEGORIES:Culture,Évènements de la commune,Local
ATTACH;FMTTYPE=image/jpeg:https://www.eyguieres.org/wp-content/uploads/2025/02/laep-scaled.jpg
END:VEVENT
BEGIN:VEVENT
DTSTART;TZID=Europe/Paris:20251121T180000
DTEND;TZID=Europe/Paris:20251121T193000
DTSTAMP:20260421T151544
CREATED:20251103T070041Z
LAST-MODIFIED:20251107T124222Z
UID:128492-1763748000-1763753400@www.eyguieres.org
SUMMARY:21 novembre 2025  Conférence et Dédicace - Jérémie Guerry - Ateliers Agora
DESCRIPTION:📚🎤 [𝗖𝗢𝗡𝗙𝗘́𝗥𝗘𝗡𝗖𝗘 𝗘𝗧 𝗗𝗘́𝗗𝗜𝗖𝗔𝗖𝗘 – 𝗝𝗘́𝗥𝗘́𝗠𝗜𝗘 𝗚𝗨𝗘𝗥𝗥𝗬 – 𝗔𝗧𝗘𝗟𝗜𝗘𝗥𝗦 𝗔𝗚𝗢𝗥𝗔] 🎤📚 \n📣 L’Ateliers Agora vous invitent à une conférence/dédicace avec Jérémie Guerry sur la langue des oiseaux et le pouvoir des lettres. \n📅 Vendredi 21 novembre 2025\n🕐 À 18h00\n📍 Ateliers Agora \nℹ️ Sur inscription – Participation aux frais au chapeau
URL:https://www.eyguieres.org/evenements/21-novembre-2025-conference-et-dedicace-jeremie-guerry-ateliers-agora/
LOCATION:Ateliers Agora\, Place Thiers\, EYGUIERES\, 13430
CATEGORIES:Évènements de la commune,Local
ATTACH;FMTTYPE=image/jpeg:https://www.eyguieres.org/wp-content/uploads/2025/11/conference.jpg
END:VEVENT
BEGIN:VEVENT
DTSTART;TZID=Europe/Paris:20251121T183000
DTEND;TZID=Europe/Paris:20251121T193000
DTSTAMP:20260421T151544
CREATED:20251103T080050Z
LAST-MODIFIED:20251105T092148Z
UID:128206-1763749800-1763753400@www.eyguieres.org
SUMMARY:21 novembre 2025  Conférence - Les 5 blessures de l'âme
DESCRIPTION:✨ [𝗖𝗢𝗡𝗙𝗘́𝗥𝗘𝗡𝗖𝗘 – 𝗟𝗘𝗦 𝟱 𝗕𝗟𝗘𝗦𝗦𝗨𝗥𝗘𝗦 𝗗𝗘 𝗟’𝗔̂𝗠𝗘] ✨ \n👉 La Médiathèque d’Eyguières vous invite à une conférence sur les 5 blessures de l’âme\, animée par Sandra Maignant\, psycho patricienne – énergéticienne. \n📅 Vendredi 21 novembre 2025\n🕐 À 18h30\n📍 Médiathèque d’Eyguières \n❗ Inscription obligatoire ❗
URL:https://www.eyguieres.org/evenements/21-novembre-2025-conference-les-5-blessures-de-lame/
LOCATION:Médiathèque\, 21 Rue Rabaud St Étienne\, Eyguières\, 13430
CATEGORIES:Culture,Local,Médiathèque
ATTACH;FMTTYPE=image/jpeg:https://www.eyguieres.org/wp-content/uploads/2025/10/Conference-scaled.jpg
END:VEVENT
BEGIN:VEVENT
DTSTART;TZID=Europe/Paris:20251121T203000
DTEND;TZID=Europe/Paris:20251121T223000
DTSTAMP:20260421T151544
CREATED:20251103T090029Z
LAST-MODIFIED:20251119T100006Z
UID:128636-1763757000-1763764200@www.eyguieres.org
SUMMARY:21 novembre 2025  Match de foot - Équipe Foot Loisir SC Eyguières
DESCRIPTION:⚽ [𝗠𝗔𝗧𝗖𝗛 – 𝗘́𝗤𝗨𝗜𝗣𝗘 𝗙𝗢𝗢𝗧 𝗟𝗢𝗜𝗦𝗜𝗥 𝗦𝗖 𝗘𝗬𝗚𝗨𝗜𝗘̀𝗥𝗘𝗦] ⚽ \n📣 L’équipe Foot Loisir SC Eyguières vous donne rendez-vous vendredi pour leur prochain match! \n🟡🟢 SC Eyguières VS SC Lambesc 🟡🟢 \n📆 Vendredi 21 novembre 2025\n🕛 20h30\n📍 Au stade Lombard d’Eyguières
URL:https://www.eyguieres.org/evenements/21-novembre-2025-match-de-foot-equipe-foot-loisir-sc-eyguieres/
LOCATION:Eyguières\, Eyguieres\, Eyguieres\, France
CATEGORIES:Local,Sport
ATTACH;FMTTYPE=image/jpeg:https://www.eyguieres.org/wp-content/uploads/2023/04/soccer-dans-concept-reussite-objectif-scaled.jpg
END:VEVENT
END:VCALENDAR