BEGIN:VCALENDAR
VERSION:2.0
PRODID:-//Eyguières Les Alpilles - ECPv6.15.16//NONSGML v1.0//EN
CALSCALE:GREGORIAN
METHOD:PUBLISH
X-ORIGINAL-URL:https://www.eyguieres.org
X-WR-CALDESC:Évènements pour Eyguières Les Alpilles
REFRESH-INTERVAL;VALUE=DURATION:PT1H
X-Robots-Tag:noindex
X-PUBLISHED-TTL:PT1H
BEGIN:VTIMEZONE
TZID:Europe/Paris
BEGIN:DAYLIGHT
TZOFFSETFROM:+0100
TZOFFSETTO:+0200
TZNAME:CEST
DTSTART:20240331T010000
END:DAYLIGHT
BEGIN:STANDARD
TZOFFSETFROM:+0200
TZOFFSETTO:+0100
TZNAME:CET
DTSTART:20241027T010000
END:STANDARD
BEGIN:DAYLIGHT
TZOFFSETFROM:+0100
TZOFFSETTO:+0200
TZNAME:CEST
DTSTART:20250330T010000
END:DAYLIGHT
BEGIN:STANDARD
TZOFFSETFROM:+0200
TZOFFSETTO:+0100
TZNAME:CET
DTSTART:20251026T010000
END:STANDARD
BEGIN:DAYLIGHT
TZOFFSETFROM:+0100
TZOFFSETTO:+0200
TZNAME:CEST
DTSTART:20260329T010000
END:DAYLIGHT
BEGIN:STANDARD
TZOFFSETFROM:+0200
TZOFFSETTO:+0100
TZNAME:CET
DTSTART:20261025T010000
END:STANDARD
END:VTIMEZONE
BEGIN:VEVENT
DTSTART;TZID=Europe/Paris:20251028T090000
DTEND;TZID=Europe/Paris:20251129T190000
DTSTAMP:20260419T162141
CREATED:20251006T070041Z
LAST-MODIFIED:20251105T132847Z
UID:128383-1761642000-1764442800@www.eyguieres.org
SUMMARY:Du 28 octobre au 29 novembre 2025  Exposition " Encre & Lumière"
DESCRIPTION:🖋✨ [𝗘𝗫𝗣𝗢𝗦𝗜𝗧𝗜𝗢𝗡 – 𝗘𝗡𝗖𝗥𝗘 & 𝗟𝗨𝗠𝗜𝗘̀𝗥𝗘] ✨🖋 \nLa médiathèque d’Eyguières accueille l’artiste Fabien Lopez pour une exposition haute en contrastes et en émotions ! Entre ombre et clarté\, découvrez ses œuvres qui mêlent finesse du trait et profondeur des ambiances 🎨 \n📅 Du 28 octobre au 29 novembre 2025\n🎨 Vernissage le 07 novembre à 19h00\n📍 Médiathèque – Entrée parc des frères Recordier \nℹ️ Entrée libre et gratuite. \n👉 Renseignements : 04.90.57.94.62 / mediatheque@mairie-eyguieres.fr
URL:https://www.eyguieres.org/evenements/28-octobre-2025-exposition-encre-lumiere/
LOCATION:Médiathèque\, 21 Rue Rabaud St Étienne\, Eyguières\, 13430
CATEGORIES:Local,Médiathèque
ATTACH;FMTTYPE=image/jpeg:https://www.eyguieres.org/wp-content/uploads/2025/10/base-image-article-evenement-site-01-scaled.jpg
END:VEVENT
BEGIN:VEVENT
DTSTART;TZID=Europe/Paris:20251126T100000
DTEND;TZID=Europe/Paris:20251231T190000
DTSTAMP:20260419T162141
CREATED:20251108T081552Z
LAST-MODIFIED:20251205T085439Z
UID:128937-1764151200-1767207600@www.eyguieres.org
SUMMARY:Du 26 novembre au 31 décembre 2025   Marché d'artisanat d'art de Noël - Ateliers Agora
DESCRIPTION:🎄🌟 [𝗠𝗔𝗥𝗖𝗛𝗘́ 𝗗’𝗔𝗥𝗧𝗜𝗦𝗔𝗡𝗔𝗧 𝗗’𝗔𝗥𝗧 𝗗𝗘 𝗡𝗢𝗘̈𝗟] 🎄🌟 \n📣 Les Ateliers Agora transforment leur espace en un véritable marché d’artisanat d’art\, rassemblant une sélection d’artistes et créateurs passionnés ✨ \n👉 L’occasion de trouver des cadeaux uniques 🎁 faits main et empreints d’authenticité : bijoux\, céramiques\, décorations et bien plus encore vous attendent … \n🎁 Nouveauté : une grande tombola !\nDe nombreux lots sont à gagner tout au long du marché… tentez votre chance ! \n👉 N’oubliez pas de faire un tour du côté de la librairie :\nBeaux livres\, romans\, albums pour enfants et jolies pochettes à livres… De quoi faire plaisir aux petits comme aux grands 🤩 \n📅 Du mercredi 26 novembre au mercredi 31 décembre 2025\n📍 Ateliers Agora \n🌟 Venez soutenir les créateurs locaux et trouver des cadeaux qui ont du sens 🌟
URL:https://www.eyguieres.org/evenements/du-26-novembre-au-31-decembre-2025-marche-dartisanat-dart-de-noel-ateliers-agora/
LOCATION:Ateliers Agora\, Place Thiers\, EYGUIERES\, 13430
CATEGORIES:Évènements de la commune,Local
ATTACH;FMTTYPE=image/jpeg:https://www.eyguieres.org/wp-content/uploads/2025/12/Marche-dartisanant.jpg
END:VEVENT
BEGIN:VEVENT
DTSTART;TZID=Europe/Paris:20251128T203000
DTEND;TZID=Europe/Paris:20251128T223000
DTSTAMP:20260419T162141
CREATED:20251110T080027Z
LAST-MODIFIED:20251126T111258Z
UID:128743-1764361800-1764369000@www.eyguieres.org
SUMMARY:28 novembre 2025  Match de foot - Équipe Foot Loisir SC Eyguières
DESCRIPTION:⚽ [𝗠𝗔𝗧𝗖𝗛 – 𝗘́𝗤𝗨𝗜𝗣𝗘 𝗙𝗢𝗢𝗧 𝗟𝗢𝗜𝗦𝗜𝗥 𝗦𝗖 𝗘𝗬𝗚𝗨𝗜𝗘̀𝗥𝗘𝗦] ⚽ \n📣 L’équipe Foot Loisir SC Eyguières vous donne rendez-vous vendredi pour leur prochain match! \n🟡🟢 SC Eyguières VS Fuveau 🟡🟢 \n📆 Vendredi 28 novembre 2025\n📍 Au stade d’Eyguières
URL:https://www.eyguieres.org/evenements/28-novembre-2025-match-de-foot-equipe-foot-loisir-sc-eyguieres/
LOCATION:Eyguières\, Eyguieres\, Eyguieres\, France
CATEGORIES:Local,Sport
ATTACH;FMTTYPE=image/jpeg:https://www.eyguieres.org/wp-content/uploads/2023/04/soccer-dans-concept-reussite-objectif-scaled.jpg
END:VEVENT
END:VCALENDAR