BEGIN:VCALENDAR
VERSION:2.0
PRODID:-//Eyguières Les Alpilles - ECPv6.15.16//NONSGML v1.0//EN
CALSCALE:GREGORIAN
METHOD:PUBLISH
X-ORIGINAL-URL:https://www.eyguieres.org
X-WR-CALDESC:Évènements pour Eyguières Les Alpilles
REFRESH-INTERVAL;VALUE=DURATION:PT1H
X-Robots-Tag:noindex
X-PUBLISHED-TTL:PT1H
BEGIN:VTIMEZONE
TZID:Europe/Paris
BEGIN:DAYLIGHT
TZOFFSETFROM:+0100
TZOFFSETTO:+0200
TZNAME:CEST
DTSTART:20240331T010000
END:DAYLIGHT
BEGIN:STANDARD
TZOFFSETFROM:+0200
TZOFFSETTO:+0100
TZNAME:CET
DTSTART:20241027T010000
END:STANDARD
BEGIN:DAYLIGHT
TZOFFSETFROM:+0100
TZOFFSETTO:+0200
TZNAME:CEST
DTSTART:20250330T010000
END:DAYLIGHT
BEGIN:STANDARD
TZOFFSETFROM:+0200
TZOFFSETTO:+0100
TZNAME:CET
DTSTART:20251026T010000
END:STANDARD
BEGIN:DAYLIGHT
TZOFFSETFROM:+0100
TZOFFSETTO:+0200
TZNAME:CEST
DTSTART:20260329T010000
END:DAYLIGHT
BEGIN:STANDARD
TZOFFSETFROM:+0200
TZOFFSETTO:+0100
TZNAME:CET
DTSTART:20261025T010000
END:STANDARD
END:VTIMEZONE
BEGIN:VEVENT
DTSTART;TZID=Europe/Paris:20251126T100000
DTEND;TZID=Europe/Paris:20251231T190000
DTSTAMP:20260421T142104
CREATED:20251108T081552Z
LAST-MODIFIED:20251205T085439Z
UID:128937-1764151200-1767207600@www.eyguieres.org
SUMMARY:Du 26 novembre au 31 décembre 2025   Marché d'artisanat d'art de Noël - Ateliers Agora
DESCRIPTION:🎄🌟 [𝗠𝗔𝗥𝗖𝗛𝗘́ 𝗗’𝗔𝗥𝗧𝗜𝗦𝗔𝗡𝗔𝗧 𝗗’𝗔𝗥𝗧 𝗗𝗘 𝗡𝗢𝗘̈𝗟] 🎄🌟 \n📣 Les Ateliers Agora transforment leur espace en un véritable marché d’artisanat d’art\, rassemblant une sélection d’artistes et créateurs passionnés ✨ \n👉 L’occasion de trouver des cadeaux uniques 🎁 faits main et empreints d’authenticité : bijoux\, céramiques\, décorations et bien plus encore vous attendent … \n🎁 Nouveauté : une grande tombola !\nDe nombreux lots sont à gagner tout au long du marché… tentez votre chance ! \n👉 N’oubliez pas de faire un tour du côté de la librairie :\nBeaux livres\, romans\, albums pour enfants et jolies pochettes à livres… De quoi faire plaisir aux petits comme aux grands 🤩 \n📅 Du mercredi 26 novembre au mercredi 31 décembre 2025\n📍 Ateliers Agora \n🌟 Venez soutenir les créateurs locaux et trouver des cadeaux qui ont du sens 🌟
URL:https://www.eyguieres.org/evenements/du-26-novembre-au-31-decembre-2025-marche-dartisanat-dart-de-noel-ateliers-agora/
LOCATION:Ateliers Agora\, Place Thiers\, EYGUIERES\, 13430
CATEGORIES:Évènements de la commune,Local
ATTACH;FMTTYPE=image/jpeg:https://www.eyguieres.org/wp-content/uploads/2025/12/Marche-dartisanant.jpg
END:VEVENT
BEGIN:VEVENT
DTSTART;TZID=Europe/Paris:20251205T090000
DTEND;TZID=Europe/Paris:20251207T190000
DTSTAMP:20260421T142104
CREATED:20251117T073044Z
LAST-MODIFIED:20251126T112301Z
UID:128745-1764925200-1765134000@www.eyguieres.org
SUMMARY:Du 5 au 7 décembre 2025  Collecte de nourriture pour chats - ASSOCIATION APATE
DESCRIPTION:🐈[𝗖𝗢𝗟𝗟𝗘𝗖𝗧𝗘- 𝗔𝗦𝗦𝗢𝗖𝗜𝗔𝗧𝗜𝗢𝗡 𝗔𝗣𝗔𝗧𝗘]🐈 \n📣 L’association A.P.A.T.E organise une collecte de Noël au profit de nos amis à quatre pattes 🐱 à 📍 l’𝗜𝗡𝗧𝗘𝗥𝗠𝗔𝗥𝗖𝗛𝗘́ 𝗗’𝗘𝗬𝗚𝗨𝗜𝗘𝗥𝗘𝗦. \n📅 𝗩𝗲𝗻𝗱𝗿𝗲𝗱𝗶 𝟱 𝗮𝘂 𝗱𝗶𝗺𝗮𝗻𝗰𝗵𝗲 𝟳 𝗱𝗲́𝗰𝗲𝗺𝗯𝗿𝗲 𝟮𝟬𝟮𝟱\n🕖 De 9h à 19h \n📣 Nous vous attendons nombreux!!!
URL:https://www.eyguieres.org/evenements/du-5-au-7-decembre-2025-collecte-de-nourriture-pour-chats-association-apate/
CATEGORIES:Évènements de la commune,Local
ATTACH;FMTTYPE=image/jpeg:https://www.eyguieres.org/wp-content/uploads/2025/11/Collecte-de-nourriture-pour-chats-scaled.jpg
END:VEVENT
BEGIN:VEVENT
DTSTART;TZID=Europe/Paris:20251205T180000
DTEND;TZID=Europe/Paris:20251205T200000
DTSTAMP:20260421T142104
CREATED:20251117T080051Z
LAST-MODIFIED:20251119T095525Z
UID:128632-1764957600-1764964800@www.eyguieres.org
SUMMARY:5 décembre 2025  Conférence et Dédicace - Vanessa Escalante - Ateliers Agora
DESCRIPTION:📚🎤 [𝗖𝗢𝗡𝗙𝗘́𝗥𝗘𝗡𝗖𝗘 𝗘𝗧 𝗗𝗘́𝗗𝗜𝗖𝗔𝗖𝗘 – 𝗩𝗔𝗡𝗘𝗦𝗦𝗔 𝗘𝗦𝗖𝗔𝗟𝗔𝗡𝗧𝗘 – 𝗔𝗧𝗘𝗟𝗜𝗘𝗥𝗦 𝗔𝗚𝗢𝗥𝗔] 🎤📚 \n📣 L’Ateliers Agora vous invitent à une conférence/dédicace avec Vanessa Escalante sur les messagers du rêve : guérisseurs d’Australie. \n📅 Vendredi 5 décembre 2025\n🕐 À 18h00\n📍 Ateliers Agora \nℹ️ Réservation obligatoire – 5 euros l’entrée
URL:https://www.eyguieres.org/evenements/5-decembre-2025-conference-et-dedicace-vanessa-escalante-ateliers-agora/
LOCATION:Ateliers Agora\, Place Thiers\, EYGUIERES\, 13430
CATEGORIES:Évènements de la commune,Local
ATTACH;FMTTYPE=image/jpeg:https://www.eyguieres.org/wp-content/uploads/2025/11/Conference-ateliers-agora-5-decembre-2025-eyguieres-scaled.jpg
END:VEVENT
END:VCALENDAR