BEGIN:VCALENDAR
VERSION:2.0
PRODID:-//Eyguières Les Alpilles - ECPv6.15.16//NONSGML v1.0//EN
CALSCALE:GREGORIAN
METHOD:PUBLISH
X-WR-CALNAME:Eyguières Les Alpilles
X-ORIGINAL-URL:https://www.eyguieres.org
X-WR-CALDESC:Évènements pour Eyguières Les Alpilles
REFRESH-INTERVAL;VALUE=DURATION:PT1H
X-Robots-Tag:noindex
X-PUBLISHED-TTL:PT1H
BEGIN:VTIMEZONE
TZID:Europe/Paris
BEGIN:DAYLIGHT
TZOFFSETFROM:+0100
TZOFFSETTO:+0200
TZNAME:CEST
DTSTART:20240331T010000
END:DAYLIGHT
BEGIN:STANDARD
TZOFFSETFROM:+0200
TZOFFSETTO:+0100
TZNAME:CET
DTSTART:20241027T010000
END:STANDARD
BEGIN:DAYLIGHT
TZOFFSETFROM:+0100
TZOFFSETTO:+0200
TZNAME:CEST
DTSTART:20250330T010000
END:DAYLIGHT
BEGIN:STANDARD
TZOFFSETFROM:+0200
TZOFFSETTO:+0100
TZNAME:CET
DTSTART:20251026T010000
END:STANDARD
BEGIN:DAYLIGHT
TZOFFSETFROM:+0100
TZOFFSETTO:+0200
TZNAME:CEST
DTSTART:20260329T010000
END:DAYLIGHT
BEGIN:STANDARD
TZOFFSETFROM:+0200
TZOFFSETTO:+0100
TZNAME:CET
DTSTART:20261025T010000
END:STANDARD
END:VTIMEZONE
BEGIN:VEVENT
DTSTART;TZID=Europe/Paris:20251126T100000
DTEND;TZID=Europe/Paris:20251231T190000
DTSTAMP:20260421T141854
CREATED:20251108T081552Z
LAST-MODIFIED:20251205T085439Z
UID:128937-1764151200-1767207600@www.eyguieres.org
SUMMARY:Du 26 novembre au 31 décembre 2025   Marché d'artisanat d'art de Noël - Ateliers Agora
DESCRIPTION:🎄🌟 [𝗠𝗔𝗥𝗖𝗛𝗘́ 𝗗’𝗔𝗥𝗧𝗜𝗦𝗔𝗡𝗔𝗧 𝗗’𝗔𝗥𝗧 𝗗𝗘 𝗡𝗢𝗘̈𝗟] 🎄🌟 \n📣 Les Ateliers Agora transforment leur espace en un véritable marché d’artisanat d’art\, rassemblant une sélection d’artistes et créateurs passionnés ✨ \n👉 L’occasion de trouver des cadeaux uniques 🎁 faits main et empreints d’authenticité : bijoux\, céramiques\, décorations et bien plus encore vous attendent … \n🎁 Nouveauté : une grande tombola !\nDe nombreux lots sont à gagner tout au long du marché… tentez votre chance ! \n👉 N’oubliez pas de faire un tour du côté de la librairie :\nBeaux livres\, romans\, albums pour enfants et jolies pochettes à livres… De quoi faire plaisir aux petits comme aux grands 🤩 \n📅 Du mercredi 26 novembre au mercredi 31 décembre 2025\n📍 Ateliers Agora \n🌟 Venez soutenir les créateurs locaux et trouver des cadeaux qui ont du sens 🌟
URL:https://www.eyguieres.org/evenements/du-26-novembre-au-31-decembre-2025-marche-dartisanat-dart-de-noel-ateliers-agora/
LOCATION:Ateliers Agora\, Place Thiers\, EYGUIERES\, 13430
CATEGORIES:Évènements de la commune,Local
ATTACH;FMTTYPE=image/jpeg:https://www.eyguieres.org/wp-content/uploads/2025/12/Marche-dartisanant.jpg
END:VEVENT
BEGIN:VEVENT
DTSTART;VALUE=DATE:20251208
DTEND;VALUE=DATE:20251215
DTSTAMP:20260421T141854
CREATED:20251120T080015Z
LAST-MODIFIED:20251205T085615Z
UID:128899-1765152000-1765756799@www.eyguieres.org
SUMMARY:Du 8 au 14 décembre 2025  Collecte de Jouets - APHBEC
DESCRIPTION:🧸🪀 [𝗖𝗢𝗟𝗟𝗘𝗖𝗧𝗘 𝗗𝗘 𝗝𝗢𝗨𝗘𝗧𝗦 – 𝗔𝗣𝗛𝗕𝗘𝗖] 🧸🪀 \n📣 L’Aphbec organise une collecte de jouets ✨ \n📅 Du lundi 8  décembre au dimanche 14 décembre 2025\n🕛 Durant les horaires d’entrainements/ matchs\n📍 Gymnase Raymond Lieutaud \nNous vous y attendons nombreux pour récolter un maximum de dons 🙏
URL:https://www.eyguieres.org/evenements/du-8-au-14-decembre-2025-collecte-de-jouets-aphbec/
LOCATION:Gymnase Lieutaud
CATEGORIES:Local
ATTACH;FMTTYPE=image/jpeg:https://www.eyguieres.org/wp-content/uploads/2025/12/Collecte-de-dons-aphbec.jpg
END:VEVENT
BEGIN:VEVENT
DTSTART;TZID=Europe/Paris:20251212T100000
DTEND;TZID=Europe/Paris:20251212T120000
DTSTAMP:20260421T141854
CREATED:20251124T080046Z
LAST-MODIFIED:20251203T092540Z
UID:128785-1765533600-1765540800@www.eyguieres.org
SUMMARY:12 décembre 2025  Café Littéraire - Médiathèque d'Eyguières
DESCRIPTION:📚[𝗖𝗔𝗙𝗘́ 𝗟𝗜𝗧𝗧𝗘́𝗥𝗔𝗜𝗥𝗘]📚 \n📅 Vendredi 12 décembre 2025\n🕐 De 10h00 à 12h00\n📍 À la Médiathèque d’Eyguières \n❗RÉSERVÉ AUX SÉNIORS❗ \n👉 Évènement proposé en partenariat avec la Maison du Bel âge \n✅ Gratuit ✅ mais réservation conseillée \nℹ️ Pour plus d’informations et/ou inscriptions 👇\n📞 04 90 57 94 62\n📧 mediatheque@mairie-eyguieres.fr
URL:https://www.eyguieres.org/evenements/12-decembre-2025-cafe-litteraire-mediatheque-deyguieres/
LOCATION:Médiathèque\, 21 Rue Rabaud St Étienne\, Eyguières\, 13430
CATEGORIES:Local,Médiathèque
ATTACH;FMTTYPE=image/jpeg:https://www.eyguieres.org/wp-content/uploads/2025/11/EVENEMENT-mediatheque-Decembre-2025-Cafe-litteraire.jpg
END:VEVENT
BEGIN:VEVENT
DTSTART;TZID=Europe/Paris:20251212T183000
DTEND;TZID=Europe/Paris:20251212T193000
DTSTAMP:20260421T141854
CREATED:20251124T090040Z
LAST-MODIFIED:20251204T091518Z
UID:128887-1765564200-1765567800@www.eyguieres.org
SUMMARY:12 décembre 2025  Conférence  Les Chemins du Patrimoine
DESCRIPTION:✨ [𝗖𝗢𝗡𝗙𝗘́𝗥𝗘𝗡𝗖𝗘 – 𝗟𝗘𝗦 𝗖𝗛𝗘𝗠𝗜𝗡𝗦 𝗗𝗨 𝗣𝗔𝗧𝗥𝗜𝗠𝗢𝗜𝗡𝗘] ✨ \n👉 Les Chemins du Patrimoine vous invite à une conférence sur Marc Bloch\, animée Mme Martine Gavara. \n📅 Vendredi 12 décembre 2025\n🕐 À 18h30\n📍 Salle de la gare à Eyguières \n❗Entrée libre
URL:https://www.eyguieres.org/evenements/12-decembre-2025-conference-les-chemins-du-patrimoine-2/
LOCATION:Salle de la Gare\, Avenue de la Gare\, EYGUIERES\, 13430
CATEGORIES:Culture,Local
ATTACH;FMTTYPE=image/jpeg:https://www.eyguieres.org/wp-content/uploads/2025/12/Conference.jpg
END:VEVENT
BEGIN:VEVENT
DTSTART;TZID=Europe/Paris:20251212T200000
DTEND;TZID=Europe/Paris:20251212T220000
DTSTAMP:20260421T141854
CREATED:20251124T100054Z
LAST-MODIFIED:20251212T085039Z
UID:129045-1765569600-1765576800@www.eyguieres.org
SUMMARY:12 décembre 2025  Match de foot - Équipe Foot Loisir SC Eyguières
DESCRIPTION:⚽ [𝗠𝗔𝗧𝗖𝗛 – 𝗘́𝗤𝗨𝗜𝗣𝗘 𝗙𝗢𝗢𝗧 𝗟𝗢𝗜𝗦𝗜𝗥 𝗦𝗖 𝗘𝗬𝗚𝗨𝗜𝗘̀𝗥𝗘𝗦] ⚽ \n📣 L’équipe Foot Loisir SC Eyguières vous donne rendez-vous ce soir pour leur prochain match! \n🟡🟢 SC Eyguières VS US Pélissanne 🟡🟢 \n📆 Vendredi 12 décembre 2025\n🕛 20h00\n📍 Au stade Lombard\, Eyguières
URL:https://www.eyguieres.org/evenements/12-decembre-2025-match-de-foot-equipe-foot-loisir-sc-eyguieres/
LOCATION:Eyguières\, Eyguieres\, Eyguieres\, France
CATEGORIES:Local,Sport
ATTACH;FMTTYPE=image/jpeg:https://www.eyguieres.org/wp-content/uploads/2023/04/soccer-dans-concept-reussite-objectif-scaled.jpg
END:VEVENT
END:VCALENDAR