BEGIN:VCALENDAR
VERSION:2.0
PRODID:-//Eyguières Les Alpilles - ECPv6.15.16//NONSGML v1.0//EN
CALSCALE:GREGORIAN
METHOD:PUBLISH
X-ORIGINAL-URL:https://www.eyguieres.org
X-WR-CALDESC:Évènements pour Eyguières Les Alpilles
REFRESH-INTERVAL;VALUE=DURATION:PT1H
X-Robots-Tag:noindex
X-PUBLISHED-TTL:PT1H
BEGIN:VTIMEZONE
TZID:Europe/Paris
BEGIN:DAYLIGHT
TZOFFSETFROM:+0100
TZOFFSETTO:+0200
TZNAME:CEST
DTSTART:20240331T010000
END:DAYLIGHT
BEGIN:STANDARD
TZOFFSETFROM:+0200
TZOFFSETTO:+0100
TZNAME:CET
DTSTART:20241027T010000
END:STANDARD
BEGIN:DAYLIGHT
TZOFFSETFROM:+0100
TZOFFSETTO:+0200
TZNAME:CEST
DTSTART:20250330T010000
END:DAYLIGHT
BEGIN:STANDARD
TZOFFSETFROM:+0200
TZOFFSETTO:+0100
TZNAME:CET
DTSTART:20251026T010000
END:STANDARD
BEGIN:DAYLIGHT
TZOFFSETFROM:+0100
TZOFFSETTO:+0200
TZNAME:CEST
DTSTART:20260329T010000
END:DAYLIGHT
BEGIN:STANDARD
TZOFFSETFROM:+0200
TZOFFSETTO:+0100
TZNAME:CET
DTSTART:20261025T010000
END:STANDARD
END:VTIMEZONE
BEGIN:VEVENT
DTSTART;TZID=Europe/Paris:20251126T100000
DTEND;TZID=Europe/Paris:20251231T190000
DTSTAMP:20260421T142021
CREATED:20251108T081552Z
LAST-MODIFIED:20251205T085439Z
UID:128937-1764151200-1767207600@www.eyguieres.org
SUMMARY:Du 26 novembre au 31 décembre 2025   Marché d'artisanat d'art de Noël - Ateliers Agora
DESCRIPTION:🎄🌟 [𝗠𝗔𝗥𝗖𝗛𝗘́ 𝗗’𝗔𝗥𝗧𝗜𝗦𝗔𝗡𝗔𝗧 𝗗’𝗔𝗥𝗧 𝗗𝗘 𝗡𝗢𝗘̈𝗟] 🎄🌟 \n📣 Les Ateliers Agora transforment leur espace en un véritable marché d’artisanat d’art\, rassemblant une sélection d’artistes et créateurs passionnés ✨ \n👉 L’occasion de trouver des cadeaux uniques 🎁 faits main et empreints d’authenticité : bijoux\, céramiques\, décorations et bien plus encore vous attendent … \n🎁 Nouveauté : une grande tombola !\nDe nombreux lots sont à gagner tout au long du marché… tentez votre chance ! \n👉 N’oubliez pas de faire un tour du côté de la librairie :\nBeaux livres\, romans\, albums pour enfants et jolies pochettes à livres… De quoi faire plaisir aux petits comme aux grands 🤩 \n📅 Du mercredi 26 novembre au mercredi 31 décembre 2025\n📍 Ateliers Agora \n🌟 Venez soutenir les créateurs locaux et trouver des cadeaux qui ont du sens 🌟
URL:https://www.eyguieres.org/evenements/du-26-novembre-au-31-decembre-2025-marche-dartisanat-dart-de-noel-ateliers-agora/
LOCATION:Ateliers Agora\, Place Thiers\, EYGUIERES\, 13430
CATEGORIES:Évènements de la commune,Local
ATTACH;FMTTYPE=image/jpeg:https://www.eyguieres.org/wp-content/uploads/2025/12/Marche-dartisanant.jpg
END:VEVENT
BEGIN:VEVENT
DTSTART;TZID=Europe/Paris:20251220T100000
DTEND;TZID=Europe/Paris:20251220T120000
DTSTAMP:20260421T142021
CREATED:20251201T080059Z
LAST-MODIFIED:20260107T104302Z
UID:129016-1766224800-1766232000@www.eyguieres.org
SUMMARY:20 décembre 2025  Atelier et Dédicace - Vincent Bourgeau - Ateliers Agora
DESCRIPTION:📚🎤 [𝗔𝗧𝗘𝗟𝗜𝗘𝗥 𝗘𝗧 𝗗𝗘́𝗗𝗜𝗖𝗔𝗖𝗘 – 𝗩𝗜𝗡𝗖𝗘𝗡𝗧 𝗕𝗢𝗨𝗥𝗚𝗘𝗔𝗨 – 𝗔𝗧𝗘𝗟𝗜𝗘𝗥𝗦 𝗔𝗚𝗢𝗥𝗔] 🎤📚 \n📣 L’Ateliers Agora vous invitent à un atelier/dédicace avec Vincent Bourgeau auteur-illustrateur jeunesse pour une matinée de création et de dédicaces autour de ses albums ! \nAu programme : les enfants pourront participer à un atelier créatif où ils décorent le contour de leur main\, y cachent un dessin secret et racontent leur petite histoire\, tout en découvrant l’univers coloré de Vincent Bourgeau. \n📅 Samedi 20 décembre 2025\n🕐 De 10h00 à 12h00\n📍 Ateliers Agora \nℹ️ À partir de 4 ans (enfant accompagné d’un adulte) \n⚠️ Places limitées – réservation obligatoire – atelier gratuit
URL:https://www.eyguieres.org/evenements/20-decembre-2025-atelier-et-dedicace-vincent-bourgeau-ateliers-agora/
LOCATION:Ateliers Agora\, Place Thiers\, EYGUIERES\, 13430
CATEGORIES:Évènements de la commune,Local
ATTACH;FMTTYPE=image/jpeg:https://www.eyguieres.org/wp-content/uploads/2025/12/atelier-scaled.jpg
END:VEVENT
BEGIN:VEVENT
DTSTART;TZID=Europe/Paris:20251220T110000
DTEND;TZID=Europe/Paris:20251220T150000
DTSTAMP:20260421T142021
CREATED:20251201T083009Z
LAST-MODIFIED:20260107T104308Z
UID:128877-1766228400-1766242800@www.eyguieres.org
SUMMARY:20 décembre 2025  Journée coquillages- Domaine du Vallon des Glauges
DESCRIPTION:✨ [𝗝𝗢𝗨𝗥𝗡𝗘́𝗘 𝗖𝗢𝗤𝗨𝗜𝗟𝗟𝗔𝗚𝗘𝗦 – 𝗗𝗢𝗠𝗔𝗜𝗡𝗘 𝗗𝗨 𝗩𝗔𝗟𝗟𝗢𝗡 𝗗𝗘𝗦 𝗚𝗟𝗔𝗨𝗚𝗘𝗦] ✨ \n👉 Le Domaine du Vallon des Glauges vous convie à une journée dédiée aux coquillages\, pour savourer une sélection raffinée accompagnée des vins du domaine. \n📅 Samedi 20 décembre 2025\n🕐 De 11h à 15h\n📍 Domaine du Vallon du Glauges\, Eyguières \n❗Sans réservation ❗
URL:https://www.eyguieres.org/evenements/12-decembre-2025-conference-les-chemins-du-patrimoine/
LOCATION:Domaine du Vallon des Glauges\, Chemin des Glauges\, Eyguieres\, 13430\, France
CATEGORIES:Local
ATTACH;FMTTYPE=image/jpeg:https://www.eyguieres.org/wp-content/uploads/2025/11/Journee-coquillages-samedi-20-decembre-2025.jpg
END:VEVENT
END:VCALENDAR