BEGIN:VCALENDAR
VERSION:2.0
PRODID:-//Eyguières Les Alpilles - ECPv6.15.16//NONSGML v1.0//EN
CALSCALE:GREGORIAN
METHOD:PUBLISH
X-ORIGINAL-URL:https://www.eyguieres.org
X-WR-CALDESC:Évènements pour Eyguières Les Alpilles
REFRESH-INTERVAL;VALUE=DURATION:PT1H
X-Robots-Tag:noindex
X-PUBLISHED-TTL:PT1H
BEGIN:VTIMEZONE
TZID:Europe/Paris
BEGIN:DAYLIGHT
TZOFFSETFROM:+0100
TZOFFSETTO:+0200
TZNAME:CEST
DTSTART:20250330T010000
END:DAYLIGHT
BEGIN:STANDARD
TZOFFSETFROM:+0200
TZOFFSETTO:+0100
TZNAME:CET
DTSTART:20251026T010000
END:STANDARD
BEGIN:DAYLIGHT
TZOFFSETFROM:+0100
TZOFFSETTO:+0200
TZNAME:CEST
DTSTART:20260329T010000
END:DAYLIGHT
BEGIN:STANDARD
TZOFFSETFROM:+0200
TZOFFSETTO:+0100
TZNAME:CET
DTSTART:20261025T010000
END:STANDARD
BEGIN:DAYLIGHT
TZOFFSETFROM:+0100
TZOFFSETTO:+0200
TZNAME:CEST
DTSTART:20270328T010000
END:DAYLIGHT
BEGIN:STANDARD
TZOFFSETFROM:+0200
TZOFFSETTO:+0100
TZNAME:CET
DTSTART:20271031T010000
END:STANDARD
END:VTIMEZONE
BEGIN:VEVENT
DTSTART;TZID=Europe/Paris:20260114T180000
DTEND;TZID=Europe/Paris:20260114T190000
DTSTAMP:20260423T150309
CREATED:20251214T090037Z
LAST-MODIFIED:20260108T091456Z
UID:129143-1768413600-1768417200@www.eyguieres.org
SUMMARY:14 janvier 2026  Conférence - Edgar Degas
DESCRIPTION:✨ [𝗖𝗢𝗡𝗙𝗘́𝗥𝗘𝗡𝗖𝗘 – 𝗘𝗗𝗚𝗔𝗥 𝗗𝗘𝗚𝗔𝗦] ✨ \n👉 La Médiathèque d’Eyguières vous invite à une conférence sur Edgar Degas\, animée Mme Motte Juliette. \n📅 Mercredi 14 janvier 2026\n🕐 À 18h00\n📍 Médiathèque d’Eyguières \n❗ Réservation obligatoire ❗
URL:https://www.eyguieres.org/evenements/14-janvier-2026-conference-edgar-degas/
LOCATION:Médiathèque\, 21 Rue Rabaud St Étienne\, Eyguières\, 13430
CATEGORIES:Culture,Local,Médiathèque
ATTACH;FMTTYPE=image/jpeg:https://www.eyguieres.org/wp-content/uploads/2025/12/Conference-2.jpg
END:VEVENT
END:VCALENDAR