BEGIN:VCALENDAR
VERSION:2.0
PRODID:-//Eyguières Les Alpilles - ECPv6.15.16//NONSGML v1.0//EN
CALSCALE:GREGORIAN
METHOD:PUBLISH
X-WR-CALNAME:Eyguières Les Alpilles
X-ORIGINAL-URL:https://www.eyguieres.org
X-WR-CALDESC:Évènements pour Eyguières Les Alpilles
REFRESH-INTERVAL;VALUE=DURATION:PT1H
X-Robots-Tag:noindex
X-PUBLISHED-TTL:PT1H
BEGIN:VTIMEZONE
TZID:Europe/Paris
BEGIN:DAYLIGHT
TZOFFSETFROM:+0100
TZOFFSETTO:+0200
TZNAME:CEST
DTSTART:20250330T010000
END:DAYLIGHT
BEGIN:STANDARD
TZOFFSETFROM:+0200
TZOFFSETTO:+0100
TZNAME:CET
DTSTART:20251026T010000
END:STANDARD
BEGIN:DAYLIGHT
TZOFFSETFROM:+0100
TZOFFSETTO:+0200
TZNAME:CEST
DTSTART:20260329T010000
END:DAYLIGHT
BEGIN:STANDARD
TZOFFSETFROM:+0200
TZOFFSETTO:+0100
TZNAME:CET
DTSTART:20261025T010000
END:STANDARD
BEGIN:DAYLIGHT
TZOFFSETFROM:+0100
TZOFFSETTO:+0200
TZNAME:CEST
DTSTART:20270328T010000
END:DAYLIGHT
BEGIN:STANDARD
TZOFFSETFROM:+0200
TZOFFSETTO:+0100
TZNAME:CET
DTSTART:20271031T010000
END:STANDARD
END:VTIMEZONE
BEGIN:VEVENT
DTSTART;TZID=Europe/Paris:20260121T103000
DTEND;TZID=Europe/Paris:20260121T113000
DTSTAMP:20260419T143913
CREATED:20251221T080009Z
LAST-MODIFIED:20260106T085916Z
UID:129137-1768991400-1768995000@www.eyguieres.org
SUMMARY:21 janvier 2026  P'tite pause contée - Médiathèque d'Eyguières
DESCRIPTION:🍪[𝗣’𝗧𝗜𝗧𝗘 𝗣𝗔𝗨𝗦𝗘 𝗖𝗢𝗡𝗧𝗘́𝗘 – 𝗠𝗘́𝗗𝗜𝗔𝗧𝗛𝗘̀𝗤𝗨𝗘 𝗗’𝗘𝗬𝗚𝗨𝗜𝗘̀𝗥𝗘𝗦]🍪 \n👉 La médiathèque d’Eyguières vous invite à une p’tite pause contée pour les enfants de 3 à 6 ans ! \n📅 Mercredi 21 janvier 2026\n🕛 à 10h30\n📍 À la Médiathèque d’Eyguières \nℹ️ Pour plus d’informations et/ou inscriptions 👇 \n📞 04 90 57 94 62\n📧 mediatheque@mairie-eyguieres.fr \n❗Inscription conseillée❗
URL:https://www.eyguieres.org/evenements/21-janvier-2026-ptite-pause-contee-mediatheque-deyguieres/
LOCATION:Médiathèque\, 21 Rue Rabaud St Étienne\, Eyguières\, 13430
CATEGORIES:Local,Médiathèque
ATTACH;FMTTYPE=image/jpeg:https://www.eyguieres.org/wp-content/uploads/2025/12/EVENEMENT-mediatheque-Janvier-2026-06.jpg
END:VEVENT
BEGIN:VEVENT
DTSTART;TZID=Europe/Paris:20260121T150000
DTEND;TZID=Europe/Paris:20260121T160000
DTSTAMP:20260419T143913
CREATED:20251221T083000Z
LAST-MODIFIED:20260107T105653Z
UID:129150-1769007600-1769011200@www.eyguieres.org
SUMMARY:21 janvier 2026  Goûter conté - Médiathèque d'Eyguières
DESCRIPTION:🍪[𝗚𝗢𝗨̂𝗧𝗘𝗥 𝗖𝗢𝗡𝗧𝗘́ – 𝗠𝗘́𝗗𝗜𝗔𝗧𝗛𝗘̀𝗤𝗨𝗘 𝗗’𝗘𝗬𝗚𝗨𝗜𝗘̀𝗥𝗘𝗦]🍪 \n👉 La médiathèque d’Eyguières vous invite à une goûter conté pour les enfants à partir de 6 ans ! \n📅 Mercredi 21 janvier 2026\n🕛 à 15h00\n📍 À la Médiathèque d’Eyguières \nℹ️ Pour plus d’informations et/ou inscriptions 👇 \n📞 04 90 57 94 62\n📧 mediatheque@mairie-eyguieres.fr \n❗Inscription conseillée❗
URL:https://www.eyguieres.org/evenements/21-janvier-2026-gouter-conte-mediatheque-deyguieres/
LOCATION:Médiathèque\, 21 Rue Rabaud St Étienne\, Eyguières\, 13430
CATEGORIES:Local,Médiathèque
ATTACH;FMTTYPE=image/jpeg:https://www.eyguieres.org/wp-content/uploads/2025/12/EVENEMENT-mediatheque-Janvier-2026-02-1.jpg
END:VEVENT
END:VCALENDAR