BEGIN:VCALENDAR
VERSION:2.0
PRODID:-//Eyguières Les Alpilles - ECPv6.15.16//NONSGML v1.0//EN
CALSCALE:GREGORIAN
METHOD:PUBLISH
X-WR-CALNAME:Eyguières Les Alpilles
X-ORIGINAL-URL:https://www.eyguieres.org
X-WR-CALDESC:Évènements pour Eyguières Les Alpilles
REFRESH-INTERVAL;VALUE=DURATION:PT1H
X-Robots-Tag:noindex
X-PUBLISHED-TTL:PT1H
BEGIN:VTIMEZONE
TZID:Europe/Paris
BEGIN:DAYLIGHT
TZOFFSETFROM:+0100
TZOFFSETTO:+0200
TZNAME:CEST
DTSTART:20230326T010000
END:DAYLIGHT
BEGIN:STANDARD
TZOFFSETFROM:+0200
TZOFFSETTO:+0100
TZNAME:CET
DTSTART:20231029T010000
END:STANDARD
BEGIN:DAYLIGHT
TZOFFSETFROM:+0100
TZOFFSETTO:+0200
TZNAME:CEST
DTSTART:20240331T010000
END:DAYLIGHT
BEGIN:STANDARD
TZOFFSETFROM:+0200
TZOFFSETTO:+0100
TZNAME:CET
DTSTART:20241027T010000
END:STANDARD
BEGIN:DAYLIGHT
TZOFFSETFROM:+0100
TZOFFSETTO:+0200
TZNAME:CEST
DTSTART:20250330T010000
END:DAYLIGHT
BEGIN:STANDARD
TZOFFSETFROM:+0200
TZOFFSETTO:+0100
TZNAME:CET
DTSTART:20251026T010000
END:STANDARD
END:VTIMEZONE
BEGIN:VEVENT
DTSTART;TZID=Europe/Paris:20240319T140000
DTEND;TZID=Europe/Paris:20240319T180000
DTSTAMP:20260423T162928
CREATED:20240218T113104Z
LAST-MODIFIED:20240801T131120Z
UID:118653-1710856800-1710871200@www.eyguieres.org
SUMMARY:19 mars 2024   Crêpes et Thé dansant - Séniors
DESCRIPTION:👵🥞[CRÊPES ET THÉ DANSANT DES SÉNIORS]🥞👨‍🦳 \nLa commune organise une journée 𝗖𝗥𝗘̂𝗣𝗘𝗦 𝗲𝘁 𝗧𝗛𝗘́ 𝗗𝗔𝗡𝗦𝗔𝗡𝗧 pour les 𝗦𝗘́𝗡𝗜𝗢𝗥𝗦! \n📅 Mardi 19 mars\n🕐 14h00\n📍 Salle de la Gare \n🤩 Et pour animer cet événement\, une ambiance musicale fera danser nos séniors ! \n❗Places limitées. \n🎫 Réservation\, règlement (5€) et retrait des tickets à l’accueil de la mairie. \n#eyguières #eyguièreslesalpilles \n\n\n\n 
URL:https://www.eyguieres.org/evenements/crepes-et-the-dansant-seniors/
LOCATION:Salle de la Gare\, Avenue de la Gare\, EYGUIERES\, 13430
CATEGORIES:Évènements de la commune,Local,Séniors
ATTACH;FMTTYPE=image/jpeg:https://www.eyguieres.org/wp-content/uploads/2024/03/Declinaison-crepes-seniors-02.jpg
END:VEVENT
END:VCALENDAR