BEGIN:VCALENDAR
VERSION:2.0
PRODID:-//Eyguières Les Alpilles - ECPv6.15.16//NONSGML v1.0//EN
CALSCALE:GREGORIAN
METHOD:PUBLISH
X-ORIGINAL-URL:https://www.eyguieres.org
X-WR-CALDESC:Évènements pour Eyguières Les Alpilles
REFRESH-INTERVAL;VALUE=DURATION:PT1H
X-Robots-Tag:noindex
X-PUBLISHED-TTL:PT1H
BEGIN:VTIMEZONE
TZID:Europe/Paris
BEGIN:DAYLIGHT
TZOFFSETFROM:+0100
TZOFFSETTO:+0200
TZNAME:CEST
DTSTART:20250330T010000
END:DAYLIGHT
BEGIN:STANDARD
TZOFFSETFROM:+0200
TZOFFSETTO:+0100
TZNAME:CET
DTSTART:20251026T010000
END:STANDARD
BEGIN:DAYLIGHT
TZOFFSETFROM:+0100
TZOFFSETTO:+0200
TZNAME:CEST
DTSTART:20260329T010000
END:DAYLIGHT
BEGIN:STANDARD
TZOFFSETFROM:+0200
TZOFFSETTO:+0100
TZNAME:CET
DTSTART:20261025T010000
END:STANDARD
BEGIN:DAYLIGHT
TZOFFSETFROM:+0100
TZOFFSETTO:+0200
TZNAME:CEST
DTSTART:20270328T010000
END:DAYLIGHT
BEGIN:STANDARD
TZOFFSETFROM:+0200
TZOFFSETTO:+0100
TZNAME:CET
DTSTART:20271031T010000
END:STANDARD
END:VTIMEZONE
BEGIN:VEVENT
DTSTART;TZID=Europe/Paris:20260111T133000
DTEND;TZID=Europe/Paris:20260111T173000
DTSTAMP:20260424T103016
CREATED:20251211T080040Z
LAST-MODIFIED:20260108T090233Z
UID:129212-1768138200-1768152600@www.eyguieres.org
SUMMARY:11 janvier 2026   Match Handball à domicile  Aphbec
DESCRIPTION:🤾‍♂️🤾🏼‍♀️ [𝗠𝗔𝗧𝗖𝗛𝗦 𝗛𝗔𝗡𝗗𝗕𝗔𝗟𝗟] 🤾‍♂️🤾🏼‍♀️ \nLe club de handball Aphbec vous donne rendez-vous à domicile ce dimanche ! 🔵⚪️ \n📆 𝗗𝗶𝗺𝗮𝗻𝗰𝗵𝗲 𝟭𝟭 𝗷𝗮𝗻𝘃𝗶𝗲𝗿 𝟮𝟬𝟮𝟲 \n🕒 à 13h30 💥\n👉 D2 Féminine VS Saint-Mitre \n🕒 à 15h30 💥\n👉 U15F Élite VS Grasse \n📍 Gymnase Raymond Lieutaud\, Eyguières
URL:https://www.eyguieres.org/evenements/11-janvier-2026-match-handball-a-domicile-aphbec/
LOCATION:Gymnase Lieutaud
CATEGORIES:Local,Sport
ATTACH;FMTTYPE=image/jpeg:https://www.eyguieres.org/wp-content/uploads/2022/08/TOURNOI-handball-eyguieres-3-et-4-septembre-2022.jpg
END:VEVENT
BEGIN:VEVENT
DTSTART;TZID=Europe/Paris:20260116T200000
DTEND;TZID=Europe/Paris:20260116T220000
DTSTAMP:20260424T103016
CREATED:20251216T083054Z
LAST-MODIFIED:20260108T085107Z
UID:129159-1768593600-1768600800@www.eyguieres.org
SUMMARY:16 janvier 2026  Match de foot - Équipe Foot Loisir SC Eyguières
DESCRIPTION:⚽ [𝗠𝗔𝗧𝗖𝗛 – 𝗘́𝗤𝗨𝗜𝗣𝗘 𝗙𝗢𝗢𝗧 𝗟𝗢𝗜𝗦𝗜𝗥 𝗦𝗖 𝗘𝗬𝗚𝗨𝗜𝗘̀𝗥𝗘𝗦] ⚽ \n📣 L’équipe Foot Loisir SC Eyguières vous donne rendez-vous pour leur prochain match! \n🟡🟢 SC Eyguières VS FC Lambescain 🟡🟢 \n📆 Vendredi 16 janvier 2026\n🕛 20h00\n📍 Au stade Lombard\, Eyguières
URL:https://www.eyguieres.org/evenements/16-janvier-2026-match-de-foot-equipe-foot-loisir-sc-eyguieres/
LOCATION:Eyguières\, Eyguieres\, Eyguieres\, France
CATEGORIES:Local,Sport
ATTACH;FMTTYPE=image/jpeg:https://www.eyguieres.org/wp-content/uploads/2023/04/soccer-dans-concept-reussite-objectif-scaled.jpg
END:VEVENT
BEGIN:VEVENT
DTSTART;TZID=Europe/Paris:20260123T210000
DTEND;TZID=Europe/Paris:20260124T230000
DTSTAMP:20260424T103016
CREATED:20251223T083017Z
LAST-MODIFIED:20260121T100421Z
UID:129392-1769202000-1769295600@www.eyguieres.org
SUMMARY:Du 23 au 24 janvier 2026   Match Handball à domicile  Aphbec
DESCRIPTION:🤾‍♂️🤾🏼‍♀️ [𝗠𝗔𝗧𝗖𝗛𝗦 𝗛𝗔𝗡𝗗𝗕𝗔𝗟𝗟] 🤾‍♂️🤾🏼‍♀️ \nLe club de handball Aphbec vous donne rendez-vous à domicile ce vendredi et samedi ! 🔵⚪️ \n📆 𝗩𝗲𝗻𝗱𝗿𝗲𝗱𝗶 𝟮𝟯 𝗷𝗮𝗻𝘃𝗶𝗲𝗿 𝟮𝟬𝟮𝟲 \n🕒 à 21h00 💥\n👉 Loisirs VS Pélissanne \n📆 𝗦𝗮𝗺𝗲𝗱𝗶 𝟮𝟰 𝗷𝗮𝗻𝘃𝗶𝗲𝗿 𝟮𝟬𝟮𝟲 \n🕒 à 16h30 💥\n👉 U11F VS Côtes Bleue \n🕒 à 19h00 💥\n👉 D1M VS Gardanne Simiane \n🕒 à 21h00 💥\n👉 PNM VS Miramas \n📍 Gymnase Raymond Lieutaud\, Eyguières \n🕒 à 16h30 💥\n👉 U15F VS Plan-De-Cuques \n🕒 à 18h30 💥\n👉 U17F VS Plan-De-Cuques \n🕒 à 23h30 💥\n👉 N2F VS Livron \n📍 Gymnase\, Istres
URL:https://www.eyguieres.org/evenements/du-23-au-24-janvier-2026-match-handball-a-domicile-aphbec/
CATEGORIES:Local,Sport
ATTACH;FMTTYPE=image/jpeg:https://www.eyguieres.org/wp-content/uploads/2022/08/TOURNOI-handball-eyguieres-3-et-4-septembre-2022.jpg
END:VEVENT
BEGIN:VEVENT
DTSTART;TZID=Europe/Paris:20260130T210000
DTEND;TZID=Europe/Paris:20260131T223000
DTSTAMP:20260424T103017
CREATED:20251230T080031Z
LAST-MODIFIED:20260128T110240Z
UID:129578-1769806800-1769898600@www.eyguieres.org
SUMMARY:Du 30 au 31 janvier 2026   Match Handball à domicile  Aphbec
DESCRIPTION:🤾‍♂️🤾🏼‍♀️ [𝗠𝗔𝗧𝗖𝗛𝗦 𝗛𝗔𝗡𝗗𝗕𝗔𝗟𝗟] 🤾‍♂️🤾🏼‍♀️ \nLe club de handball Aphbec vous donne rendez-vous à domicile ce vendredi et samedi ! 🔵⚪️ \n📆 𝗩𝗲𝗻𝗱𝗿𝗲𝗱𝗶 𝟯𝟬 𝗷𝗮𝗻𝘃𝗶𝗲𝗿 𝟮𝟬𝟮𝟲 \n🕒 à 21h00 💥\n👉 Loisirs VS Lançon \n📆 𝗦𝗮𝗺𝗲𝗱𝗶 𝟯𝟭 𝗷𝗮𝗻𝘃𝗶𝗲𝗿 𝟮𝟬𝟮𝟲 \n🕒 à 16h30 💥\n👉 U13F VS Plan-De-Cuques \n🕒 à 18h30 💥\n👉 PNF VS ASPTT \n🕒 à 20h30 💥\n👉 D2F VS Pertuis \n📍 Gymnase Raymond Lieutaud\, Eyguières
URL:https://www.eyguieres.org/evenements/du-30-au-31-janvier-2026-match-handball-a-domicile-aphbec/
CATEGORIES:Local,Sport
ATTACH;FMTTYPE=image/jpeg:https://www.eyguieres.org/wp-content/uploads/2022/08/TOURNOI-handball-eyguieres-3-et-4-septembre-2022.jpg
END:VEVENT
END:VCALENDAR