BEGIN:VCALENDAR
VERSION:2.0
PRODID:-//Eyguières Les Alpilles - ECPv6.15.16//NONSGML v1.0//EN
CALSCALE:GREGORIAN
METHOD:PUBLISH
X-ORIGINAL-URL:https://www.eyguieres.org
X-WR-CALDESC:Évènements pour Eyguières Les Alpilles
REFRESH-INTERVAL;VALUE=DURATION:PT1H
X-Robots-Tag:noindex
X-PUBLISHED-TTL:PT1H
BEGIN:VTIMEZONE
TZID:Europe/Paris
BEGIN:DAYLIGHT
TZOFFSETFROM:+0100
TZOFFSETTO:+0200
TZNAME:CEST
DTSTART:20250330T010000
END:DAYLIGHT
BEGIN:STANDARD
TZOFFSETFROM:+0200
TZOFFSETTO:+0100
TZNAME:CET
DTSTART:20251026T010000
END:STANDARD
BEGIN:DAYLIGHT
TZOFFSETFROM:+0100
TZOFFSETTO:+0200
TZNAME:CEST
DTSTART:20260329T010000
END:DAYLIGHT
BEGIN:STANDARD
TZOFFSETFROM:+0200
TZOFFSETTO:+0100
TZNAME:CET
DTSTART:20261025T010000
END:STANDARD
BEGIN:DAYLIGHT
TZOFFSETFROM:+0100
TZOFFSETTO:+0200
TZNAME:CEST
DTSTART:20270328T010000
END:DAYLIGHT
BEGIN:STANDARD
TZOFFSETFROM:+0200
TZOFFSETTO:+0100
TZNAME:CET
DTSTART:20271031T010000
END:STANDARD
END:VTIMEZONE
BEGIN:VEVENT
DTSTART;TZID=Europe/Paris:20260207T130000
DTEND;TZID=Europe/Paris:20260208T190000
DTSTAMP:20260422T204939
CREATED:20260107T084533Z
LAST-MODIFIED:20260204T114332Z
UID:129657-1770469200-1770577200@www.eyguieres.org
SUMMARY:Du 7 au 8 février 2026   Match Handball à domicile  Aphbec
DESCRIPTION:🤾‍♂️🤾🏼‍♀️ [𝗠𝗔𝗧𝗖𝗛𝗦 𝗛𝗔𝗡𝗗𝗕𝗔𝗟𝗟] 🤾‍♂️🤾🏼‍♀️ \nLe club de handball Aphbec vous donne rendez-vous à domicile ce samedi et dimanche ! 🔵⚪️ \n📆 𝗦𝗮𝗺𝗲𝗱𝗶 𝟳 𝗳𝗲́𝘃𝗿𝗶𝗲𝗿 𝟮𝟬𝟮𝟲 \n🕒 à 13h00 💥\n👉 U15F VS Nice \n🕒 à 15h00 💥\n👉 U15G VS Penne Mirabeau \n🕒 à 17h00 💥\n👉 U11F VS Gardanne \n🕒 à 19h00 💥\n👉 D1M VS Port Saint Louis \n📍 Gymnase Raymond Lieutaud\, Eyguières \n🕒 à 20h30 💥\n👉 N2F VS Livron \n📍 Istres \n📆 𝗗𝗶𝗺𝗮𝗻𝗰𝗵𝗲 𝟴 𝗳𝗲́𝘃𝗿𝗶𝗲𝗿 𝟮𝟬𝟮𝟲 \n🕒 à 10h00 💥\n👉 U9 VS Orgon / Pélissanne/ Graveson \n🕒 à 17h00 💥\n👉 D2F VS Digne \n📍 Gymnase Raymond Lieutaud\, Eyguières
URL:https://www.eyguieres.org/evenements/du-7-au-8-fevrier-2026-match-handball-a-domicile-aphbec/
CATEGORIES:Local,Sport
ATTACH;FMTTYPE=image/jpeg:https://www.eyguieres.org/wp-content/uploads/2022/08/TOURNOI-handball-eyguieres-3-et-4-septembre-2022.jpg
END:VEVENT
BEGIN:VEVENT
DTSTART;TZID=Europe/Paris:20260215T140000
DTEND;TZID=Europe/Paris:20260215T180000
DTSTAMP:20260422T204939
CREATED:20260115T080008Z
LAST-MODIFIED:20260211T093334Z
UID:129720-1771164000-1771178400@www.eyguieres.org
SUMMARY:15 février 2026   Match Handball à domicile  Aphbec
DESCRIPTION:🤾‍♂️🤾🏼‍♀️ [𝗠𝗔𝗧𝗖𝗛𝗦 𝗛𝗔𝗡𝗗𝗕𝗔𝗟𝗟] 🤾‍♂️🤾🏼‍♀️ \nLe club de handball Aphbec vous donne rendez-vous à domicile ce dimanche ! 🔵⚪️ \n📆 𝗗𝗶𝗺𝗮𝗻𝗰𝗵𝗲 𝟭𝟱 𝗳𝗲́𝘃𝗿𝗶𝗲𝗿 𝟮𝟬𝟮𝟲 \n🕒 à 14h00 💥\n👉 U17F VS Gap \n🕒 à 16h00 💥\n👉 N2F VS Beaurepaire \n📍 Gymnase Raymond Lieutaud\, Eyguières
URL:https://www.eyguieres.org/evenements/15-fevrier-2026-match-handball-a-domicile-aphbec/
LOCATION:Gymnase Lieutaud
CATEGORIES:Local,Sport
ATTACH;FMTTYPE=image/jpeg:https://www.eyguieres.org/wp-content/uploads/2022/08/TOURNOI-handball-eyguieres-3-et-4-septembre-2022.jpg
END:VEVENT
BEGIN:VEVENT
DTSTART;TZID=Europe/Paris:20260228T200000
DTEND;TZID=Europe/Paris:20260301T190000
DTSTAMP:20260422T204939
CREATED:20260128T074502Z
LAST-MODIFIED:20260225T094115Z
UID:130034-1772308800-1772391600@www.eyguieres.org
SUMMARY:28 février et 1er mars 2026   Match Handball à domicile  Aphbec
DESCRIPTION:🤾‍♂️🤾🏼‍♀️ [𝗠𝗔𝗧𝗖𝗛𝗦 𝗛𝗔𝗡𝗗𝗕𝗔𝗟𝗟] 🤾‍♂️🤾🏼‍♀️ \nLe club de handball Aphbec vous donne rendez-vous à domicile ce samedi et dimanche ! 🔵⚪️ \n📆 𝗦𝗮𝗺𝗲𝗱𝗶 𝟮𝟴 𝗳𝗲́𝘃𝗿𝗶𝗲𝗿 𝟮𝟬𝟮𝟲 \n🕒 à 20h00 💥\n👉 N2F VS Bouillargues \n📆 𝗗𝗶𝗺𝗮𝗻𝗰𝗵𝗲 𝟭𝗲𝗿 𝗺𝗮𝗿𝘀 𝟮𝟬𝟮𝟲 \n🕒 à 17h00 💥\n👉 PNM VS Marignane \n📍 Gymnase Raymond Lieutaud\, Eyguières
URL:https://www.eyguieres.org/evenements/28-fevrier-et-1er-mars-2026-match-handball-a-domicile-aphbec/
LOCATION:Gymnase Lieutaud
CATEGORIES:Local,Sport
ATTACH;FMTTYPE=image/jpeg:https://www.eyguieres.org/wp-content/uploads/2022/08/TOURNOI-handball-eyguieres-3-et-4-septembre-2022.jpg
END:VEVENT
END:VCALENDAR